BEGIN:VCALENDAR
VERSION:2.0
PRODID:-//MiamiSprings.com | Miami Springs News and Events - ECPv6.15.15//NONSGML v1.0//EN
CALSCALE:GREGORIAN
METHOD:PUBLISH
X-WR-CALNAME:MiamiSprings.com | Miami Springs News and Events
X-ORIGINAL-URL:https://new.miamisprings.com
X-WR-CALDESC:Events for MiamiSprings.com | Miami Springs News and Events
REFRESH-INTERVAL;VALUE=DURATION:PT1H
X-Robots-Tag:noindex
X-PUBLISHED-TTL:PT1H
BEGIN:VTIMEZONE
TZID:America/New_York
BEGIN:DAYLIGHT
TZOFFSETFROM:-0500
TZOFFSETTO:-0400
TZNAME:EDT
DTSTART:20220313T070000
END:DAYLIGHT
BEGIN:STANDARD
TZOFFSETFROM:-0400
TZOFFSETTO:-0500
TZNAME:EST
DTSTART:20221106T060000
END:STANDARD
BEGIN:DAYLIGHT
TZOFFSETFROM:-0500
TZOFFSETTO:-0400
TZNAME:EDT
DTSTART:20230312T070000
END:DAYLIGHT
BEGIN:STANDARD
TZOFFSETFROM:-0400
TZOFFSETTO:-0500
TZNAME:EST
DTSTART:20231105T060000
END:STANDARD
BEGIN:DAYLIGHT
TZOFFSETFROM:-0500
TZOFFSETTO:-0400
TZNAME:EDT
DTSTART:20240310T070000
END:DAYLIGHT
BEGIN:STANDARD
TZOFFSETFROM:-0400
TZOFFSETTO:-0500
TZNAME:EST
DTSTART:20241103T060000
END:STANDARD
END:VTIMEZONE
BEGIN:VEVENT
DTSTART;VALUE=DATE:20230222
DTEND;VALUE=DATE:20230223
DTSTAMP:20260424T222356
CREATED:20230202T190809Z
LAST-MODIFIED:20230202T190948Z
UID:175952-1677024000-1677110399@new.miamisprings.com
SUMMARY:Ash Wednesday
DESCRIPTION:Ash Wednesday is a day of reflection and penitence\, we would like to invite everyone to come together and celebrate this important occasion. Ash Wednesday marks the start of the Lenten season\, a time for spiritual renewal and growth. \nAsh Wednesday services will be held in our local churches \, during which ashes will be blessed and distributed to all who attend. This is a meaningful tradition that symbolizes our commitment to turn away from sin and towards a closer relationship with God. \nWhether you are a regular church-goer or just looking to mark the beginning of Lent in a special way\, we hope that you will join us in celebrating Ash Wednesday and the start of this important season of spiritual growth.
URL:https://new.miamisprings.com/event/ash-wednesday/
LOCATION:Miami Springs\, FL\, 33166\, United States
ATTACH;FMTTYPE=image/jpeg:https://new.miamisprings.com/wp-content/uploads/2023/02/istockphoto-1203331128-612x612-1.jpg
END:VEVENT
BEGIN:VEVENT
DTSTART;TZID=America/New_York:20230222T073000
DTEND;TZID=America/New_York:20230222T073000
DTSTAMP:20260424T222356
CREATED:20230209T143140Z
LAST-MODIFIED:20230209T143227Z
UID:176713-1677051000-1677051000@new.miamisprings.com
SUMMARY:Ash Wednesday at Blessed Trinity Catholic Church
DESCRIPTION:Ash Wednesday marks the beginning of the Lenten season\, a time of reflection\, repentance\, and renewal. As a community\, we come together to receive ashes and remember our mortality. \nWe would like to invite you to join us in celebrating Ash Wednesday on [date and time]. Our service will include a time of worship\, prayer\, and the imposition of ashes. This is a powerful and meaningful tradition that offers us the chance to start the season of Lent with a renewed commitment to our faith.
URL:https://new.miamisprings.com/event/ash-wednesday-at-blessed-trinity-catholic-church/
LOCATION:Blessed Trinity Catholic Church\, 4020 Curtiss Pkwy\, Miami Springs\, FL\, 33166\, United States
CATEGORIES:Church Event
ATTACH;FMTTYPE=image/jpeg:https://new.miamisprings.com/wp-content/uploads/2023/02/mini.jpg
END:VEVENT
BEGIN:VEVENT
DTSTART;TZID=America/New_York:20230222T073000
DTEND;TZID=America/New_York:20230222T210000
DTSTAMP:20260424T222356
CREATED:20230222T135129Z
LAST-MODIFIED:20230222T135146Z
UID:177047-1677051000-1677099600@new.miamisprings.com
SUMMARY:Ash Wednesday Services at Blessed Trinity (Miercoles de Ceniza)
DESCRIPTION:Ash Wednesday services at Blessed Trinity Services: \n\n7:30am English\n12:00pm Bilingual\n6:30pm English\n8:00pm Español\n\n 
URL:https://new.miamisprings.com/event/ash-wednesday-services-at-blessed-trinity-miercoles-de-ceniza/
LOCATION:Blessed Trinity Catholic Church\, 4020 Curtiss Pkwy\, Miami Springs\, FL\, 33166\, United States
ATTACH;FMTTYPE=image/png:https://new.miamisprings.com/wp-content/uploads/2023/02/unnamed-1.png
END:VEVENT
BEGIN:VEVENT
DTSTART;TZID=America/New_York:20230222T170000
DTEND;TZID=America/New_York:20230222T170000
DTSTAMP:20260424T222356
CREATED:20230213T152800Z
LAST-MODIFIED:20230213T152836Z
UID:176815-1677085200-1677085200@new.miamisprings.com
SUMMARY:Ash Wednesday Worship at Poinciana United Methodist Church
DESCRIPTION:Celebrate the Lenten Season with us on Wednesday\, February 22nd. The evening will commence with a delightful light supper at 5 PM\, followed by a meaningful Ash Wednesday worship service at 6 PM. We look forward to coming together in faith and reflection.
URL:https://new.miamisprings.com/event/176815/
LOCATION:Poinciana United Methodist Church\, 300 North Royal Poinciana Boulevard\, Miami Springs\, FL\, 33166\, United States
CATEGORIES:Church Event
ATTACH;FMTTYPE=image/jpeg:https://new.miamisprings.com/wp-content/uploads/2023/02/cruz.jpg
END:VEVENT
BEGIN:VEVENT
DTSTART;TZID=America/New_York:20230222T180000
DTEND;TZID=America/New_York:20230222T190000
DTSTAMP:20260424T222356
CREATED:20230222T131350Z
LAST-MODIFIED:20230222T131350Z
UID:177038-1677088800-1677092400@new.miamisprings.com
SUMMARY:Mandatory 8th Grade Parent Meeting
DESCRIPTION:Mandatory 8th Grade Parent Meeting – Wednesday\, February 22nd\, 2023 from 6:00-7:00 pm. We look forward to seeing you there!
URL:https://new.miamisprings.com/event/mandatory-8th-grade-parent-meeting/
LOCATION:Miami Springs Middle School\, 150 South Royal Poinciana Boulevard\, Miami Springs\, FL\, 33166\, United States
CATEGORIES:School Event
ATTACH;FMTTYPE=image/jpeg:https://new.miamisprings.com/wp-content/uploads/2023/02/23.jpg
END:VEVENT
END:VCALENDAR