BEGIN:VCALENDAR
VERSION:2.0
PRODID:-//MiamiSprings.com | Miami Springs News and Events - ECPv6.15.15//NONSGML v1.0//EN
CALSCALE:GREGORIAN
METHOD:PUBLISH
X-ORIGINAL-URL:https://new.miamisprings.com
X-WR-CALDESC:Events for MiamiSprings.com | Miami Springs News and Events
REFRESH-INTERVAL;VALUE=DURATION:PT1H
X-Robots-Tag:noindex
X-PUBLISHED-TTL:PT1H
BEGIN:VTIMEZONE
TZID:America/New_York
BEGIN:DAYLIGHT
TZOFFSETFROM:-0500
TZOFFSETTO:-0400
TZNAME:EDT
DTSTART:20220313T070000
END:DAYLIGHT
BEGIN:STANDARD
TZOFFSETFROM:-0400
TZOFFSETTO:-0500
TZNAME:EST
DTSTART:20221106T060000
END:STANDARD
BEGIN:DAYLIGHT
TZOFFSETFROM:-0500
TZOFFSETTO:-0400
TZNAME:EDT
DTSTART:20230312T070000
END:DAYLIGHT
BEGIN:STANDARD
TZOFFSETFROM:-0400
TZOFFSETTO:-0500
TZNAME:EST
DTSTART:20231105T060000
END:STANDARD
BEGIN:DAYLIGHT
TZOFFSETFROM:-0500
TZOFFSETTO:-0400
TZNAME:EDT
DTSTART:20240310T070000
END:DAYLIGHT
BEGIN:STANDARD
TZOFFSETFROM:-0400
TZOFFSETTO:-0500
TZNAME:EST
DTSTART:20241103T060000
END:STANDARD
END:VTIMEZONE
BEGIN:VEVENT
DTSTART;TZID=America/New_York:20230405T200000
DTEND;TZID=America/New_York:20230405T200000
DTSTAMP:20260424T200650
CREATED:20230403T143156Z
LAST-MODIFIED:20230403T143156Z
UID:179521-1680724800-1680724800@new.miamisprings.com
SUMMARY:Tenebrae Service at Blessed Trinity Catholic Church
DESCRIPTION:Tenebrae is this Wednesday. This is the service where we participate in the recreation of the abandonment\, betrayal\, and agony that Jesus suffered.\n\n\nThis is part of the Lenten preparation that will conclude with the Easter Vigil/Easter Mas
URL:https://new.miamisprings.com/event/tenebrae-service-at-blessed-trinity-catholic-church/
LOCATION:Blessed Trinity Catholic Church\, 4020 Curtiss Pkwy\, Miami Springs\, FL\, 33166\, United States
CATEGORIES:Church Event
ATTACH;FMTTYPE=image/jpeg:https://new.miamisprings.com/wp-content/uploads/2023/04/338932608_958982205241761_5122677293579457598_n.jpg
END:VEVENT
END:VCALENDAR