BEGIN:VCALENDAR
VERSION:2.0
PRODID:-//MiamiSprings.com | Miami Springs News and Events - ECPv6.15.15//NONSGML v1.0//EN
CALSCALE:GREGORIAN
METHOD:PUBLISH
X-ORIGINAL-URL:https://new.miamisprings.com
X-WR-CALDESC:Events for MiamiSprings.com | Miami Springs News and Events
REFRESH-INTERVAL;VALUE=DURATION:PT1H
X-Robots-Tag:noindex
X-PUBLISHED-TTL:PT1H
BEGIN:VTIMEZONE
TZID:America/New_York
BEGIN:DAYLIGHT
TZOFFSETFROM:-0500
TZOFFSETTO:-0400
TZNAME:EDT
DTSTART:20220313T070000
END:DAYLIGHT
BEGIN:STANDARD
TZOFFSETFROM:-0400
TZOFFSETTO:-0500
TZNAME:EST
DTSTART:20221106T060000
END:STANDARD
BEGIN:DAYLIGHT
TZOFFSETFROM:-0500
TZOFFSETTO:-0400
TZNAME:EDT
DTSTART:20230312T070000
END:DAYLIGHT
BEGIN:STANDARD
TZOFFSETFROM:-0400
TZOFFSETTO:-0500
TZNAME:EST
DTSTART:20231105T060000
END:STANDARD
BEGIN:DAYLIGHT
TZOFFSETFROM:-0500
TZOFFSETTO:-0400
TZNAME:EDT
DTSTART:20240310T070000
END:DAYLIGHT
BEGIN:STANDARD
TZOFFSETFROM:-0400
TZOFFSETTO:-0500
TZNAME:EST
DTSTART:20241103T060000
END:STANDARD
END:VTIMEZONE
BEGIN:VEVENT
DTSTART;TZID=America/New_York:20230525T080000
DTEND;TZID=America/New_York:20230525T170000
DTSTAMP:20260424T163405
CREATED:20230525T171857Z
LAST-MODIFIED:20230525T171857Z
UID:182078-1685001600-1685034000@new.miamisprings.com
SUMMARY:Heat Watch Party - Game 5 vs Celtics
DESCRIPTION:The NBA Conference Finals continue tonight at 8:30pm. Will the Heat closeout and move to the NBA Finals? \nJoin your friends at Woody’s Backyard Grill as they host a Miami Heat Watch Party tonight!
URL:https://new.miamisprings.com/event/heat-watch-party-game-5-vs-celtics/
LOCATION:Miami Springs\, FL\, 33166\, United States
ATTACH;FMTTYPE=image/jpeg:https://new.miamisprings.com/wp-content/uploads/2023/05/17978364356324347_miamispringsfl.jpg
END:VEVENT
END:VCALENDAR