BEGIN:VCALENDAR
VERSION:2.0
PRODID:-//MiamiSprings.com | Miami Springs News and Events - ECPv6.15.15//NONSGML v1.0//EN
CALSCALE:GREGORIAN
METHOD:PUBLISH
X-WR-CALNAME:MiamiSprings.com | Miami Springs News and Events
X-ORIGINAL-URL:https://new.miamisprings.com
X-WR-CALDESC:Events for MiamiSprings.com | Miami Springs News and Events
REFRESH-INTERVAL;VALUE=DURATION:PT1H
X-Robots-Tag:noindex
X-PUBLISHED-TTL:PT1H
BEGIN:VTIMEZONE
TZID:America/New_York
BEGIN:DAYLIGHT
TZOFFSETFROM:-0500
TZOFFSETTO:-0400
TZNAME:EDT
DTSTART:20220313T070000
END:DAYLIGHT
BEGIN:STANDARD
TZOFFSETFROM:-0400
TZOFFSETTO:-0500
TZNAME:EST
DTSTART:20221106T060000
END:STANDARD
BEGIN:DAYLIGHT
TZOFFSETFROM:-0500
TZOFFSETTO:-0400
TZNAME:EDT
DTSTART:20230312T070000
END:DAYLIGHT
BEGIN:STANDARD
TZOFFSETFROM:-0400
TZOFFSETTO:-0500
TZNAME:EST
DTSTART:20231105T060000
END:STANDARD
BEGIN:DAYLIGHT
TZOFFSETFROM:-0500
TZOFFSETTO:-0400
TZNAME:EDT
DTSTART:20240310T070000
END:DAYLIGHT
BEGIN:STANDARD
TZOFFSETFROM:-0400
TZOFFSETTO:-0500
TZNAME:EST
DTSTART:20241103T060000
END:STANDARD
END:VTIMEZONE
BEGIN:VEVENT
DTSTART;TZID=America/New_York:20230617T130000
DTEND;TZID=America/New_York:20230617T170000
DTSTAMP:20260424T215613
CREATED:20230614T142604Z
LAST-MODIFIED:20230614T170651Z
UID:182703-1687006800-1687021200@new.miamisprings.com
SUMMARY:Celebration of Life for Carl "Buddy" Goins
DESCRIPTION:Please RSVP to 954.955.9166 \nJoin us June 17th 2023 in celebrating Bud’s life!
URL:https://new.miamisprings.com/event/celebration-of-life-for-carl-buddy-goins/
LOCATION:Munchies Bar\, 200 SW 2nd Street\, Fort Lauderdale\, FL\, 33301\, United States
CATEGORIES:Community Events
ATTACH;FMTTYPE=image/png:https://new.miamisprings.com/wp-content/uploads/2023/06/image-1.png
END:VEVENT
BEGIN:VEVENT
DTSTART;TZID=America/New_York:20230617T180000
DTEND;TZID=America/New_York:20230617T180000
DTSTAMP:20260424T215613
CREATED:20230519T175611Z
LAST-MODIFIED:20230519T175627Z
UID:181911-1687024800-1687024800@new.miamisprings.com
SUMMARY:Miami Springs Senior High Class of '73 - 50th Reunion
DESCRIPTION:June 17\, 1973 you walked across the stage\, shook hands with Principal Alex Bromir and received your HS Diploma.\n50 years later – on JUNE 17\, 2023\, gather with classmates at the MS Country Club for connections made years ago!\n\nSaturday night JUNE 17 at HOLE 19 -beginning at 6pm with a drink package\,order off the food menu and stay to dance to the band VIVA playing tunes of our era.\nRSVP via email to Kathy Harris: TRAUMAMAMA@bellsouth.net\, call or text Candy Hertsch 305-733-1353. Need headcount by June 10th.\n\nBring your yearbook and any other memorabilia from High School. Let’s have fun before the official class reunion November 2023 (date TBA) \n\nVisit /Join  our FACEBOOK Page: Miami Springs Class of 1973. Share this invitation with all other Golden Hawks
URL:https://new.miamisprings.com/event/miami-springs-senior-high-class-of-73-50th-reunion/
LOCATION:Hole 19 Scratch Kitchen and Bar (Inside the Miami Springs Golf & Country Club)\, 650 Curtiss Parkway\, Miami Springs\, FL\, 33166\, United States
CATEGORIES:Reunion
ATTACH;FMTTYPE=image/jpeg:https://new.miamisprings.com/wp-content/uploads/2023/05/344856511_565380532398218_5715039175008552211_n.jpg
END:VEVENT
END:VCALENDAR