BEGIN:VCALENDAR
VERSION:2.0
PRODID:-//MiamiSprings.com | Miami Springs News and Events - ECPv6.15.15//NONSGML v1.0//EN
CALSCALE:GREGORIAN
METHOD:PUBLISH
X-WR-CALNAME:MiamiSprings.com | Miami Springs News and Events
X-ORIGINAL-URL:https://new.miamisprings.com
X-WR-CALDESC:Events for MiamiSprings.com | Miami Springs News and Events
REFRESH-INTERVAL;VALUE=DURATION:PT1H
X-Robots-Tag:noindex
X-PUBLISHED-TTL:PT1H
BEGIN:VTIMEZONE
TZID:America/New_York
BEGIN:DAYLIGHT
TZOFFSETFROM:-0500
TZOFFSETTO:-0400
TZNAME:EDT
DTSTART:20220313T070000
END:DAYLIGHT
BEGIN:STANDARD
TZOFFSETFROM:-0400
TZOFFSETTO:-0500
TZNAME:EST
DTSTART:20221106T060000
END:STANDARD
BEGIN:DAYLIGHT
TZOFFSETFROM:-0500
TZOFFSETTO:-0400
TZNAME:EDT
DTSTART:20230312T070000
END:DAYLIGHT
BEGIN:STANDARD
TZOFFSETFROM:-0400
TZOFFSETTO:-0500
TZNAME:EST
DTSTART:20231105T060000
END:STANDARD
BEGIN:DAYLIGHT
TZOFFSETFROM:-0500
TZOFFSETTO:-0400
TZNAME:EDT
DTSTART:20240310T070000
END:DAYLIGHT
BEGIN:STANDARD
TZOFFSETFROM:-0400
TZOFFSETTO:-0500
TZNAME:EST
DTSTART:20241103T060000
END:STANDARD
END:VTIMEZONE
BEGIN:VEVENT
DTSTART;VALUE=DATE:20230817
DTEND;VALUE=DATE:20230818
DTSTAMP:20260425T124921
CREATED:20230731T183024Z
LAST-MODIFIED:20230731T183313Z
UID:184770-1692230400-1692316799@new.miamisprings.com
SUMMARY:1st Day of School
DESCRIPTION:August 14\, 2023 Teacher planning day; not available to opt; no students in school\nAugust 15 Teacher planning day; District-wide Professional Development Day – not available to opt; no students in school\nAugust 16 Teacher planning day; not available to opt; no students in school\nAugust 17 First Day of School; begin first semester\nSeptember 4 Labor Day; holiday for students and employees\nSeptember 25*+# Teacher planning day; no students in school\nOctober 26 End first grading period; first semester\nOctober 27 Teacher planning day; District-wide Professional Development Day – not available to opt; no students in school October 30 Begin second grading period; first semester\nNovember 10 Observance of Veterans’ Day; holiday for students and employees\nNovember 20-22 Recess Days\nNovember 23 Thanksgiving; Board-approved holiday for students and employees\nNovember 24 Recess Day\nDecember 22*+# Teacher planning day; no students in school\nDecember 25 – January 5 Winter recess for students and employees with the exception of Fraternal Order of Police\nJanuary 5\, 2024 and select 12-month employees\nJanuary 15 Observance of Dr. Martin Luther King\, Jr.’s Birthday; holiday for students and employees\nJanuary 18 End first semester and second grading period\nJanuary 19*+# Teacher planning day; no students in school\nJanuary 22 Begin third grading period; second semester\nFebruary 19 All Presidents Day; holiday for students and employees\nMarch 22*+# Teacher planning day; no students in school\nMarch 25-29 Spring recess for students and employees with the exception of Fraternal Order of Police and select 12-month employees\nApril 9 End third grading period; second semester\nApril 10*+# Teacher planning day; no students in school\nApril 11 Begin fourth grading period; second semester\nMay 27 Observance of Memorial Day; holiday for students and employees\nJune 6 Last Day of School; end fourth grading period; second semester\nJune 7 Teacher planning day; not available to opt; no students in school\n\nNOTE: Every Wednesday students in elementary schools (Grades 2-5) and K-8 Centers (Grades 2-8) are released one (1) hour early \nJob Category:  (Beginning Date \, Ending Date) \n\nTeachers new to the system August 7\, 2023 June 7\, 2024\nAssistant Principals and 10-month clerical August 7\, 2023 June 14\, 2024\nCafeteria Managers August 9\, 2023 June 7\, 2024\nSatellite Assistants August 11\, 2023 June 6\, 2024\nAll Instructional Staff\, Paraprofessionals & Security August 14\, 2023 June 7\, 2024\nAssistant to Cafeteria Managers/MAT Specialists August 15\, 2023 June 6\, 2024\nCafeteria Workers (part-time) August 17\, 2023 June 6\, 2024\n\n*Teachers/paraprofessionals and school support personnel may opt to work one or two days\, August 10\, 11\, 2023\, or June 10\, 11\, 2024\, in lieu of any one or two of the following days: September 25\, 2023\, December 22\, 2023\, January 19\, 2024\, March\n22\, 2024\, and April 10\, 2024. August 15\, 2023\, and October 27\, 2023\, are District-wide Professional Development Days and are not available to opt. \n+Teachers new to Miami-Dade County Public Schools may opt to work one or two days\, August 10\, 11\, 2023\, in lieu of any one or two of the following days: September 25\, 2023\, December 22\, 2023\, January 19\, 2024\, March 22\, 2024\, and April 10\, 2024. August 15\, 2023\, and October 27\, 2023\, are District-wide Professional Development Days and are not available to opt. \n#Ten-month secretarial and clerical employees may opt to work one or two days\, August 3\, 4\, 2023 or June 10\, 11\, 2024\, in lieu of any one or two of the following days: September 25\, 2023\, December 22\, 2023\, January 19\, 2024\, March 22\, 2024\, and April 10\, 2024. August 15\, 2023\, and October 27\, 2023\, are District-wide Professional Development Days and are not available to opt.
URL:https://new.miamisprings.com/event/1st-day-of-school/
LOCATION:Miami Springs\, FL\, 33166\, United States
CATEGORIES:School Event
ATTACH;FMTTYPE=image/jpeg:https://new.miamisprings.com/wp-content/uploads/2022/08/Screen-Shot-2022-08-18-at-1.50.25-PM.jpg
END:VEVENT
END:VCALENDAR