BEGIN:VCALENDAR
VERSION:2.0
PRODID:-//MiamiSprings.com | Miami Springs News and Events - ECPv6.15.15//NONSGML v1.0//EN
CALSCALE:GREGORIAN
METHOD:PUBLISH
X-ORIGINAL-URL:https://new.miamisprings.com
X-WR-CALDESC:Events for MiamiSprings.com | Miami Springs News and Events
REFRESH-INTERVAL;VALUE=DURATION:PT1H
X-Robots-Tag:noindex
X-PUBLISHED-TTL:PT1H
BEGIN:VTIMEZONE
TZID:America/New_York
BEGIN:DAYLIGHT
TZOFFSETFROM:-0500
TZOFFSETTO:-0400
TZNAME:EDT
DTSTART:20220313T070000
END:DAYLIGHT
BEGIN:STANDARD
TZOFFSETFROM:-0400
TZOFFSETTO:-0500
TZNAME:EST
DTSTART:20221106T060000
END:STANDARD
BEGIN:DAYLIGHT
TZOFFSETFROM:-0500
TZOFFSETTO:-0400
TZNAME:EDT
DTSTART:20230312T070000
END:DAYLIGHT
BEGIN:STANDARD
TZOFFSETFROM:-0400
TZOFFSETTO:-0500
TZNAME:EST
DTSTART:20231105T060000
END:STANDARD
BEGIN:DAYLIGHT
TZOFFSETFROM:-0500
TZOFFSETTO:-0400
TZNAME:EDT
DTSTART:20240310T070000
END:DAYLIGHT
BEGIN:STANDARD
TZOFFSETFROM:-0400
TZOFFSETTO:-0500
TZNAME:EST
DTSTART:20241103T060000
END:STANDARD
END:VTIMEZONE
BEGIN:VEVENT
DTSTART;TZID=America/New_York:20230906T080000
DTEND;TZID=America/New_York:20230906T160000
DTSTAMP:20260425T112637
CREATED:20230406T203903Z
LAST-MODIFIED:20230908T191201Z
UID:179843-1693987200-1694016000@new.miamisprings.com
SUMMARY:Driver's License (F.L.O.W.) Services - OCTOBER FULLY BOOKED
DESCRIPTION:ID & DRIVER’S LICENSE SERVICE The Driver’s License F.L.O.W. services is Back by Appointment ONLY at the Miami Springs Community Center. It will be held on the first Wednesday of each month. Appointments may be made by calling the Miami Springs Community Policing Office (CPO) at 305-888-5286 Mon. – Fri.\, 8am – 4pm (excluding holidays). We will be filling the appointments in a monthly order.\n\n  \n\n\n2023 Schedule:\n\n\n\n\nWednesday Dates are as followed:\n\n\n\n  \nSeptember 6\, 2023       Miami Springs Community Center (Rec. Ctr.) \nOctober 4\, 2023            Miami Springs Community Center (Rec. Ctr.) \nNovember 1\, 2023        Miami Springs Community Center (Rec. Ctr.) \nDecember 6\, 2023         Miami Springs Community Center (Rec. Ctr.) \n\n\n\n\n\n\nPlease note that the July and August dates are at the Miami Springs Adult Community Center at 101 Apache St. in Miami Springs due to the summer camp being held at the MS Community Center (Rec. Ctr.).
URL:https://new.miamisprings.com/event/drivers-license-f-l-o-w-services-2/
LOCATION:Miami Springs Rec Center\, 1401 Westward Drive\, Miami Springs\, FL\, 33166\, United States
CATEGORIES:Community Events
ATTACH;FMTTYPE=image/jpeg:https://new.miamisprings.com/wp-content/uploads/2023/04/DHSMV-Campaign-2023-Calendar-3-Double-Sided_Page_1-1.jpg
END:VEVENT
END:VCALENDAR