BEGIN:VCALENDAR
VERSION:2.0
PRODID:-//MiamiSprings.com | Miami Springs News and Events - ECPv6.15.15//NONSGML v1.0//EN
CALSCALE:GREGORIAN
METHOD:PUBLISH
X-WR-CALNAME:MiamiSprings.com | Miami Springs News and Events
X-ORIGINAL-URL:https://new.miamisprings.com
X-WR-CALDESC:Events for MiamiSprings.com | Miami Springs News and Events
REFRESH-INTERVAL;VALUE=DURATION:PT1H
X-Robots-Tag:noindex
X-PUBLISHED-TTL:PT1H
BEGIN:VTIMEZONE
TZID:America/New_York
BEGIN:DAYLIGHT
TZOFFSETFROM:-0500
TZOFFSETTO:-0400
TZNAME:EDT
DTSTART:20220313T070000
END:DAYLIGHT
BEGIN:STANDARD
TZOFFSETFROM:-0400
TZOFFSETTO:-0500
TZNAME:EST
DTSTART:20221106T060000
END:STANDARD
BEGIN:DAYLIGHT
TZOFFSETFROM:-0500
TZOFFSETTO:-0400
TZNAME:EDT
DTSTART:20230312T070000
END:DAYLIGHT
BEGIN:STANDARD
TZOFFSETFROM:-0400
TZOFFSETTO:-0500
TZNAME:EST
DTSTART:20231105T060000
END:STANDARD
BEGIN:DAYLIGHT
TZOFFSETFROM:-0500
TZOFFSETTO:-0400
TZNAME:EDT
DTSTART:20240310T070000
END:DAYLIGHT
BEGIN:STANDARD
TZOFFSETFROM:-0400
TZOFFSETTO:-0500
TZNAME:EST
DTSTART:20241103T060000
END:STANDARD
END:VTIMEZONE
BEGIN:VEVENT
DTSTART;TZID=America/New_York:20230907T190000
DTEND;TZID=America/New_York:20230907T190000
DTSTAMP:20260425T110717
CREATED:20230905T140442Z
LAST-MODIFIED:20230905T140442Z
UID:185988-1694113200-1694113200@new.miamisprings.com
SUMMARY:Miami Springs Golden Hawks vs Miami Stingarees Football Game
DESCRIPTION:The Miami Springs (FL) varsity football team vs. Miami Stingarees (FL) on Friday\, September 7 @ 7:30pm!
URL:https://new.miamisprings.com/event/miami-springs-golden-hawks-vs-miami-stingarees-football-game-2/
LOCATION:Miami Springs\, FL\, 33166\, United States
CATEGORIES:Entertainment,Sports
ATTACH;FMTTYPE=image/jpeg:https://new.miamisprings.com/wp-content/uploads/2021/09/msshfootball-242083876_178085897791301_4726310217862838040_n.jpg
END:VEVENT
END:VCALENDAR