BEGIN:VCALENDAR
VERSION:2.0
PRODID:-//MiamiSprings.com | Miami Springs News and Events - ECPv6.15.15//NONSGML v1.0//EN
CALSCALE:GREGORIAN
METHOD:PUBLISH
X-WR-CALNAME:MiamiSprings.com | Miami Springs News and Events
X-ORIGINAL-URL:https://new.miamisprings.com
X-WR-CALDESC:Events for MiamiSprings.com | Miami Springs News and Events
REFRESH-INTERVAL;VALUE=DURATION:PT1H
X-Robots-Tag:noindex
X-PUBLISHED-TTL:PT1H
BEGIN:VTIMEZONE
TZID:America/New_York
BEGIN:DAYLIGHT
TZOFFSETFROM:-0500
TZOFFSETTO:-0400
TZNAME:EDT
DTSTART:20230312T070000
END:DAYLIGHT
BEGIN:STANDARD
TZOFFSETFROM:-0400
TZOFFSETTO:-0500
TZNAME:EST
DTSTART:20231105T060000
END:STANDARD
BEGIN:DAYLIGHT
TZOFFSETFROM:-0500
TZOFFSETTO:-0400
TZNAME:EDT
DTSTART:20240310T070000
END:DAYLIGHT
BEGIN:STANDARD
TZOFFSETFROM:-0400
TZOFFSETTO:-0500
TZNAME:EST
DTSTART:20241103T060000
END:STANDARD
BEGIN:DAYLIGHT
TZOFFSETFROM:-0500
TZOFFSETTO:-0400
TZNAME:EDT
DTSTART:20250309T070000
END:DAYLIGHT
BEGIN:STANDARD
TZOFFSETFROM:-0400
TZOFFSETTO:-0500
TZNAME:EST
DTSTART:20251102T060000
END:STANDARD
END:VTIMEZONE
BEGIN:VEVENT
DTSTART;TZID=America/New_York:20240921T120000
DTEND;TZID=America/New_York:20240921T150000
DTSTAMP:20260422T132302
CREATED:20220819T171139Z
LAST-MODIFIED:20220819T171139Z
UID:198334-1726920000-1726930800@new.miamisprings.com
SUMMARY:Board Games Saturdays at The Community Center
DESCRIPTION:Spend quality time with your family and enjoy some board games! Come join us for an exciting afternoon.
URL:https://new.miamisprings.com/event/family-fun-and-board-games-saturdays-at-the-community-center-2024-09-21/
LOCATION:Miami Springs Rec Center\, 1401 Westward Drive\, Miami Springs\, FL\, 33166\, United States
CATEGORIES:Entertainment
ATTACH;FMTTYPE=image/jpeg:https://new.miamisprings.com/wp-content/uploads/2022/08/450421262_2799397616903563_222096389885310793_n.jpg
END:VEVENT
BEGIN:VEVENT
DTSTART;TZID=America/New_York:20240921T200000
DTEND;TZID=America/New_York:20240921T200000
DTSTAMP:20260422T132302
CREATED:20240829T143300Z
LAST-MODIFIED:20240829T143300Z
UID:201333-1726948800-1726948800@new.miamisprings.com
SUMMARY:Pump Live at Hole 19
DESCRIPTION:Live music every Saturday! Come eat\, drink\, and dance all night. Our dance floor opens up at 8 p.m. so get ready to show off those moves
URL:https://new.miamisprings.com/event/pump-live-at-hole-19/
LOCATION:Hole 19 Scratch Kitchen and Bar (Inside the Miami Springs Golf & Country Club)\, 650 Curtiss Parkway\, Miami Springs\, FL\, 33166\, United States
CATEGORIES:Entertainment
ATTACH;FMTTYPE=image/jpeg:https://new.miamisprings.com/wp-content/uploads/2024/08/457366680_18057068851708286_4591851071262900145_n.jpg
END:VEVENT
END:VCALENDAR