BEGIN:VCALENDAR
VERSION:2.0
PRODID:-//MiamiSprings.com | Miami Springs News and Events - ECPv6.15.15//NONSGML v1.0//EN
CALSCALE:GREGORIAN
METHOD:PUBLISH
X-WR-CALNAME:MiamiSprings.com | Miami Springs News and Events
X-ORIGINAL-URL:https://new.miamisprings.com
X-WR-CALDESC:Events for MiamiSprings.com | Miami Springs News and Events
REFRESH-INTERVAL;VALUE=DURATION:PT1H
X-Robots-Tag:noindex
X-PUBLISHED-TTL:PT1H
BEGIN:VTIMEZONE
TZID:America/New_York
BEGIN:DAYLIGHT
TZOFFSETFROM:-0500
TZOFFSETTO:-0400
TZNAME:EDT
DTSTART:20230312T070000
END:DAYLIGHT
BEGIN:STANDARD
TZOFFSETFROM:-0400
TZOFFSETTO:-0500
TZNAME:EST
DTSTART:20231105T060000
END:STANDARD
BEGIN:DAYLIGHT
TZOFFSETFROM:-0500
TZOFFSETTO:-0400
TZNAME:EDT
DTSTART:20240310T070000
END:DAYLIGHT
BEGIN:STANDARD
TZOFFSETFROM:-0400
TZOFFSETTO:-0500
TZNAME:EST
DTSTART:20241103T060000
END:STANDARD
BEGIN:DAYLIGHT
TZOFFSETFROM:-0500
TZOFFSETTO:-0400
TZNAME:EDT
DTSTART:20250309T070000
END:DAYLIGHT
BEGIN:STANDARD
TZOFFSETFROM:-0400
TZOFFSETTO:-0500
TZNAME:EST
DTSTART:20251102T060000
END:STANDARD
END:VTIMEZONE
BEGIN:VEVENT
DTSTART;TZID=America/New_York:20241007T190000
DTEND;TZID=America/New_York:20241007T190000
DTSTAMP:20260424T120900
CREATED:20240920T123028Z
LAST-MODIFIED:20240920T123028Z
UID:202329-1728327600-1728327600@new.miamisprings.com
SUMMARY:Wine & Food Tasting at Hole 19
DESCRIPTION:Experience the rich flavors of France as our expert sommelier guides you through a curated selection of French wines\, perfectly paired with gourmet dishes crafted by our talented chefs. One of those chefs being Patrick!\n\n\n Get your tickets now on EventBrite.com or click the link in our Instagram bio \n\n\nWhere: Miami Springs Golf & Country Club\nWhen: Monday\, October 7th\, 2024\nTime: 7 p.m. – 10 p.m.
URL:https://new.miamisprings.com/event/wine-food-tasting-at-hole-19/
LOCATION:Hole 19 Scratch Kitchen and Bar (Inside the Miami Springs Golf & Country Club)\, 650 Curtiss Parkway\, Miami Springs\, FL\, 33166\, United States
ATTACH;FMTTYPE=image/jpeg:https://new.miamisprings.com/wp-content/uploads/2024/09/460560218_18059318077708286_1209145832917520146_n.jpg
END:VEVENT
END:VCALENDAR