BEGIN:VCALENDAR
VERSION:2.0
PRODID:-//MiamiSprings.com | Miami Springs News and Events - ECPv6.15.15//NONSGML v1.0//EN
CALSCALE:GREGORIAN
METHOD:PUBLISH
X-WR-CALNAME:MiamiSprings.com | Miami Springs News and Events
X-ORIGINAL-URL:https://new.miamisprings.com
X-WR-CALDESC:Events for MiamiSprings.com | Miami Springs News and Events
REFRESH-INTERVAL;VALUE=DURATION:PT1H
X-Robots-Tag:noindex
X-PUBLISHED-TTL:PT1H
BEGIN:VTIMEZONE
TZID:America/New_York
BEGIN:DAYLIGHT
TZOFFSETFROM:-0500
TZOFFSETTO:-0400
TZNAME:EDT
DTSTART:20230312T070000
END:DAYLIGHT
BEGIN:STANDARD
TZOFFSETFROM:-0400
TZOFFSETTO:-0500
TZNAME:EST
DTSTART:20231105T060000
END:STANDARD
BEGIN:DAYLIGHT
TZOFFSETFROM:-0500
TZOFFSETTO:-0400
TZNAME:EDT
DTSTART:20240310T070000
END:DAYLIGHT
BEGIN:STANDARD
TZOFFSETFROM:-0400
TZOFFSETTO:-0500
TZNAME:EST
DTSTART:20241103T060000
END:STANDARD
BEGIN:DAYLIGHT
TZOFFSETFROM:-0500
TZOFFSETTO:-0400
TZNAME:EDT
DTSTART:20250309T070000
END:DAYLIGHT
BEGIN:STANDARD
TZOFFSETFROM:-0400
TZOFFSETTO:-0500
TZNAME:EST
DTSTART:20251102T060000
END:STANDARD
END:VTIMEZONE
BEGIN:VEVENT
DTSTART;VALUE=DATE:20241012
DTEND;VALUE=DATE:20241101
DTSTAMP:20260419T095646
CREATED:20240920T030958Z
LAST-MODIFIED:20240920T030958Z
UID:202307-1728691200-1730419199@new.miamisprings.com
SUMMARY:Pumpkin Patch
DESCRIPTION:Poinciana United Methodist Church (PUMC) invites you to their annual Pumpkin Patch from October 12 – 31st. \nHours: \nMonday – Friday:  2pm – 8pm\nSaturdays:  10am – 8pm\nSundays:  12pm – 8pm \n 
URL:https://new.miamisprings.com/event/pumpkin-patch/
LOCATION:Poinciana United Methodist Church\, 300 North Royal Poinciana Boulevard\, Miami Springs\, FL\, 33166\, United States
CATEGORIES:Community Events
ATTACH;FMTTYPE=image/png:https://new.miamisprings.com/wp-content/uploads/2024/09/Screen-Shot-2024-09-19-at-11.06.30-PM.png
END:VEVENT
BEGIN:VEVENT
DTSTART;TZID=America/New_York:20241027T093000
DTEND;TZID=America/New_York:20241027T140000
DTSTAMP:20260419T095646
CREATED:20241025T172352Z
LAST-MODIFIED:20241025T172352Z
UID:204180-1730021400-1730037600@new.miamisprings.com
SUMMARY:Pan con Lechon Fundraiser
DESCRIPTION:Join us for a delicious cause!  The Knights of Columbus are serving their award-winning Pan con Lechon on Sunday\, October 27th from 9:30 AM to 2:00 PM. For just $10 per order\, you’ll get Pan con Lechon\, chips\, and a drink. All proceeds support programs of faith\, family\, community\, and life. Don’t miss out on this mouthwatering meal
URL:https://new.miamisprings.com/event/pan-con-lechon-fundraiser/
LOCATION:Blessed Trinity Catholic Church\, 4020 Curtiss Pkwy\, Miami Springs\, FL\, 33166\, United States
CATEGORIES:Charity Event,Community Events
ATTACH;FMTTYPE=image/jpeg:https://new.miamisprings.com/wp-content/uploads/2024/10/464452527_958070393031613_4812958209983548393_n.jpg
END:VEVENT
BEGIN:VEVENT
DTSTART;TZID=America/New_York:20241027T150000
DTEND;TZID=America/New_York:20241027T170000
DTSTAMP:20260419T095646
CREATED:20241001T203042Z
LAST-MODIFIED:20241001T203042Z
UID:202957-1730041200-1730048400@new.miamisprings.com
SUMMARY:Surviving Teen Years: What They Don't Teach in School
DESCRIPTION:A transformative course designed to help teens thrive during the challenging teenage years! Over four engaging weeks\, you’ll discover essential strategies for boosting happiness\, building social skills\, and dealing with emotions effectively. Learn the importance of fostering meaningful connections\, how to navigate social media wisely\, and how to embrace a healthier lifestyle through exercise\, nutrition\, and mindfulness in ways that you actually ENJOY and that fit your unique needs— your wellness journey starts here! \nREGISTRATION: www.wellnessafterschool.com/survivingteenyearsoctober \nCourse will be held in Miami Springs at 237 Westward Drive. This is a four week course that begins Sunday\, October 12 from 3:00-5:00 p.m. and for the 3 following Sundays. 50% discount for parents with 2+ teens. Send an email to Kaylee@wellnessafterschool.com to get a discount code.
URL:https://new.miamisprings.com/event/surviving-teen-years-what-they-dont-teach-in-school-2024-10-27/
LOCATION:237 Westward Drive\, 237 Westward Drive\, Miami Springs\, 33166
CATEGORIES:Health,Learning
ATTACH;FMTTYPE=image/png:https://new.miamisprings.com/wp-content/uploads/2024/10/Guidance-for-Taking-Care-of-Yourself3.png
END:VEVENT
END:VCALENDAR