BEGIN:VCALENDAR
VERSION:2.0
PRODID:-//MiamiSprings.com | Miami Springs News and Events - ECPv6.15.15//NONSGML v1.0//EN
CALSCALE:GREGORIAN
METHOD:PUBLISH
X-WR-CALNAME:MiamiSprings.com | Miami Springs News and Events
X-ORIGINAL-URL:https://new.miamisprings.com
X-WR-CALDESC:Events for MiamiSprings.com | Miami Springs News and Events
REFRESH-INTERVAL;VALUE=DURATION:PT1H
X-Robots-Tag:noindex
X-PUBLISHED-TTL:PT1H
BEGIN:VTIMEZONE
TZID:America/New_York
BEGIN:DAYLIGHT
TZOFFSETFROM:-0500
TZOFFSETTO:-0400
TZNAME:EDT
DTSTART:20230312T070000
END:DAYLIGHT
BEGIN:STANDARD
TZOFFSETFROM:-0400
TZOFFSETTO:-0500
TZNAME:EST
DTSTART:20231105T060000
END:STANDARD
BEGIN:DAYLIGHT
TZOFFSETFROM:-0500
TZOFFSETTO:-0400
TZNAME:EDT
DTSTART:20240310T070000
END:DAYLIGHT
BEGIN:STANDARD
TZOFFSETFROM:-0400
TZOFFSETTO:-0500
TZNAME:EST
DTSTART:20241103T060000
END:STANDARD
BEGIN:DAYLIGHT
TZOFFSETFROM:-0500
TZOFFSETTO:-0400
TZNAME:EDT
DTSTART:20250309T070000
END:DAYLIGHT
BEGIN:STANDARD
TZOFFSETFROM:-0400
TZOFFSETTO:-0500
TZNAME:EST
DTSTART:20251102T060000
END:STANDARD
END:VTIMEZONE
BEGIN:VEVENT
DTSTART;TZID=America/New_York:20241224T160000
DTEND;TZID=America/New_York:20241224T160000
DTSTAMP:20260421T074923
CREATED:20230626T125826Z
LAST-MODIFIED:20230626T125826Z
UID:204477-1735056000-1735056000@new.miamisprings.com
SUMMARY:Taco Tuesday at Hole 19
DESCRIPTION:Come enjoy scratch tacos and handmade margaritas starting at 4 p.m.
URL:https://new.miamisprings.com/event/taco-tuesday-at-hole-19-2024-12-24/
LOCATION:Hole 19 Scratch Kitchen and Bar (Inside the Miami Springs Golf & Country Club)\, 650 Curtiss Parkway\, Miami Springs\, FL\, 33166\, United States
CATEGORIES:Entertainment
ATTACH;FMTTYPE=image/jpeg:https://new.miamisprings.com/wp-content/uploads/2023/06/356357795_825766612309085_1704129196555381487_n-e1709828633786.jpg
END:VEVENT
BEGIN:VEVENT
DTSTART;TZID=America/New_York:20241224T160000
DTEND;TZID=America/New_York:20241224T160000
DTSTAMP:20260421T074923
CREATED:20241221T035359Z
LAST-MODIFIED:20241221T035359Z
UID:206287-1735056000-1735056000@new.miamisprings.com
SUMMARY:Vigil Christmas Eve at Blessed Trinity Catholic Church
DESCRIPTION:Joy to the world\, the Lord is coming! Join us as we come and adore Him. \n4pm English \n11pm Bilingual
URL:https://new.miamisprings.com/event/vigil-christmas-eve-at-blessed-trinity-catholic-church/
LOCATION:Blessed Trinity Catholic Church\, 4020 Curtiss Pkwy\, Miami Springs\, FL\, 33166\, United States
CATEGORIES:Church Event,Community Events
ATTACH;FMTTYPE=image/jpeg:https://new.miamisprings.com/wp-content/uploads/2024/12/470936691_1115956896735936_2874898070125311890_n.jpg
END:VEVENT
BEGIN:VEVENT
DTSTART;TZID=America/New_York:20241224T170000
DTEND;TZID=America/New_York:20241224T170000
DTSTAMP:20260421T074923
CREATED:20241224T072908Z
LAST-MODIFIED:20241224T072908Z
UID:206326-1735059600-1735059600@new.miamisprings.com
SUMMARY:Christmas Eve Service at Crossbridge Miami Springs
DESCRIPTION:Join us on December 24th at 5PM for our Christmas Eve service. The service will be filled with lots of singing of your favorite Christmas hymns and conclude with a candlelight singing of Silent Night. Bring the family and join in a joyous celebration of Christ’s birth.
URL:https://new.miamisprings.com/event/christmas-eve-service-at-crossbridge-miami-springs-2/
LOCATION:Crossbridge Church Miami Springs\, 301 Westward Drive\, Miami Springs\, FL\, 33166\, United States
ATTACH;FMTTYPE=image/jpeg:https://new.miamisprings.com/wp-content/uploads/2024/12/471432610_993781812783398_328740466002237122_n.jpg
END:VEVENT
BEGIN:VEVENT
DTSTART;TZID=America/New_York:20241224T173000
DTEND;TZID=America/New_York:20241224T180000
DTSTAMP:20260421T074923
CREATED:20241224T072717Z
LAST-MODIFIED:20241224T072717Z
UID:206323-1735061400-1735063200@new.miamisprings.com
SUMMARY:Christmas Eve Mass at All Angels Episcopal Church
DESCRIPTION:Join us at All Angels Episcopal Church for a festive Christmas Eve! Musical concert at 5:30 PM followed by Mass at 6 PM. Come for an evening of worship\, music\, and fellowship.
URL:https://new.miamisprings.com/event/christmas-eve-mass-at-all-angels-episcopal-church/
LOCATION:All Angels Episcopal Church\, 1801 Ludlam Drive\, Miami Springs\, FL\, 33166\, United States
ATTACH;FMTTYPE=image/jpeg:https://new.miamisprings.com/wp-content/uploads/2024/12/471236952_1023300916507034_6153502390552366333_n.jpg
END:VEVENT
BEGIN:VEVENT
DTSTART;TZID=America/New_York:20241224T180000
DTEND;TZID=America/New_York:20241224T180000
DTSTAMP:20260421T074923
CREATED:20241220T140021Z
LAST-MODIFIED:20241220T150656Z
UID:206265-1735063200-1735063200@new.miamisprings.com
SUMMARY:Christmas Eve Traditional Candle Lighting Service
DESCRIPTION:Join us…ALL ARE WELCOMED!We are located at 300 North Royal Poinciana Blvd in Miami Springs. Please share this post. God Bless
URL:https://new.miamisprings.com/event/christmas-eve-traditional-candle-lighting-service/
LOCATION:Poinciana United Methodist Church\, 300 North Royal Poinciana Boulevard\, Miami Springs\, FL\, 33166\, United States
CATEGORIES:Entertainment
ATTACH;FMTTYPE=image/jpeg:https://new.miamisprings.com/wp-content/uploads/2024/12/470795163_932088565688952_8677432292645040569_n.jpg
END:VEVENT
END:VCALENDAR