BEGIN:VCALENDAR
VERSION:2.0
PRODID:-//MiamiSprings.com | Miami Springs News and Events - ECPv6.15.15//NONSGML v1.0//EN
CALSCALE:GREGORIAN
METHOD:PUBLISH
X-WR-CALNAME:MiamiSprings.com | Miami Springs News and Events
X-ORIGINAL-URL:https://new.miamisprings.com
X-WR-CALDESC:Events for MiamiSprings.com | Miami Springs News and Events
REFRESH-INTERVAL;VALUE=DURATION:PT1H
X-Robots-Tag:noindex
X-PUBLISHED-TTL:PT1H
BEGIN:VTIMEZONE
TZID:America/New_York
BEGIN:DAYLIGHT
TZOFFSETFROM:-0500
TZOFFSETTO:-0400
TZNAME:EDT
DTSTART:20240310T070000
END:DAYLIGHT
BEGIN:STANDARD
TZOFFSETFROM:-0400
TZOFFSETTO:-0500
TZNAME:EST
DTSTART:20241103T060000
END:STANDARD
BEGIN:DAYLIGHT
TZOFFSETFROM:-0500
TZOFFSETTO:-0400
TZNAME:EDT
DTSTART:20250309T070000
END:DAYLIGHT
BEGIN:STANDARD
TZOFFSETFROM:-0400
TZOFFSETTO:-0500
TZNAME:EST
DTSTART:20251102T060000
END:STANDARD
BEGIN:DAYLIGHT
TZOFFSETFROM:-0500
TZOFFSETTO:-0400
TZNAME:EDT
DTSTART:20260308T070000
END:DAYLIGHT
BEGIN:STANDARD
TZOFFSETFROM:-0400
TZOFFSETTO:-0500
TZNAME:EST
DTSTART:20261101T060000
END:STANDARD
END:VTIMEZONE
BEGIN:VEVENT
DTSTART;TZID=America/New_York:20250309T130000
DTEND;TZID=America/New_York:20250309T160000
DTSTAMP:20260421T061459
CREATED:20250305T010820Z
LAST-MODIFIED:20250305T011535Z
UID:207434-1741525200-1741536000@new.miamisprings.com
SUMMARY:Taste in the Springs
DESCRIPTION:The Miami Springs Woman’s Club is hosting the annual Taste in the Springs event this Sunday at the beautiful Miami Springs Golf and Country Club from 1pm – 4pm. \n 
URL:https://new.miamisprings.com/event/taste-in-the-springs/
LOCATION:Miami Springs Golf and Country Club\, Miami Springs\, FL\, 33166\, United States
CATEGORIES:Community Events
ATTACH;FMTTYPE=image/jpeg:https://new.miamisprings.com/wp-content/uploads/2025/03/Screen-Shot-2025-03-04-at-8.04.23-PM.jpg
END:VEVENT
END:VCALENDAR