BEGIN:VCALENDAR
VERSION:2.0
PRODID:-//MiamiSprings.com | Miami Springs News and Events - ECPv6.15.15//NONSGML v1.0//EN
CALSCALE:GREGORIAN
METHOD:PUBLISH
X-WR-CALNAME:MiamiSprings.com | Miami Springs News and Events
X-ORIGINAL-URL:https://new.miamisprings.com
X-WR-CALDESC:Events for MiamiSprings.com | Miami Springs News and Events
REFRESH-INTERVAL;VALUE=DURATION:PT1H
X-Robots-Tag:noindex
X-PUBLISHED-TTL:PT1H
BEGIN:VTIMEZONE
TZID:America/New_York
BEGIN:DAYLIGHT
TZOFFSETFROM:-0500
TZOFFSETTO:-0400
TZNAME:EDT
DTSTART:20240310T070000
END:DAYLIGHT
BEGIN:STANDARD
TZOFFSETFROM:-0400
TZOFFSETTO:-0500
TZNAME:EST
DTSTART:20241103T060000
END:STANDARD
BEGIN:DAYLIGHT
TZOFFSETFROM:-0500
TZOFFSETTO:-0400
TZNAME:EDT
DTSTART:20250309T070000
END:DAYLIGHT
BEGIN:STANDARD
TZOFFSETFROM:-0400
TZOFFSETTO:-0500
TZNAME:EST
DTSTART:20251102T060000
END:STANDARD
BEGIN:DAYLIGHT
TZOFFSETFROM:-0500
TZOFFSETTO:-0400
TZNAME:EDT
DTSTART:20260308T070000
END:DAYLIGHT
BEGIN:STANDARD
TZOFFSETFROM:-0400
TZOFFSETTO:-0500
TZNAME:EST
DTSTART:20261101T060000
END:STANDARD
END:VTIMEZONE
BEGIN:VEVENT
DTSTART;TZID=America/New_York:20250318T190000
DTEND;TZID=America/New_York:20250318T190000
DTSTAMP:20260419T104103
CREATED:20250313T195953Z
LAST-MODIFIED:20250313T195953Z
UID:207590-1742324400-1742324400@new.miamisprings.com
SUMMARY:Miami Springs Youth Meet The Candidates
DESCRIPTION:Miami Springs youth are invited to a free event on March 18th at 7 PM at the Rebecca Sosa Theater (1401 Westward Drive\, 2nd Floor) to meet the candidates\, ask questions\, and make their voices heard. \nThis is a great opportunity to engage with local leaders and learn more about the upcoming elections. Attendees will also be entered into a raffle to win prizes\, with winners announced at the end of the event. \nDon’t miss your chance to be part of the conversation and shape the future of your city. The City of Miami Springs elections will take place on Tuesday\, April 1st.
URL:https://new.miamisprings.com/event/miami-springs-youth-meet-the-candidates/
LOCATION:Rebeca Sosa Theater\, 1401 Westward Drive (2nd Floor)\, Miami Springs\, FL\, 33166\, United States
ATTACH;FMTTYPE=image/jpeg:https://new.miamisprings.com/wp-content/uploads/2025/03/MS-Youth-Meet-the-Candidates.jpg
END:VEVENT
END:VCALENDAR