BEGIN:VCALENDAR
VERSION:2.0
PRODID:-//MiamiSprings.com | Miami Springs News and Events - ECPv6.15.15//NONSGML v1.0//EN
CALSCALE:GREGORIAN
METHOD:PUBLISH
X-WR-CALNAME:MiamiSprings.com | Miami Springs News and Events
X-ORIGINAL-URL:https://new.miamisprings.com
X-WR-CALDESC:Events for MiamiSprings.com | Miami Springs News and Events
REFRESH-INTERVAL;VALUE=DURATION:PT1H
X-Robots-Tag:noindex
X-PUBLISHED-TTL:PT1H
BEGIN:VTIMEZONE
TZID:America/New_York
BEGIN:DAYLIGHT
TZOFFSETFROM:-0500
TZOFFSETTO:-0400
TZNAME:EDT
DTSTART:20240310T070000
END:DAYLIGHT
BEGIN:STANDARD
TZOFFSETFROM:-0400
TZOFFSETTO:-0500
TZNAME:EST
DTSTART:20241103T060000
END:STANDARD
BEGIN:DAYLIGHT
TZOFFSETFROM:-0500
TZOFFSETTO:-0400
TZNAME:EDT
DTSTART:20250309T070000
END:DAYLIGHT
BEGIN:STANDARD
TZOFFSETFROM:-0400
TZOFFSETTO:-0500
TZNAME:EST
DTSTART:20251102T060000
END:STANDARD
BEGIN:DAYLIGHT
TZOFFSETFROM:-0500
TZOFFSETTO:-0400
TZNAME:EDT
DTSTART:20260308T070000
END:DAYLIGHT
BEGIN:STANDARD
TZOFFSETFROM:-0400
TZOFFSETTO:-0500
TZNAME:EST
DTSTART:20261101T060000
END:STANDARD
END:VTIMEZONE
BEGIN:VEVENT
DTSTART;TZID=America/New_York:20250326T184500
DTEND;TZID=America/New_York:20250326T184500
DTSTAMP:20260419T144629
CREATED:20250102T162636Z
LAST-MODIFIED:20250313T155034Z
UID:206442-1743014700-1743014700@new.miamisprings.com
SUMMARY:Block Watch Meeting
DESCRIPTION:Attention Miami Springs Residents and Business owners \nMissed the inaugural Block Watch meeting? Want to connect with your local police officers\, meet the Chief and command staff\, and stay informed on crime prevention? \nJoin us on March 26 at 6:45 PM at the Miami Springs Adult Community Center (101 Apache St.) for our next Block Watch Program meeting! \nEnjoy dinner on us\, bring a neighbor\, and learn about the latest scams and safety tips from our officers and guest speakers. \nPlease RSVP at 305-888-9711 or dgarcia@mspd.us. \nJoin today to claim your Block Watch T-shirt! Don’t miss out—stay informed and help keep our community safe! #MSPDStrong
URL:https://new.miamisprings.com/event/block-watch-meeting/
LOCATION:Miami Springs Adult Community Center\, 101 Apache\, Miami Springs\, FL\, 33166\, United States
CATEGORIES:Community Events
ATTACH;FMTTYPE=image/jpeg:https://new.miamisprings.com/wp-content/uploads/2025/01/bwm-1.jpg
END:VEVENT
BEGIN:VEVENT
DTSTART;TZID=America/New_York:20250326T190000
DTEND;TZID=America/New_York:20250326T220000
DTSTAMP:20260419T144629
CREATED:20250317T134257Z
LAST-MODIFIED:20250317T134257Z
UID:207616-1743015600-1743026400@new.miamisprings.com
SUMMARY:Gear-Up For Autism Karaoke Kickoff Party
DESCRIPTION:Help us support Gear-Up For Autism by joining our Wednesday karaoke night March 26th!A portion of our proceeds from 7pm – 10pm will be donated to @fpautismoutreach for their annual @gearupforautismmiami event. Come enjoy dinner from our scratch kitchen\, grab a drink\, and then grab the mic all while helping a child have a special day playing sports!
URL:https://new.miamisprings.com/event/gear-up-for-autism-karaoke-kickoff-party/
LOCATION:Hole 19 Scratch Kitchen and Bar (Inside the Miami Springs Golf & Country Club)\, 650 Curtiss Parkway\, Miami Springs\, FL\, 33166\, United States
CATEGORIES:Entertainment
ATTACH;FMTTYPE=image/jpeg:https://new.miamisprings.com/wp-content/uploads/2025/03/485264308_18077081914708286_3053625366076645219_n.jpg
END:VEVENT
END:VCALENDAR