BEGIN:VCALENDAR
VERSION:2.0
PRODID:-//MiamiSprings.com | Miami Springs News and Events - ECPv6.15.15//NONSGML v1.0//EN
CALSCALE:GREGORIAN
METHOD:PUBLISH
X-WR-CALNAME:MiamiSprings.com | Miami Springs News and Events
X-ORIGINAL-URL:https://new.miamisprings.com
X-WR-CALDESC:Events for MiamiSprings.com | Miami Springs News and Events
REFRESH-INTERVAL;VALUE=DURATION:PT1H
X-Robots-Tag:noindex
X-PUBLISHED-TTL:PT1H
BEGIN:VTIMEZONE
TZID:America/New_York
BEGIN:DAYLIGHT
TZOFFSETFROM:-0500
TZOFFSETTO:-0400
TZNAME:EDT
DTSTART:20240310T070000
END:DAYLIGHT
BEGIN:STANDARD
TZOFFSETFROM:-0400
TZOFFSETTO:-0500
TZNAME:EST
DTSTART:20241103T060000
END:STANDARD
BEGIN:DAYLIGHT
TZOFFSETFROM:-0500
TZOFFSETTO:-0400
TZNAME:EDT
DTSTART:20250309T070000
END:DAYLIGHT
BEGIN:STANDARD
TZOFFSETFROM:-0400
TZOFFSETTO:-0500
TZNAME:EST
DTSTART:20251102T060000
END:STANDARD
BEGIN:DAYLIGHT
TZOFFSETFROM:-0500
TZOFFSETTO:-0400
TZNAME:EDT
DTSTART:20260308T070000
END:DAYLIGHT
BEGIN:STANDARD
TZOFFSETFROM:-0400
TZOFFSETTO:-0500
TZNAME:EST
DTSTART:20261101T060000
END:STANDARD
END:VTIMEZONE
BEGIN:VEVENT
DTSTART;TZID=America/New_York:20250328T080000
DTEND;TZID=America/New_York:20250328T160000
DTSTAMP:20260419T112130
CREATED:20250328T102237Z
LAST-MODIFIED:20250328T102237Z
UID:207755-1743148800-1743177600@new.miamisprings.com
SUMMARY:Early Voting - Miami Springs City Hall
DESCRIPTION:Early voting at Miami Springs City Hall. \n8am – 4pm \nLearn more about the candidates with our complete Miami Springs Election Guide. \nMiami Springs Election Guide \n \n 
URL:https://new.miamisprings.com/event/early-voting-miami-springs-city-hall/
LOCATION:Miami Springs City Hall\, 201 Westward Drive\, Miami Springs\, FL\, 33166\, United States
CATEGORIES:Elections
ATTACH;FMTTYPE=image/jpeg:https://new.miamisprings.com/wp-content/uploads/2019/06/IMG_3183.jpg
END:VEVENT
BEGIN:VEVENT
DTSTART;TZID=America/New_York:20250328T180000
DTEND;TZID=America/New_York:20250328T203000
DTSTAMP:20260419T112130
CREATED:20250130T022559Z
LAST-MODIFIED:20250130T022559Z
UID:206914-1743184800-1743193800@new.miamisprings.com
SUMMARY:Blessed Trinity & Knights of Columbus Fish Fry Fridays
DESCRIPTION:Join Blessed Trinity & Knights of Columbus for Fish Fry Fridays during Lent through April 11\, 2025! \nKnights Combo – $20 (Fish\, shrimp\, fries\, coleslaw)\nMcGivney Meal – $15 (Fish\, fries\, coleslaw)\nKids Meal – $7 (Fish fingers\, mac & cheese or fries) \nDrinks & dessert available. \n 
URL:https://new.miamisprings.com/event/blessed-trinity-knights-of-columbus-fish-fry-fridays-2025-03-28/
LOCATION:Blessed Trinity Catholic Church\, 4020 Curtiss Pkwy\, Miami Springs\, FL\, 33166\, United States
CATEGORIES:Church Event,Community Events
ATTACH;FMTTYPE=image/jpeg:https://new.miamisprings.com/wp-content/uploads/2025/01/IMG-20250129-WA0011.jpg
END:VEVENT
END:VCALENDAR