BEGIN:VCALENDAR
VERSION:2.0
PRODID:-//MiamiSprings.com | Miami Springs News and Events - ECPv6.15.15//NONSGML v1.0//EN
CALSCALE:GREGORIAN
METHOD:PUBLISH
X-ORIGINAL-URL:https://new.miamisprings.com
X-WR-CALDESC:Events for MiamiSprings.com | Miami Springs News and Events
REFRESH-INTERVAL;VALUE=DURATION:PT1H
X-Robots-Tag:noindex
X-PUBLISHED-TTL:PT1H
BEGIN:VTIMEZONE
TZID:America/New_York
BEGIN:DAYLIGHT
TZOFFSETFROM:-0500
TZOFFSETTO:-0400
TZNAME:EDT
DTSTART:20230312T070000
END:DAYLIGHT
BEGIN:STANDARD
TZOFFSETFROM:-0400
TZOFFSETTO:-0500
TZNAME:EST
DTSTART:20231105T060000
END:STANDARD
BEGIN:DAYLIGHT
TZOFFSETFROM:-0500
TZOFFSETTO:-0400
TZNAME:EDT
DTSTART:20240310T070000
END:DAYLIGHT
BEGIN:STANDARD
TZOFFSETFROM:-0400
TZOFFSETTO:-0500
TZNAME:EST
DTSTART:20241103T060000
END:STANDARD
BEGIN:DAYLIGHT
TZOFFSETFROM:-0500
TZOFFSETTO:-0400
TZNAME:EDT
DTSTART:20250309T070000
END:DAYLIGHT
BEGIN:STANDARD
TZOFFSETFROM:-0400
TZOFFSETTO:-0500
TZNAME:EST
DTSTART:20251102T060000
END:STANDARD
END:VTIMEZONE
BEGIN:VEVENT
DTSTART;TZID=America/New_York:20240214T073000
DTEND;TZID=America/New_York:20240214T073000
DTSTAMP:20260419T131646
CREATED:20240214T133029Z
LAST-MODIFIED:20240214T133029Z
UID:191016-1707895800-1707895800@new.miamisprings.com
SUMMARY:Ash Wednesday Mass at Blessed Trinity Catholic Church
DESCRIPTION:Check mass schedule for today Ash Wednesday marks the beginning of Lent. A time to reflect\, repent\, and pray.
URL:https://new.miamisprings.com/event/ash-wednesday-mass-at-blessed-trinity-catholic-church/
LOCATION:Blessed Trinity Catholic Church\, 4020 Curtiss Pkwy\, Miami Springs\, FL\, 33166\, United States
CATEGORIES:Church Event,Community Events,Featured
ATTACH;FMTTYPE=image/jpeg:https://new.miamisprings.com/wp-content/uploads/2024/02/421604421_777740631064591_6094833760056059407_n.jpg
END:VEVENT
BEGIN:VEVENT
DTSTART;TZID=America/New_York:20240214T180000
DTEND;TZID=America/New_York:20240214T190000
DTSTAMP:20260419T131646
CREATED:20230301T180205Z
LAST-MODIFIED:20240403T133049Z
UID:190038-1707933600-1707937200@new.miamisprings.com
SUMMARY:Chess Club at the Miami Springs Library
DESCRIPTION:Tweens and Teens ages 8 – 18 are invited to join the Miami Springs Chess Club every Wednesday from 6pm – 7pm. \nChess Club at Miami Springs Library
URL:https://new.miamisprings.com/event/chess-club-at-the-miami-springs-library-2024-02-14/
LOCATION:Miami Springs Library\, 401 Westward Drive\, Miami Springs\, FL\, 33166\, United States
CATEGORIES:Community Events
ATTACH;FMTTYPE=image/jpeg:https://new.miamisprings.com/wp-content/uploads/2023/02/IMG_5481-1-e1709828921165.jpg
END:VEVENT
END:VCALENDAR