BEGIN:VCALENDAR
VERSION:2.0
PRODID:-//MiamiSprings.com | Miami Springs News and Events - ECPv6.15.15//NONSGML v1.0//EN
CALSCALE:GREGORIAN
METHOD:PUBLISH
X-WR-CALNAME:MiamiSprings.com | Miami Springs News and Events
X-ORIGINAL-URL:https://new.miamisprings.com
X-WR-CALDESC:Events for MiamiSprings.com | Miami Springs News and Events
REFRESH-INTERVAL;VALUE=DURATION:PT1H
X-Robots-Tag:noindex
X-PUBLISHED-TTL:PT1H
BEGIN:VTIMEZONE
TZID:America/New_York
BEGIN:DAYLIGHT
TZOFFSETFROM:-0500
TZOFFSETTO:-0400
TZNAME:EDT
DTSTART:20230312T070000
END:DAYLIGHT
BEGIN:STANDARD
TZOFFSETFROM:-0400
TZOFFSETTO:-0500
TZNAME:EST
DTSTART:20231105T060000
END:STANDARD
BEGIN:DAYLIGHT
TZOFFSETFROM:-0500
TZOFFSETTO:-0400
TZNAME:EDT
DTSTART:20240310T070000
END:DAYLIGHT
BEGIN:STANDARD
TZOFFSETFROM:-0400
TZOFFSETTO:-0500
TZNAME:EST
DTSTART:20241103T060000
END:STANDARD
BEGIN:DAYLIGHT
TZOFFSETFROM:-0500
TZOFFSETTO:-0400
TZNAME:EDT
DTSTART:20250309T070000
END:DAYLIGHT
BEGIN:STANDARD
TZOFFSETFROM:-0400
TZOFFSETTO:-0500
TZNAME:EST
DTSTART:20251102T060000
END:STANDARD
END:VTIMEZONE
BEGIN:VEVENT
DTSTART;TZID=America/New_York:20240317T090000
DTEND;TZID=America/New_York:20240317T170000
DTSTAMP:20260419T132533
CREATED:20240312T164331Z
LAST-MODIFIED:20240312T164439Z
UID:192162-1710666000-1710694800@new.miamisprings.com
SUMMARY:"Adopt A Highway" Cleanup Program
DESCRIPTION:This Sunday\, March 17th\, at 9 a.m.\, members of Miami Springs’ Oleeta-West Dade Lodge No. 145 are rallying together for an initiative to clean up NW 36th Street. This event aims to enhance the beauty and safety of our city’s roadways while fostering\na sense of civic pride and environmental stewardship. \nThe cleanup effort is part of the Florida Department of Transportation’s (FDOT) “Adopt-A-Highway” Program\, a statewide initiative that empowers local groups and organizations to take an active role in maintaining and beautifying their communities. \nUnder the Adopt-A-Highway Program\, volunteers agree to “adopt” a two-mile section of a state highway\, dedicating two years to the program and following specified DOT safety regulations. They commit to removing litter a minimum of four times each year\, contributing to a cleaner and safer environment for all residents and visitors. \nIn return\, FDOT provides essential support\, including assisting with safety meetings\, supplying safety vests and litter bags\, picking up litter at specified locations\, and posting Adopt-A-Highway signs commending the group at the beginning and end of their section. \nParticipants will meet at Oleeta-West Dade Lodge at 9 a.m. on Sunday\, March 17th\, where they will receive safety instructions\, equipment\, and assignments. Together\, we can make a meaningful difference in our community and create a cleaner\, greener future for generations to come. \nOleeta-West Dade Lodge No. 145 is the result of various mergers over time\, mainly the merger between Oleeta Lodge\, founded in 1924\, and West Dade Lodge No. 388. These two lodges merged on May 24th\, 2003\, forming Oleeta-West Dade Lodge No. 145\, under the jurisdiction of the Grand Lodge of Florida. \nFor more information please contact Steven Cejas at 305-458-9007. \nLet’s join hands and work together to keep Miami Springs beautiful!
URL:https://new.miamisprings.com/event/adopt-a-highway-cleanup/
LOCATION:NW 36th Street\, NW 36th Street\, Miami Springs\, FL\, 33166\, United States
CATEGORIES:Community Events
ATTACH;FMTTYPE=image/jpeg:https://new.miamisprings.com/wp-content/uploads/2024/03/430782606_18331415353116272_4392445813743147726_n.jpg
END:VEVENT
END:VCALENDAR