BEGIN:VCALENDAR
VERSION:2.0
PRODID:-//MiamiSprings.com | Miami Springs News and Events - ECPv6.15.15//NONSGML v1.0//EN
CALSCALE:GREGORIAN
METHOD:PUBLISH
X-WR-CALNAME:MiamiSprings.com | Miami Springs News and Events
X-ORIGINAL-URL:https://new.miamisprings.com
X-WR-CALDESC:Events for MiamiSprings.com | Miami Springs News and Events
REFRESH-INTERVAL;VALUE=DURATION:PT1H
X-Robots-Tag:noindex
X-PUBLISHED-TTL:PT1H
BEGIN:VTIMEZONE
TZID:America/New_York
BEGIN:DAYLIGHT
TZOFFSETFROM:-0500
TZOFFSETTO:-0400
TZNAME:EDT
DTSTART:20230312T070000
END:DAYLIGHT
BEGIN:STANDARD
TZOFFSETFROM:-0400
TZOFFSETTO:-0500
TZNAME:EST
DTSTART:20231105T060000
END:STANDARD
BEGIN:DAYLIGHT
TZOFFSETFROM:-0500
TZOFFSETTO:-0400
TZNAME:EDT
DTSTART:20240310T070000
END:DAYLIGHT
BEGIN:STANDARD
TZOFFSETFROM:-0400
TZOFFSETTO:-0500
TZNAME:EST
DTSTART:20241103T060000
END:STANDARD
BEGIN:DAYLIGHT
TZOFFSETFROM:-0500
TZOFFSETTO:-0400
TZNAME:EDT
DTSTART:20250309T070000
END:DAYLIGHT
BEGIN:STANDARD
TZOFFSETFROM:-0400
TZOFFSETTO:-0500
TZNAME:EST
DTSTART:20251102T060000
END:STANDARD
END:VTIMEZONE
BEGIN:VEVENT
DTSTART;TZID=America/New_York:20241121T180000
DTEND;TZID=America/New_York:20241121T180000
DTSTAMP:20260419T081159
CREATED:20241119T215524Z
LAST-MODIFIED:20241119T215524Z
UID:205572-1732212000-1732212000@new.miamisprings.com
SUMMARY:Swearing-In Ceremony and Christmas Tree Lighting
DESCRIPTION:Join Us for a Special Evening in Virginia Gardens! \nAttention\, residents and business owners! You’re warmly invited to the Swearing-In Ceremony for: \n\nMayor Spencer Deno IV\nCouncil President Gabriel Fernandez\nCouncil Members Richard Block and Debbie Conover\n\nDate: Thursday\, November 21\, 2024\nLocation: Village Hall\, 6498 NW 38th Terrace\nTime: 6:00 PM \nAfter the ceremony\, enjoy the lighting of our beautiful Christmas tree outside Village Hall. The evening will wrap up with the November Regular Council Meeting. \nWe hope to see you there for this memorable event!
URL:https://new.miamisprings.com/event/swearing-in-ceremony-and-christmas-tree-lighting/
LOCATION:Virginia Gardens Village Hall\, 6489 NW 38th Terrace\, Virginia Gardens\, FL\, 33166\, United States
CATEGORIES:Community Events
ATTACH;FMTTYPE=image/jpeg:https://new.miamisprings.com/wp-content/uploads/2024/11/467752711_17948835671894048_6273363976733905314_n-1.jpg
END:VEVENT
END:VCALENDAR