BEGIN:VCALENDAR
VERSION:2.0
PRODID:-//MiamiSprings.com | Miami Springs News and Events - ECPv6.15.15//NONSGML v1.0//EN
CALSCALE:GREGORIAN
METHOD:PUBLISH
X-WR-CALNAME:MiamiSprings.com | Miami Springs News and Events
X-ORIGINAL-URL:https://new.miamisprings.com
X-WR-CALDESC:Events for MiamiSprings.com | Miami Springs News and Events
REFRESH-INTERVAL;VALUE=DURATION:PT1H
X-Robots-Tag:noindex
X-PUBLISHED-TTL:PT1H
BEGIN:VTIMEZONE
TZID:America/New_York
BEGIN:DAYLIGHT
TZOFFSETFROM:-0500
TZOFFSETTO:-0400
TZNAME:EDT
DTSTART:20230312T070000
END:DAYLIGHT
BEGIN:STANDARD
TZOFFSETFROM:-0400
TZOFFSETTO:-0500
TZNAME:EST
DTSTART:20231105T060000
END:STANDARD
BEGIN:DAYLIGHT
TZOFFSETFROM:-0500
TZOFFSETTO:-0400
TZNAME:EDT
DTSTART:20240310T070000
END:DAYLIGHT
BEGIN:STANDARD
TZOFFSETFROM:-0400
TZOFFSETTO:-0500
TZNAME:EST
DTSTART:20241103T060000
END:STANDARD
BEGIN:DAYLIGHT
TZOFFSETFROM:-0500
TZOFFSETTO:-0400
TZNAME:EDT
DTSTART:20250309T070000
END:DAYLIGHT
BEGIN:STANDARD
TZOFFSETFROM:-0400
TZOFFSETTO:-0500
TZNAME:EST
DTSTART:20251102T060000
END:STANDARD
END:VTIMEZONE
BEGIN:VEVENT
DTSTART;TZID=America/New_York:20241102T120000
DTEND;TZID=America/New_York:20241102T150000
DTSTAMP:20260419T181316
CREATED:20220819T171139Z
LAST-MODIFIED:20220819T171139Z
UID:198337-1730548800-1730559600@new.miamisprings.com
SUMMARY:Board Games Saturdays at The Community Center
DESCRIPTION:Spend quality time with your family and enjoy some board games! Come join us for an exciting afternoon.
URL:https://new.miamisprings.com/event/family-fun-and-board-games-saturdays-at-the-community-center-2024-11-02/
LOCATION:Miami Springs Rec Center\, 1401 Westward Drive\, Miami Springs\, FL\, 33166\, United States
CATEGORIES:Entertainment
ATTACH;FMTTYPE=image/jpeg:https://new.miamisprings.com/wp-content/uploads/2022/08/450421262_2799397616903563_222096389885310793_n.jpg
END:VEVENT
BEGIN:VEVENT
DTSTART;TZID=America/New_York:20241102T200000
DTEND;TZID=America/New_York:20241102T200000
DTSTAMP:20260419T181316
CREATED:20220523T170737Z
LAST-MODIFIED:20241031T123851Z
UID:165097-1730577600-1730577600@new.miamisprings.com
SUMMARY:Main Street Live at Hole 19
DESCRIPTION:Join us this July for an unforgettable dining experience with live music performances every Saturday night. Whether you’re celebrating a special occasion or simply looking to unwind\, we offer the perfect ambiance paired with exceptional cuisine and talented musicians.
URL:https://new.miamisprings.com/event/main-street-live-at-hole-19/
LOCATION:Hole 19 Scratch Kitchen and Bar (Inside the Miami Springs Golf & Country Club)\, 650 Curtiss Parkway\, Miami Springs\, FL\, 33166\, United States
CATEGORIES:Entertainment
ATTACH;FMTTYPE=image/jpeg:https://new.miamisprings.com/wp-content/uploads/2022/05/MS-1.jpg
END:VEVENT
BEGIN:VEVENT
DTSTART;TZID=America/New_York:20241105T160000
DTEND;TZID=America/New_York:20241105T160000
DTSTAMP:20260419T181316
CREATED:20230626T125826Z
LAST-MODIFIED:20230626T125826Z
UID:204470-1730822400-1730822400@new.miamisprings.com
SUMMARY:Taco Tuesday at Hole 19
DESCRIPTION:Come enjoy scratch tacos and handmade margaritas starting at 4 p.m.
URL:https://new.miamisprings.com/event/taco-tuesday-at-hole-19-2024-11-05/
LOCATION:Hole 19 Scratch Kitchen and Bar (Inside the Miami Springs Golf & Country Club)\, 650 Curtiss Parkway\, Miami Springs\, FL\, 33166\, United States
CATEGORIES:Entertainment
ATTACH;FMTTYPE=image/jpeg:https://new.miamisprings.com/wp-content/uploads/2023/06/356357795_825766612309085_1704129196555381487_n-e1709828633786.jpg
END:VEVENT
BEGIN:VEVENT
DTSTART;TZID=America/New_York:20241112T160000
DTEND;TZID=America/New_York:20241112T160000
DTSTAMP:20260419T181316
CREATED:20230626T125826Z
LAST-MODIFIED:20230626T125826Z
UID:204471-1731427200-1731427200@new.miamisprings.com
SUMMARY:Taco Tuesday at Hole 19
DESCRIPTION:Come enjoy scratch tacos and handmade margaritas starting at 4 p.m.
URL:https://new.miamisprings.com/event/taco-tuesday-at-hole-19-2024-11-12/
LOCATION:Hole 19 Scratch Kitchen and Bar (Inside the Miami Springs Golf & Country Club)\, 650 Curtiss Parkway\, Miami Springs\, FL\, 33166\, United States
CATEGORIES:Entertainment
ATTACH;FMTTYPE=image/jpeg:https://new.miamisprings.com/wp-content/uploads/2023/06/356357795_825766612309085_1704129196555381487_n-e1709828633786.jpg
END:VEVENT
BEGIN:VEVENT
DTSTART;TZID=America/New_York:20241116T120000
DTEND;TZID=America/New_York:20241116T150000
DTSTAMP:20260419T181316
CREATED:20220819T171139Z
LAST-MODIFIED:20220819T171139Z
UID:198338-1731758400-1731769200@new.miamisprings.com
SUMMARY:Board Games Saturdays at The Community Center
DESCRIPTION:Spend quality time with your family and enjoy some board games! Come join us for an exciting afternoon.
URL:https://new.miamisprings.com/event/family-fun-and-board-games-saturdays-at-the-community-center-2024-11-16/
LOCATION:Miami Springs Rec Center\, 1401 Westward Drive\, Miami Springs\, FL\, 33166\, United States
CATEGORIES:Entertainment
ATTACH;FMTTYPE=image/jpeg:https://new.miamisprings.com/wp-content/uploads/2022/08/450421262_2799397616903563_222096389885310793_n.jpg
END:VEVENT
BEGIN:VEVENT
DTSTART;TZID=America/New_York:20241119T160000
DTEND;TZID=America/New_York:20241119T160000
DTSTAMP:20260419T181316
CREATED:20230626T125826Z
LAST-MODIFIED:20230626T125826Z
UID:204472-1732032000-1732032000@new.miamisprings.com
SUMMARY:Taco Tuesday at Hole 19
DESCRIPTION:Come enjoy scratch tacos and handmade margaritas starting at 4 p.m.
URL:https://new.miamisprings.com/event/taco-tuesday-at-hole-19-2024-11-19/
LOCATION:Hole 19 Scratch Kitchen and Bar (Inside the Miami Springs Golf & Country Club)\, 650 Curtiss Parkway\, Miami Springs\, FL\, 33166\, United States
CATEGORIES:Entertainment
ATTACH;FMTTYPE=image/jpeg:https://new.miamisprings.com/wp-content/uploads/2023/06/356357795_825766612309085_1704129196555381487_n-e1709828633786.jpg
END:VEVENT
BEGIN:VEVENT
DTSTART;TZID=America/New_York:20241126T160000
DTEND;TZID=America/New_York:20241126T160000
DTSTAMP:20260419T181316
CREATED:20230626T125826Z
LAST-MODIFIED:20230626T125826Z
UID:204473-1732636800-1732636800@new.miamisprings.com
SUMMARY:Taco Tuesday at Hole 19
DESCRIPTION:Come enjoy scratch tacos and handmade margaritas starting at 4 p.m.
URL:https://new.miamisprings.com/event/taco-tuesday-at-hole-19-2024-11-26/
LOCATION:Hole 19 Scratch Kitchen and Bar (Inside the Miami Springs Golf & Country Club)\, 650 Curtiss Parkway\, Miami Springs\, FL\, 33166\, United States
CATEGORIES:Entertainment
ATTACH;FMTTYPE=image/jpeg:https://new.miamisprings.com/wp-content/uploads/2023/06/356357795_825766612309085_1704129196555381487_n-e1709828633786.jpg
END:VEVENT
END:VCALENDAR