BEGIN:VCALENDAR
VERSION:2.0
PRODID:-//MiamiSprings.com | Miami Springs News and Events - ECPv6.15.15//NONSGML v1.0//EN
CALSCALE:GREGORIAN
METHOD:PUBLISH
X-ORIGINAL-URL:https://new.miamisprings.com
X-WR-CALDESC:Events for MiamiSprings.com | Miami Springs News and Events
REFRESH-INTERVAL;VALUE=DURATION:PT1H
X-Robots-Tag:noindex
X-PUBLISHED-TTL:PT1H
BEGIN:VTIMEZONE
TZID:America/New_York
BEGIN:DAYLIGHT
TZOFFSETFROM:-0500
TZOFFSETTO:-0400
TZNAME:EDT
DTSTART:20230312T070000
END:DAYLIGHT
BEGIN:STANDARD
TZOFFSETFROM:-0400
TZOFFSETTO:-0500
TZNAME:EST
DTSTART:20231105T060000
END:STANDARD
BEGIN:DAYLIGHT
TZOFFSETFROM:-0500
TZOFFSETTO:-0400
TZNAME:EDT
DTSTART:20240310T070000
END:DAYLIGHT
BEGIN:STANDARD
TZOFFSETFROM:-0400
TZOFFSETTO:-0500
TZNAME:EST
DTSTART:20241103T060000
END:STANDARD
BEGIN:DAYLIGHT
TZOFFSETFROM:-0500
TZOFFSETTO:-0400
TZNAME:EDT
DTSTART:20250309T070000
END:DAYLIGHT
BEGIN:STANDARD
TZOFFSETFROM:-0400
TZOFFSETTO:-0500
TZNAME:EST
DTSTART:20251102T060000
END:STANDARD
END:VTIMEZONE
BEGIN:VEVENT
DTSTART;TZID=America/New_York:20241203T160000
DTEND;TZID=America/New_York:20241203T160000
DTSTAMP:20260419T162725
CREATED:20230626T125826Z
LAST-MODIFIED:20230626T125826Z
UID:204474-1733241600-1733241600@new.miamisprings.com
SUMMARY:Taco Tuesday at Hole 19
DESCRIPTION:Come enjoy scratch tacos and handmade margaritas starting at 4 p.m.
URL:https://new.miamisprings.com/event/taco-tuesday-at-hole-19-2024-12-03/
LOCATION:Hole 19 Scratch Kitchen and Bar (Inside the Miami Springs Golf & Country Club)\, 650 Curtiss Parkway\, Miami Springs\, FL\, 33166\, United States
CATEGORIES:Entertainment
ATTACH;FMTTYPE=image/jpeg:https://new.miamisprings.com/wp-content/uploads/2023/06/356357795_825766612309085_1704129196555381487_n-e1709828633786.jpg
END:VEVENT
BEGIN:VEVENT
DTSTART;TZID=America/New_York:20241207T180000
DTEND;TZID=America/New_York:20241207T210000
DTSTAMP:20260419T162725
CREATED:20241117T180429Z
LAST-MODIFIED:20241117T180429Z
UID:205438-1733594400-1733605200@new.miamisprings.com
SUMMARY:Christmas at the Gazebo
DESCRIPTION:Mark your calendars for December 7th and get ready for a magical evening filled with Santa photos\, rides\, food\, and even snow. \nThe festivities begin with Santa’s Parade at 5:45 PM at City Hall\, followed by fun at the Gazebo from 6:00 PM to 9:00 PM. \nWristbands are required: \n\nResidents: Presale $8 (available tomorrow at the Community Center)\, $10 day of event\nNon-Residents: $20 (on sale starting December 2)\n\nDon’t miss out on this unforgettable holiday celebration!
URL:https://new.miamisprings.com/event/christmas-at-the-gazebo-3/
LOCATION:Miami Springs Circle Park\, 100 Curtiss Parkway\, Miami Springs\, FL\, 33166\, United States
CATEGORIES:Community Events,Entertainment
ATTACH;FMTTYPE=image/jpeg:https://new.miamisprings.com/wp-content/uploads/2024/11/gazebo.jpg
END:VEVENT
BEGIN:VEVENT
DTSTART;TZID=America/New_York:20241208T140000
DTEND;TZID=America/New_York:20241208T170000
DTSTAMP:20260419T162725
CREATED:20241125T091814Z
LAST-MODIFIED:20241125T092003Z
UID:205887-1733666400-1733677200@new.miamisprings.com
SUMMARY:Young Pelican Holiday Show
DESCRIPTION:Catch Pelican Playhouse Miami Springs’ youngest Pelicans in the spotlight at The Rebeca Sosa Theater! Join us for the show and a cookie social afterward. \nLocation: 2nd Floor\, Miami Springs Community Center\, 1401 Westward Drive\, Miami Springs\, FL 33166 \nFree Admission. Donations of cookies or money welcomedS at the door. See you there!
URL:https://new.miamisprings.com/event/young-pelican-holiday-show/
LOCATION:Rebeca Sosa Theater\, 1401 Westward Drive (2nd Floor)\, Miami Springs\, FL\, 33166\, United States
CATEGORIES:Entertainment
ATTACH;FMTTYPE=image/jpeg:https://new.miamisprings.com/wp-content/uploads/2024/11/467994222_1845282052889210_7265410082997802776_n.jpg
END:VEVENT
BEGIN:VEVENT
DTSTART;TZID=America/New_York:20241210T160000
DTEND;TZID=America/New_York:20241210T160000
DTSTAMP:20260419T162725
CREATED:20230626T125826Z
LAST-MODIFIED:20230626T125826Z
UID:204475-1733846400-1733846400@new.miamisprings.com
SUMMARY:Taco Tuesday at Hole 19
DESCRIPTION:Come enjoy scratch tacos and handmade margaritas starting at 4 p.m.
URL:https://new.miamisprings.com/event/taco-tuesday-at-hole-19-2024-12-10/
LOCATION:Hole 19 Scratch Kitchen and Bar (Inside the Miami Springs Golf & Country Club)\, 650 Curtiss Parkway\, Miami Springs\, FL\, 33166\, United States
CATEGORIES:Entertainment
ATTACH;FMTTYPE=image/jpeg:https://new.miamisprings.com/wp-content/uploads/2023/06/356357795_825766612309085_1704129196555381487_n-e1709828633786.jpg
END:VEVENT
BEGIN:VEVENT
DTSTART;TZID=America/New_York:20241213T183000
DTEND;TZID=America/New_York:20241213T183000
DTSTAMP:20260419T162725
CREATED:20241122T195649Z
LAST-MODIFIED:20241122T195649Z
UID:205869-1734114600-1734114600@new.miamisprings.com
SUMMARY:Holiday Movie Night
DESCRIPTION:Join us at the Miami Springs Aquatic Center on Friday\, Dec. 13\, for a holiday movie night starting at 6:30 PM. This free event is exclusively for MS/VG residents (ID required). Enjoy free refreshments\, goodie bags\, and a cozy evening—don’t forget to bring chairs\, blankets\, and pillows! Movie title to be announced.
URL:https://new.miamisprings.com/event/holiday-movie-night/
LOCATION:Miami Springs Aquatic Center\, 1404 Westward Drive\, Miami Springs\, 33166
CATEGORIES:Community Events,Entertainment
ATTACH;FMTTYPE=image/jpeg:https://new.miamisprings.com/wp-content/uploads/2024/11/467872599_1611471166117068_7688948485891806521_n.jpg
END:VEVENT
BEGIN:VEVENT
DTSTART;TZID=America/New_York:20241217T160000
DTEND;TZID=America/New_York:20241217T160000
DTSTAMP:20260419T162725
CREATED:20230626T125826Z
LAST-MODIFIED:20230626T125826Z
UID:204476-1734451200-1734451200@new.miamisprings.com
SUMMARY:Taco Tuesday at Hole 19
DESCRIPTION:Come enjoy scratch tacos and handmade margaritas starting at 4 p.m.
URL:https://new.miamisprings.com/event/taco-tuesday-at-hole-19-2024-12-17/
LOCATION:Hole 19 Scratch Kitchen and Bar (Inside the Miami Springs Golf & Country Club)\, 650 Curtiss Parkway\, Miami Springs\, FL\, 33166\, United States
CATEGORIES:Entertainment
ATTACH;FMTTYPE=image/jpeg:https://new.miamisprings.com/wp-content/uploads/2023/06/356357795_825766612309085_1704129196555381487_n-e1709828633786.jpg
END:VEVENT
BEGIN:VEVENT
DTSTART;TZID=America/New_York:20241224T160000
DTEND;TZID=America/New_York:20241224T160000
DTSTAMP:20260419T162725
CREATED:20230626T125826Z
LAST-MODIFIED:20230626T125826Z
UID:204477-1735056000-1735056000@new.miamisprings.com
SUMMARY:Taco Tuesday at Hole 19
DESCRIPTION:Come enjoy scratch tacos and handmade margaritas starting at 4 p.m.
URL:https://new.miamisprings.com/event/taco-tuesday-at-hole-19-2024-12-24/
LOCATION:Hole 19 Scratch Kitchen and Bar (Inside the Miami Springs Golf & Country Club)\, 650 Curtiss Parkway\, Miami Springs\, FL\, 33166\, United States
CATEGORIES:Entertainment
ATTACH;FMTTYPE=image/jpeg:https://new.miamisprings.com/wp-content/uploads/2023/06/356357795_825766612309085_1704129196555381487_n-e1709828633786.jpg
END:VEVENT
BEGIN:VEVENT
DTSTART;TZID=America/New_York:20241224T180000
DTEND;TZID=America/New_York:20241224T180000
DTSTAMP:20260419T162725
CREATED:20241220T140021Z
LAST-MODIFIED:20241220T150656Z
UID:206265-1735063200-1735063200@new.miamisprings.com
SUMMARY:Christmas Eve Traditional Candle Lighting Service
DESCRIPTION:Join us…ALL ARE WELCOMED!We are located at 300 North Royal Poinciana Blvd in Miami Springs. Please share this post. God Bless
URL:https://new.miamisprings.com/event/christmas-eve-traditional-candle-lighting-service/
LOCATION:Poinciana United Methodist Church\, 300 North Royal Poinciana Boulevard\, Miami Springs\, FL\, 33166\, United States
CATEGORIES:Entertainment
ATTACH;FMTTYPE=image/jpeg:https://new.miamisprings.com/wp-content/uploads/2024/12/470795163_932088565688952_8677432292645040569_n.jpg
END:VEVENT
BEGIN:VEVENT
DTSTART;TZID=America/New_York:20241228T210000
DTEND;TZID=America/New_York:20241228T210000
DTSTAMP:20260419T162725
CREATED:20241223T054205Z
LAST-MODIFIED:20241227T132926Z
UID:206311-1735419600-1735419600@new.miamisprings.com
SUMMARY:80s Freestyle Bash at Miami Springs Country Club
DESCRIPTION:
URL:https://new.miamisprings.com/event/80s-freestyle-bash-at-miami-springs-country-club/
LOCATION:Hole 19 Scratch Kitchen and Bar (Inside the Miami Springs Golf & Country Club)\, 650 Curtiss Parkway\, Miami Springs\, FL\, 33166\, United States
CATEGORIES:Entertainment
ATTACH;FMTTYPE=image/jpeg:https://new.miamisprings.com/wp-content/uploads/2024/12/471268794_10162663898261054_6064409053185510402_n.jpg
END:VEVENT
BEGIN:VEVENT
DTSTART;TZID=America/New_York:20241231T080000
DTEND;TZID=America/New_York:20241231T170000
DTSTAMP:20260419T162725
CREATED:20241120T195929Z
LAST-MODIFIED:20241120T195929Z
UID:205665-1735632000-1735664400@new.miamisprings.com
SUMMARY:New Year’s Eve Celebration at Hole 19
DESCRIPTION:Looking for the ultimate way to welcome 2024? Look no further! Join us at the Miami Springs Golf & Country Club for an unforgettable New Year’s Eve celebration on Tuesday\, December 31st\, from 8:00 PM to 2:00 AM. \nThis is your chance to ring in the New Year surrounded by great music\, delicious food\, and the best crowd in Miami. But hurry—space is limited\, and tickets are selling fast! \nReserve your spot exclusively on our website. \nDon’t miss this epic bash to start the year with a bang. Let’s make 2024 a year to remember together!
URL:https://new.miamisprings.com/event/new-years-eve-celebration-at-hole-19/
LOCATION:Hole 19 Scratch Kitchen and Bar (Inside the Miami Springs Golf & Country Club)\, 650 Curtiss Parkway\, Miami Springs\, FL\, 33166\, United States
CATEGORIES:Entertainment
ATTACH;FMTTYPE=image/jpeg:https://new.miamisprings.com/wp-content/uploads/2024/11/467938080_18065715868708286_5602723759679208671_n-1.jpg
END:VEVENT
END:VCALENDAR