BEGIN:VCALENDAR
VERSION:2.0
PRODID:-//MiamiSprings.com | Miami Springs News and Events - ECPv6.15.15//NONSGML v1.0//EN
CALSCALE:GREGORIAN
METHOD:PUBLISH
X-WR-CALNAME:MiamiSprings.com | Miami Springs News and Events
X-ORIGINAL-URL:https://new.miamisprings.com
X-WR-CALDESC:Events for MiamiSprings.com | Miami Springs News and Events
REFRESH-INTERVAL;VALUE=DURATION:PT1H
X-Robots-Tag:noindex
X-PUBLISHED-TTL:PT1H
BEGIN:VTIMEZONE
TZID:America/New_York
BEGIN:DAYLIGHT
TZOFFSETFROM:-0500
TZOFFSETTO:-0400
TZNAME:EDT
DTSTART:20240310T070000
END:DAYLIGHT
BEGIN:STANDARD
TZOFFSETFROM:-0400
TZOFFSETTO:-0500
TZNAME:EST
DTSTART:20241103T060000
END:STANDARD
BEGIN:DAYLIGHT
TZOFFSETFROM:-0500
TZOFFSETTO:-0400
TZNAME:EDT
DTSTART:20250309T070000
END:DAYLIGHT
BEGIN:STANDARD
TZOFFSETFROM:-0400
TZOFFSETTO:-0500
TZNAME:EST
DTSTART:20251102T060000
END:STANDARD
BEGIN:DAYLIGHT
TZOFFSETFROM:-0500
TZOFFSETTO:-0400
TZNAME:EDT
DTSTART:20260308T070000
END:DAYLIGHT
BEGIN:STANDARD
TZOFFSETFROM:-0400
TZOFFSETTO:-0500
TZNAME:EST
DTSTART:20261101T060000
END:STANDARD
END:VTIMEZONE
BEGIN:VEVENT
DTSTART;TZID=America/New_York:20250209T193000
DTEND;TZID=America/New_York:20250209T193000
DTSTAMP:20260419T112447
CREATED:20250130T115214Z
LAST-MODIFIED:20250130T115214Z
UID:206917-1739129400-1739129400@new.miamisprings.com
SUMMARY:Super Bowl Watch Party at Hole 19
DESCRIPTION:Looking for the ultimate Super Bowl watch party experience? Hole 19 is the place to be! \nWe’ve got unbeatable drink and food specials\, full game-day sound for the perfect atmosphere\, and an exciting Beer Pong Tournament with amazing prizes. \nPlus\, enjoy free pool and domino tables for even more fun. \nNo matter who takes home the trophy\, it’s guaranteed to be a great time for the whole family!
URL:https://new.miamisprings.com/event/super-bowl-watch-party-at-hole-19-2/
LOCATION:Hole 19 Scratch Kitchen and Bar (Inside the Miami Springs Golf & Country Club)\, 650 Curtiss Parkway\, Miami Springs\, FL\, 33166\, United States
CATEGORIES:Entertainment
ATTACH;FMTTYPE=image/jpeg:https://new.miamisprings.com/wp-content/uploads/2025/01/475411308_18072496756708286_4368391866440944130_n.jpg
END:VEVENT
END:VCALENDAR