BEGIN:VCALENDAR
VERSION:2.0
PRODID:-//MiamiSprings.com | Miami Springs News and Events - ECPv6.15.15//NONSGML v1.0//EN
CALSCALE:GREGORIAN
METHOD:PUBLISH
X-WR-CALNAME:MiamiSprings.com | Miami Springs News and Events
X-ORIGINAL-URL:https://new.miamisprings.com
X-WR-CALDESC:Events for MiamiSprings.com | Miami Springs News and Events
REFRESH-INTERVAL;VALUE=DURATION:PT1H
X-Robots-Tag:noindex
X-PUBLISHED-TTL:PT1H
BEGIN:VTIMEZONE
TZID:America/New_York
BEGIN:DAYLIGHT
TZOFFSETFROM:-0500
TZOFFSETTO:-0400
TZNAME:EDT
DTSTART:20240310T070000
END:DAYLIGHT
BEGIN:STANDARD
TZOFFSETFROM:-0400
TZOFFSETTO:-0500
TZNAME:EST
DTSTART:20241103T060000
END:STANDARD
BEGIN:DAYLIGHT
TZOFFSETFROM:-0500
TZOFFSETTO:-0400
TZNAME:EDT
DTSTART:20250309T070000
END:DAYLIGHT
BEGIN:STANDARD
TZOFFSETFROM:-0400
TZOFFSETTO:-0500
TZNAME:EST
DTSTART:20251102T060000
END:STANDARD
BEGIN:DAYLIGHT
TZOFFSETFROM:-0500
TZOFFSETTO:-0400
TZNAME:EDT
DTSTART:20260308T070000
END:DAYLIGHT
BEGIN:STANDARD
TZOFFSETFROM:-0400
TZOFFSETTO:-0500
TZNAME:EST
DTSTART:20261101T060000
END:STANDARD
END:VTIMEZONE
BEGIN:VEVENT
DTSTART;TZID=America/New_York:20250705T200000
DTEND;TZID=America/New_York:20250705T200000
DTSTAMP:20260419T082223
CREATED:20250522T131920Z
LAST-MODIFIED:20250522T131920Z
UID:208533-1751745600-1751745600@new.miamisprings.com
SUMMARY:Members Only Live at Hole 19
DESCRIPTION:Catch the best local bands at Hole 19 Scratch Kitchen every Friday night at 8 PM! From rock to retro\, you’ll find your vibe with live acts like Viva\, Adele & Harmony\, Southern Stampede\, and more. \nReserve your table now at Hole19ScratchKitchen.com
URL:https://new.miamisprings.com/event/members-only-live-at-hole-19/
LOCATION:Hole 19 Scratch Kitchen and Bar (Inside the Miami Springs Golf & Country Club)\, 650 Curtiss Parkway\, Miami Springs\, FL\, 33166\, United States
CATEGORIES:Entertainment
ATTACH;FMTTYPE=image/jpeg:https://new.miamisprings.com/wp-content/uploads/2023/07/498686123_18082839220708286_7025550404111720303_n.jpg
END:VEVENT
BEGIN:VEVENT
DTSTART;TZID=America/New_York:20250705T180000
DTEND;TZID=America/New_York:20250705T220000
DTSTAMP:20260419T082223
CREATED:20250625T214437Z
LAST-MODIFIED:20250625T214437Z
UID:209165-1751738400-1751752800@new.miamisprings.com
SUMMARY:28th Annual Miami Springs Classic Car & Truck Show
DESCRIPTION:28th Annual Miami Springs Classic Car & Truck Show is on July 5th\, 6–10PM at Miami Springs Circle. Featuring the new Curtiss Derby by Cub Scout Pack 425\, music by DJ Scott the Music Man\, and classic cars on display.
URL:https://new.miamisprings.com/event/28th-annual-miami-springs-classic-car-truck-show/
LOCATION:Miami Springs Circle Park\, 100 Curtiss Parkway\, Miami Springs\, FL\, 33166\, United States
CATEGORIES:Entertainment
ATTACH;FMTTYPE=image/jpeg:https://new.miamisprings.com/wp-content/uploads/2025/06/MSC.jpg
END:VEVENT
BEGIN:VEVENT
DTSTART;TZID=America/New_York:20250705T180000
DTEND;TZID=America/New_York:20250705T220000
DTSTAMP:20260419T082223
CREATED:20250617T232732Z
LAST-MODIFIED:20250617T235953Z
UID:209048-1751738400-1751752800@new.miamisprings.com
SUMMARY:Classic Car Show - Saturday July\, 5th
DESCRIPTION:The annual Classic Car Show on the Circle has moved from its traditional July 3rd date to July 5th.  Since this year’s Independence Day falls on a Friday\, the Car Show will be held on the Saturday following the holiday. \n\n			\n				\n			\n			\n				\n			\n			\n				\n			\n			\n				\n			\n			\n				\n			\n			\n				\n			\n			\n				\n			\n			\n				\n			\n			\n				\n			\n			\n				\n			\n			\n				\n			\n			\n				\n			\n			\n				\n			\n			\n				\n			\n			\n				\n			\n			\n				\n			\n			\n				\n			\n			\n				\n			\n			\n				\n			\n			\n				\n			\n			\n				\n			\n			\n				\n			\n			\n				\n			\n			\n				\n			\n			\n				\n			\n			\n				\n			\n			\n				\n			\n			\n				\n			\n			\n				\n			\n			\n				\n			\n			\n				\n			\n			\n				\n			\n			\n				\n			\n			\n				\n			\n			\n				\n			\n			\n				\n			\n			\n				\n			\n			\n				\n			\n			\n				\n			\n			\n				\n			\n			\n				\n			\n			\n				\n			\n			\n				\n			\n			\n				\n			\n			\n				\n			\n			\n				\n			\n			\n				\n			\n			\n				\n			\n			\n				\n			\n			\n				\n			\n			\n				\n			\n			\n				\n			\n			\n				\n			\n			\n				\n			\n			\n				\n			\n			\n				\n			\n			\n				\n			\n			\n				\n			\n			\n				\n			\n			\n				\n			\n			\n				\n			\n			\n				\n			\n			\n				\n			\n			\n				\n			\n			\n				\n			\n			\n				\n			\n			\n				\n			\n			\n				\n			\n			\n				\n			\n			\n				\n			\n			\n				\n			\n			\n				\n			\n			\n				\n			\n			\n				\n			\n			\n				\n			\n			\n				\n			\n			\n				\n			\n			\n				\n			\n			\n				\n			\n			\n				\n			\n			\n				\n			\n			\n				\n			\n			\n				\n			\n			\n				\n			\n			\n				\n			\n			\n				\n			\n			\n				\n			\n			\n				\n			\n			\n				\n			\n			\n				\n			\n			\n				\n			\n			\n				\n			\n			\n				\n			\n			\n				\n			\n			\n				\n			\n			\n				\n			\n			\n				\n			\n			\n				\n			\n			\n				\n			\n			\n				\n			\n			\n				\n			\n			\n				\n			\n			\n				\n			\n			\n				\n			\n			\n				\n			\n				\n				Detective David Bente and the legend\, retired Miami Springs Police Officer Don Mazzone at the July 3rd Car Show
URL:https://new.miamisprings.com/event/classic-car-show-saturday-july-5th/
LOCATION:Miami Springs Circle Park\, 100 Curtiss Parkway\, Miami Springs\, FL\, 33166\, United States
CATEGORIES:Community Events,Entertainment
ATTACH;FMTTYPE=image/jpeg:https://new.miamisprings.com/wp-content/uploads/2024/07/IMG_1997.jpg
END:VEVENT
BEGIN:VEVENT
DTSTART;TZID=America/New_York:20250704T200000
DTEND;TZID=America/New_York:20250704T200000
DTSTAMP:20260419T082223
CREATED:20250311T132353Z
LAST-MODIFIED:20250311T132353Z
UID:208632-1751659200-1751659200@new.miamisprings.com
SUMMARY:Friday Night Dance and Disco Party!
DESCRIPTION:
URL:https://new.miamisprings.com/event/friday-night-dance-and-disco-party-3-2025-07-04/
LOCATION:Hole 19 Scratch Kitchen and Bar (Inside the Miami Springs Golf & Country Club)\, 650 Curtiss Parkway\, Miami Springs\, FL\, 33166\, United States
CATEGORIES:Entertainment
ATTACH;FMTTYPE=image/jpeg:https://new.miamisprings.com/wp-content/uploads/2025/03/FRI.jpg
END:VEVENT
BEGIN:VEVENT
DTSTART;TZID=America/New_York:20250628T193000
DTEND;TZID=America/New_York:20250628T230000
DTSTAMP:20260419T082223
CREATED:20221018T201701Z
LAST-MODIFIED:20250522T131240Z
UID:171324-1751139000-1751151600@new.miamisprings.com
SUMMARY:Southern Stampede Band Live at Hole 19
DESCRIPTION:Catch the best local bands at Hole 19 Scratch Kitchen every Friday night at 8 PM! From rock to retro! \nReserve your table now at Hole19ScratchKitchen.com
URL:https://new.miamisprings.com/event/aj-southern-stampede-band-live-at-hole-19/
LOCATION:Hole 19 Scratch Kitchen and Bar (Inside the Miami Springs Golf & Country Club)\, 650 Curtiss Parkway\, Miami Springs\, FL\, 33166\, United States
CATEGORIES:Entertainment
ATTACH;FMTTYPE=image/jpeg:https://new.miamisprings.com/wp-content/uploads/2022/10/w926.jpg
END:VEVENT
BEGIN:VEVENT
DTSTART;TZID=America/New_York:20250627T200000
DTEND;TZID=America/New_York:20250627T200000
DTSTAMP:20260419T082223
CREATED:20250311T132353Z
LAST-MODIFIED:20250311T132353Z
UID:208631-1751054400-1751054400@new.miamisprings.com
SUMMARY:Friday Night Dance and Disco Party!
DESCRIPTION:
URL:https://new.miamisprings.com/event/friday-night-dance-and-disco-party-3-2025-06-27/
LOCATION:Hole 19 Scratch Kitchen and Bar (Inside the Miami Springs Golf & Country Club)\, 650 Curtiss Parkway\, Miami Springs\, FL\, 33166\, United States
CATEGORIES:Entertainment
ATTACH;FMTTYPE=image/jpeg:https://new.miamisprings.com/wp-content/uploads/2025/03/FRI.jpg
END:VEVENT
BEGIN:VEVENT
DTSTART;TZID=America/New_York:20250620T200000
DTEND;TZID=America/New_York:20250620T200000
DTSTAMP:20260419T082223
CREATED:20250311T132353Z
LAST-MODIFIED:20250311T132353Z
UID:208630-1750449600-1750449600@new.miamisprings.com
SUMMARY:Friday Night Dance and Disco Party!
DESCRIPTION:
URL:https://new.miamisprings.com/event/friday-night-dance-and-disco-party-3-2025-06-20/
LOCATION:Hole 19 Scratch Kitchen and Bar (Inside the Miami Springs Golf & Country Club)\, 650 Curtiss Parkway\, Miami Springs\, FL\, 33166\, United States
CATEGORIES:Entertainment
ATTACH;FMTTYPE=image/jpeg:https://new.miamisprings.com/wp-content/uploads/2025/03/FRI.jpg
END:VEVENT
BEGIN:VEVENT
DTSTART;TZID=America/New_York:20250613T200000
DTEND;TZID=America/New_York:20250613T200000
DTSTAMP:20260419T082223
CREATED:20250311T132353Z
LAST-MODIFIED:20250311T132353Z
UID:208629-1749844800-1749844800@new.miamisprings.com
SUMMARY:Friday Night Dance and Disco Party!
DESCRIPTION:
URL:https://new.miamisprings.com/event/friday-night-dance-and-disco-party-3-2025-06-13/
LOCATION:Hole 19 Scratch Kitchen and Bar (Inside the Miami Springs Golf & Country Club)\, 650 Curtiss Parkway\, Miami Springs\, FL\, 33166\, United States
CATEGORIES:Entertainment
ATTACH;FMTTYPE=image/jpeg:https://new.miamisprings.com/wp-content/uploads/2025/03/FRI.jpg
END:VEVENT
BEGIN:VEVENT
DTSTART;TZID=America/New_York:20250607T200000
DTEND;TZID=America/New_York:20250607T200000
DTSTAMP:20260419T082223
CREATED:20250522T131712Z
LAST-MODIFIED:20250522T132318Z
UID:208529-1749326400-1749326400@new.miamisprings.com
SUMMARY:Out of The Ashes Live Hole 19
DESCRIPTION:Catch the best local bands at Hole 19 Scratch Kitchen every Friday night at 8 PM! From rock to retro\, you’ll find your vibe with live acts like Viva\, Adele & Harmony\, Southern Stampede\, and more. \nReserve your table now at Hole19ScratchKitchen.com
URL:https://new.miamisprings.com/event/out-of-the-ashes-live-hole-19/
LOCATION:Hole 19 Scratch Kitchen and Bar (Inside the Miami Springs Golf & Country Club)\, 650 Curtiss Parkway\, Miami Springs\, FL\, 33166\, United States
CATEGORIES:Entertainment
ATTACH;FMTTYPE=image/jpeg:https://new.miamisprings.com/wp-content/uploads/2023/07/498686123_18082839220708286_7025550404111720303_n.jpg
END:VEVENT
BEGIN:VEVENT
DTSTART;TZID=America/New_York:20250607T190000
DTEND;TZID=America/New_York:20250607T190000
DTSTAMP:20260419T082223
CREATED:20250519T194058Z
LAST-MODIFIED:20250519T194130Z
UID:208484-1749322800-1749322800@new.miamisprings.com
SUMMARY:SoFlo Showdown Series: 2025 Home Schedule
DESCRIPTION:The SoFlo Showdown Series is heating up this summer. June 7 is Fire & Fury. July 26 brings Jurassic Jam. September 6 wraps with Frankenslam. All games at Miami Springs Rec Center. Full schedule and tickets at miamirollerderby.com. \n1. SoFlo Showdown Series: Fire & Fury – June 7The SoFlo Showdown Series kicks off June 7 with Fire & Fury. SoFlo Ridas face Swan City in a full-contact roller derby clash. Catch it at Miami Springs Rec Center. Details at miamirollerderby.com. \n\n2. SoFlo Showdown Series: Jurassic Jam – July 26Jurassic Jam hits July 26. Don’t miss SoFlo Ridas vs. Fort Myers in this wild summer showdown. It’s derby with bite. Happening at Miami Springs Rec Center. More info at miamirollerderby.com. \n\n3. SoFlo Showdown Series: Frankenslam – September 6Wrap up the summer at Frankenslam on September 6. SoFlo Ridas take on the Bradentucky Bombers in a fierce fall face-off. All at Miami Springs Rec Center. Get tickets at miamirollerderby.com.
URL:https://new.miamisprings.com/event/soflo-showdown-series-2025-home-schedule/
LOCATION:Miami Springs Rec Center\, 1401 Westward Drive\, Miami Springs\, FL\, 33166\, United States
CATEGORIES:Entertainment
ATTACH;FMTTYPE=image/jpeg:https://new.miamisprings.com/wp-content/uploads/2025/05/494687726_690158393955596_3085794465387687395_n.jpg
END:VEVENT
BEGIN:VEVENT
DTSTART;TZID=America/New_York:20250606T200000
DTEND;TZID=America/New_York:20250606T200000
DTSTAMP:20260419T082223
CREATED:20250311T132353Z
LAST-MODIFIED:20250311T132353Z
UID:208628-1749240000-1749240000@new.miamisprings.com
SUMMARY:Friday Night Dance and Disco Party!
DESCRIPTION:
URL:https://new.miamisprings.com/event/friday-night-dance-and-disco-party-3-2025-06-06/
LOCATION:Hole 19 Scratch Kitchen and Bar (Inside the Miami Springs Golf & Country Club)\, 650 Curtiss Parkway\, Miami Springs\, FL\, 33166\, United States
CATEGORIES:Entertainment
ATTACH;FMTTYPE=image/jpeg:https://new.miamisprings.com/wp-content/uploads/2025/03/FRI.jpg
END:VEVENT
BEGIN:VEVENT
DTSTART;TZID=America/New_York:20250531T200000
DTEND;TZID=America/New_York:20250531T200000
DTSTAMP:20260419T082223
CREATED:20250307T130956Z
LAST-MODIFIED:20251003T124229Z
UID:208258-1748721600-1748721600@new.miamisprings.com
SUMMARY:Viva Classic Rock Live at Hole 19
DESCRIPTION:Catch the best local bands at Hole 19 Scratch Kitchen every Friday night at 8 PM! From rock to retro! \nReserve your table now at Hole19ScratchKitchen.com
URL:https://new.miamisprings.com/event/viva-classic-rock-live-at-hole-19-4-2025-06-14-2025-05-31/
LOCATION:Hole 19 Scratch Kitchen and Bar (Inside the Miami Springs Golf & Country Club)\, 650 Curtiss Parkway\, Miami Springs\, FL\, 33166\, United States
CATEGORIES:Entertainment
ATTACH;FMTTYPE=image/jpeg:https://new.miamisprings.com/wp-content/uploads/2025/03/Untitled-1.jpg
END:VEVENT
BEGIN:VEVENT
DTSTART;TZID=America/New_York:20250530T200000
DTEND;TZID=America/New_York:20250530T200000
DTSTAMP:20260419T082223
CREATED:20250311T132353Z
LAST-MODIFIED:20250311T132353Z
UID:208455-1748635200-1748635200@new.miamisprings.com
SUMMARY:Friday Night Dance and Disco Party!
DESCRIPTION:
URL:https://new.miamisprings.com/event/friday-night-dance-and-disco-party-3-2025-05-30/
LOCATION:Hole 19 Scratch Kitchen and Bar (Inside the Miami Springs Golf & Country Club)\, 650 Curtiss Parkway\, Miami Springs\, FL\, 33166\, United States
CATEGORIES:Entertainment
ATTACH;FMTTYPE=image/jpeg:https://new.miamisprings.com/wp-content/uploads/2025/03/FRI.jpg
END:VEVENT
BEGIN:VEVENT
DTSTART;TZID=America/New_York:20250523T200000
DTEND;TZID=America/New_York:20250523T200000
DTSTAMP:20260419T082223
CREATED:20250311T132353Z
LAST-MODIFIED:20250311T132353Z
UID:208454-1748030400-1748030400@new.miamisprings.com
SUMMARY:Friday Night Dance and Disco Party!
DESCRIPTION:
URL:https://new.miamisprings.com/event/friday-night-dance-and-disco-party-3-2025-05-23/
LOCATION:Hole 19 Scratch Kitchen and Bar (Inside the Miami Springs Golf & Country Club)\, 650 Curtiss Parkway\, Miami Springs\, FL\, 33166\, United States
CATEGORIES:Entertainment
ATTACH;FMTTYPE=image/jpeg:https://new.miamisprings.com/wp-content/uploads/2025/03/FRI.jpg
END:VEVENT
BEGIN:VEVENT
DTSTART;TZID=America/New_York:20250523T080000
DTEND;TZID=America/New_York:20250523T080000
DTSTAMP:20260419T082223
CREATED:20250512T162858Z
LAST-MODIFIED:20250512T162858Z
UID:208388-1747987200-1747987200@new.miamisprings.com
SUMMARY:Springview Bike Bus: Fifth Grade’s Farewell Ride
DESCRIPTION:Springview Bike Bus invites everyone to join the Fifth Grade’s Farewell Ride as we celebrate the Class of 2025 with a special ride to school! On Friday\, May 23\, meet us at 7:50 a.m. at the Miami Springs Rec Center (1401 Westward Drive). Pedals go up at 8 a.m. sharp\, with our amazing 5th graders leading the way. Let’s make this final ride one to remember!
URL:https://new.miamisprings.com/event/springview-bike-bus-fifth-grades-farewell-ride/
LOCATION:Miami Springs Rec Center\, 1401 Westward Drive\, Miami Springs\, FL\, 33166\, United States
CATEGORIES:Entertainment,Featured,School Event
ATTACH;FMTTYPE=image/jpeg:https://new.miamisprings.com/wp-content/uploads/2025/05/RIDE.jpg
END:VEVENT
BEGIN:VEVENT
DTSTART;TZID=America/New_York:20250510T200000
DTEND;TZID=America/New_York:20250510T200000
DTSTAMP:20260419T082223
CREATED:20250307T130956Z
LAST-MODIFIED:20250724T154838Z
UID:207471-1746907200-1746907200@new.miamisprings.com
SUMMARY:Viva Classic Rock Live at Hole 19
DESCRIPTION:Catch the best local bands at Hole 19 Scratch Kitchen every Friday night at 8 PM! From rock to retro! \nReserve your table now at Hole19ScratchKitchen.com
URL:https://new.miamisprings.com/event/viva-classic-rock-live-at-hole-19-4/
LOCATION:Hole 19 Scratch Kitchen and Bar (Inside the Miami Springs Golf & Country Club)\, 650 Curtiss Parkway\, Miami Springs\, FL\, 33166\, United States
CATEGORIES:Entertainment
ATTACH;FMTTYPE=image/jpeg:https://new.miamisprings.com/wp-content/uploads/2025/03/Untitled-1.jpg
END:VEVENT
BEGIN:VEVENT
DTSTART;TZID=America/New_York:20250509T200000
DTEND;TZID=America/New_York:20250509T200000
DTSTAMP:20260419T082223
CREATED:20250311T132353Z
LAST-MODIFIED:20251009T170848Z
UID:207563-1746820800-1746820800@new.miamisprings.com
SUMMARY:Friday Night Dance and Disco Party!
DESCRIPTION:
URL:https://new.miamisprings.com/event/friday-night-dance-and-disco-party-3-2025-05-09/
LOCATION:Hole 19 Scratch Kitchen and Bar (Inside the Miami Springs Golf & Country Club)\, 650 Curtiss Parkway\, Miami Springs\, FL\, 33166\, United States
CATEGORIES:Entertainment
ATTACH;FMTTYPE=image/jpeg:https://new.miamisprings.com/wp-content/uploads/2025/03/FRI.jpg
END:VEVENT
BEGIN:VEVENT
DTSTART;TZID=America/New_York:20250503T200000
DTEND;TZID=America/New_York:20250503T200000
DTSTAMP:20260419T082223
CREATED:20240401T184848Z
LAST-MODIFIED:20250424T131140Z
UID:192995-1746302400-1746302400@new.miamisprings.com
SUMMARY:The Groove Brothers Live at Hole 19
DESCRIPTION:We have some great bands lined up for you this month & as you know\, we get packed! Make your reservations on our website to ensure you have a table the night your favorite band plays.
URL:https://new.miamisprings.com/event/the-groove-brothers-live-at-hole-19/
LOCATION:Hole 19 Scratch Kitchen and Bar (Inside the Miami Springs Golf & Country Club)\, 650 Curtiss Parkway\, Miami Springs\, FL\, 33166\, United States
CATEGORIES:Entertainment
ATTACH;FMTTYPE=image/jpeg:https://new.miamisprings.com/wp-content/uploads/2023/02/GB.jpg
END:VEVENT
BEGIN:VEVENT
DTSTART;TZID=America/New_York:20250503T090000
DTEND;TZID=America/New_York:20250503T120000
DTSTAMP:20260419T082223
CREATED:20250415T122935Z
LAST-MODIFIED:20250415T122935Z
UID:208042-1746262800-1746273600@new.miamisprings.com
SUMMARY:4th Annual Family Bike Scavenger Hunt
DESCRIPTION:Join us for the 4th Annual Family Bike Scavenger Hunt—Saturday\, May 3 from 9AM–12PM at Virginia Gardens Park! Solve clues\, explore landmarks & race to win. Free event! Register by 4/30 at VG City Hall.
URL:https://new.miamisprings.com/event/4th-annual-family-bike-scavenger-hunt/
LOCATION:Virginia Gardens Park\, 6498 NW 38 Terrace\, Virginia Gardens\, FL\, 33166\, United States
CATEGORIES:Community Events,Entertainment
ATTACH;FMTTYPE=image/jpeg:https://new.miamisprings.com/wp-content/uploads/2025/04/msvg.jpg
END:VEVENT
BEGIN:VEVENT
DTSTART;TZID=America/New_York:20250502T180000
DTEND;TZID=America/New_York:20250502T203000
DTSTAMP:20260419T082223
CREATED:20250408T075028Z
LAST-MODIFIED:20250408T075028Z
UID:207961-1746208800-1746217800@new.miamisprings.com
SUMMARY:3rd Annual Mother/Son Field Day
DESCRIPTION:Join us for the 3rd Annual Mother/Son Field Day on May 2\, 2025\, from 6–8:30 PM at the Community Center. Enjoy fun\, games\, and dinner. $30 per couple\, $15 each additional son. Space is limited — register today!
URL:https://new.miamisprings.com/event/3rd-annual-mother-son-field-day/
LOCATION:Miami Springs Adult Community Center\, 101 Apache\, Miami Springs\, FL\, 33166\, United States
CATEGORIES:Community Events,Entertainment
ATTACH;FMTTYPE=image/jpeg:https://new.miamisprings.com/wp-content/uploads/2025/04/msfd.jpg
END:VEVENT
BEGIN:VEVENT
DTSTART;TZID=America/New_York:20250426T193000
DTEND;TZID=America/New_York:20250426T193000
DTSTAMP:20260419T082223
CREATED:20240119T135609Z
LAST-MODIFIED:20250331T115309Z
UID:190413-1745695800-1745695800@new.miamisprings.com
SUMMARY:Havoc 305 Live at Hole 19
DESCRIPTION:We have some incredible bands lined up for you next month! PRO TIP: Reserve your table now at hole19scratchkitchen.com
URL:https://new.miamisprings.com/event/havoc-305-live-at-hole-19/
LOCATION:Hole 19 Scratch Kitchen and Bar (Inside the Miami Springs Golf & Country Club)\, 650 Curtiss Parkway\, Miami Springs\, FL\, 33166\, United States
CATEGORIES:Entertainment
ATTACH;FMTTYPE=image/jpeg:https://new.miamisprings.com/wp-content/uploads/2024/01/459457906_10226557309668108_4752177144658919301_n.jpg
END:VEVENT
BEGIN:VEVENT
DTSTART;VALUE=DATE:20250426
DTEND;VALUE=DATE:20250427
DTSTAMP:20260419T082223
CREATED:20250423T194837Z
LAST-MODIFIED:20250423T194837Z
UID:208227-1745625600-1745711999@new.miamisprings.com
SUMMARY:Play for a Cause: Texas Hold’em Charity Poker Night
DESCRIPTION:Join the Texas Hold’em Charity Poker Tournament on April 26\, 2025\, at Miami Springs Country Club. Hosted by the American Legion Auxiliary Unit 31\, the event features a $9\,500 prize pool and supports Fisher House Foundation. \n  \n$100 buy-in includes dinner and a cash bar\, with re-buys available until Round 7. To register\, contact Marilyn Blosser at 305.934.7705 or marilyn.blosser@comcast.net.
URL:https://new.miamisprings.com/event/play-for-a-cause-texas-holdem-charity-poker-night/
LOCATION:Miami Springs Golf & Country Club\, Miami Springs\, FL\, 33166\, United States
CATEGORIES:Charity Event,Community Events,Entertainment
ATTACH;FMTTYPE=image/jpeg:https://new.miamisprings.com/wp-content/uploads/2025/04/thp.jpg
END:VEVENT
BEGIN:VEVENT
DTSTART;TZID=America/New_York:20250424T180000
DTEND;TZID=America/New_York:20250424T230000
DTSTAMP:20260419T082223
CREATED:20240719T185500Z
LAST-MODIFIED:20240719T185500Z
UID:206441-1745517600-1745535600@new.miamisprings.com
SUMMARY:Cigars & Dominoes at Hole 19
DESCRIPTION:Every Thursday \n\n06:00 PM – 11:00 PM
URL:https://new.miamisprings.com/event/cigars-dominoes-2025-04-24/
LOCATION:Hole 19 Scratch Kitchen and Bar (Inside the Miami Springs Golf & Country Club)\, 650 Curtiss Parkway\, Miami Springs\, FL\, 33166\, United States
CATEGORIES:Entertainment
ATTACH;FMTTYPE=image/jpeg:https://new.miamisprings.com/wp-content/uploads/2024/07/w926.jpg
END:VEVENT
BEGIN:VEVENT
DTSTART;TZID=America/New_York:20250417T180000
DTEND;TZID=America/New_York:20250417T230000
DTSTAMP:20260419T082223
CREATED:20240719T185500Z
LAST-MODIFIED:20240719T185500Z
UID:206440-1744912800-1744930800@new.miamisprings.com
SUMMARY:Cigars & Dominoes at Hole 19
DESCRIPTION:Every Thursday \n\n06:00 PM – 11:00 PM
URL:https://new.miamisprings.com/event/cigars-dominoes-2025-04-17/
LOCATION:Hole 19 Scratch Kitchen and Bar (Inside the Miami Springs Golf & Country Club)\, 650 Curtiss Parkway\, Miami Springs\, FL\, 33166\, United States
CATEGORIES:Entertainment
ATTACH;FMTTYPE=image/jpeg:https://new.miamisprings.com/wp-content/uploads/2024/07/w926.jpg
END:VEVENT
BEGIN:VEVENT
DTSTART;TZID=America/New_York:20250412T220000
DTEND;TZID=America/New_York:20250412T220000
DTSTAMP:20260419T082223
CREATED:20240627T130958Z
LAST-MODIFIED:20250407T174559Z
UID:197242-1744495200-1744495200@new.miamisprings.com
SUMMARY:Silver Spine Live at River Cities Festival 2025
DESCRIPTION:Live at RCF 2025
URL:https://new.miamisprings.com/event/silver-spine-live-at-holesilver-spine-live-at-river-cities-festival-2025-19/
LOCATION:Miami Springs Circle Park\, 100 Curtiss Parkway\, Miami Springs\, FL\, 33166\, United States
CATEGORIES:Entertainment,River Cities Festival
ATTACH;FMTTYPE=image/jpeg:https://new.miamisprings.com/wp-content/uploads/2024/06/silverspine.jpg
END:VEVENT
BEGIN:VEVENT
DTSTART;TZID=America/New_York:20250412T200000
DTEND;TZID=America/New_York:20250412T220000
DTSTAMP:20260419T082223
CREATED:20250407T171655Z
LAST-MODIFIED:20250407T175848Z
UID:207902-1744488000-1744495200@new.miamisprings.com
SUMMARY:MNG Live at River Cities Festival 2025
DESCRIPTION:Mr Nice Guy or MNG Band formed in South Dade County in 2002. When deciding on a band name they chose Mr Nice Guy because the original members thought the band would be together for a couple of months (then no more Mr Nice Guy). Almost 23 years later the group has performed well over a thousand shows\, opened for many national acts\, and headlined several music festivals. This will be their 5th performance at the River Cities Festival and yes Maria will be there.
URL:https://new.miamisprings.com/event/mng-live-at-river-cities-festival/
LOCATION:Miami Springs Circle Park\, 100 Curtiss Parkway\, Miami Springs\, FL\, 33166\, United States
CATEGORIES:Entertainment,River Cities Festival
ATTACH;FMTTYPE=image/png:https://new.miamisprings.com/wp-content/uploads/2019/03/mng-band.png
END:VEVENT
BEGIN:VEVENT
DTSTART;TZID=America/New_York:20250412T180000
DTEND;TZID=America/New_York:20250412T200000
DTSTAMP:20260419T082223
CREATED:20250407T173405Z
LAST-MODIFIED:20250407T173405Z
UID:207916-1744480800-1744488000@new.miamisprings.com
SUMMARY:Stella Fusion Live at River Cities Festival 2025
DESCRIPTION:Stella Fusion is a group of musicians from South Florida. They are native to Miami and Rhode Island\, Colombia\, Cuba\, Venezuela\,\nPuerto Rico & Peru.Having performed all over South Florida’s main stages and great events\, they’ve made a name for themselves across the region.\n\nTheir music reflects the diversity present in the fusing of Cumbia\, Salsa\, Funk\, Rock n Roll and Latin Jazz; keeping Caribbean and South American rhythms center stage. They are an All Americas Latin band!
URL:https://new.miamisprings.com/event/stella-fusion-live-at-river-cities-festival-2025/
LOCATION:Miami Springs Circle Park\, 100 Curtiss Parkway\, Miami Springs\, FL\, 33166\, United States
CATEGORIES:Entertainment,River Cities Festival
ATTACH;FMTTYPE=image/jpeg:https://new.miamisprings.com/wp-content/uploads/2025/04/Stella.jpg
END:VEVENT
BEGIN:VEVENT
DTSTART;TZID=America/New_York:20250412T170000
DTEND;TZID=America/New_York:20250412T220000
DTSTAMP:20260419T082223
CREATED:20250408T074007Z
LAST-MODIFIED:20250408T074007Z
UID:207953-1744477200-1744495200@new.miamisprings.com
SUMMARY:The Classic Car Show at River Cities Festival 2025
DESCRIPTION:The Classic Car Show takes place April 12th from 5 to 10 PM on Westward Dr. in Miami Springs\, as part of the River Cities Festival. Open to vehicles from 2000 or earlier. Enjoy food\, vendors\, crafts\, a kid section\, and live music until midnight. Film crew arrives at 7:30 PM. Registration link in profile.
URL:https://new.miamisprings.com/event/the-classic-car-show-at-river-cities-festival-2025/
LOCATION:Miami Springs Circle Park\, 100 Curtiss Parkway\, Miami Springs\, FL\, 33166\, United States
CATEGORIES:Entertainment,River Cities Festival
ATTACH;FMTTYPE=image/jpeg:https://new.miamisprings.com/wp-content/uploads/2025/04/Carshow.jpg
END:VEVENT
BEGIN:VEVENT
DTSTART;TZID=America/New_York:20250412T161500
DTEND;TZID=America/New_York:20250412T180000
DTSTAMP:20260419T082223
CREATED:20240306T134421Z
LAST-MODIFIED:20250407T174101Z
UID:191879-1744474500-1744480800@new.miamisprings.com
SUMMARY:Viva Classic Rock Live at River Cities Festival 2025
DESCRIPTION:Live at RCF 2025 \n 
URL:https://new.miamisprings.com/event/viva-classic-rock-live-at-river-cities-festival-2025/
LOCATION:Miami Springs Circle Park\, 100 Curtiss Parkway\, Miami Springs\, FL\, 33166\, United States
CATEGORIES:Entertainment,River Cities Festival
ATTACH;FMTTYPE=image/jpeg:https://new.miamisprings.com/wp-content/uploads/2019/09/viva.jpg
END:VEVENT
BEGIN:VEVENT
DTSTART;TZID=America/New_York:20250412T140000
DTEND;TZID=America/New_York:20250412T160000
DTSTAMP:20260419T082223
CREATED:20250407T172439Z
LAST-MODIFIED:20250407T173815Z
UID:207908-1744466400-1744473600@new.miamisprings.com
SUMMARY:The Mysterytones Live at River Cities Festival 2025
DESCRIPTION:For over two decades\, The Mysterytones have been electrifying South Florida with their signature fusion of funk\, classic rock\, and jazz fusion. This dynamic seven-piece band is driven by a powerhouse rhythm section\, soulful vocals\, and the unmistakable energy of the Hurricane Horns—a fiery brass ensemble that sets them apart from your average bar band. \nKnown for their high-energy performances and tight musicianship\, The Mysterytones bring a fresh take on classic grooves\, blending deep-pocket funk with rock intensity and jazz-infused improvisation. Whether lighting up local venues or commanding festival stages\, they keep audiences moving with their infectious sound and undeniable stage presence. \nWhen The Mysterytones take the stage\, expect a night of bold brass\, deep grooves\, and non-stop rhythm—because funk isn’t just a genre\, it’s a way of life.
URL:https://new.miamisprings.com/event/the-mysterytones-live-at-river-cities-festival/
LOCATION:Miami Springs Circle Park\, 100 Curtiss Parkway\, Miami Springs\, FL\, 33166\, United States
CATEGORIES:Entertainment,River Cities Festival
ATTACH;FMTTYPE=image/jpeg:https://new.miamisprings.com/wp-content/uploads/2022/08/1.jpg
END:VEVENT
END:VCALENDAR