BEGIN:VCALENDAR
VERSION:2.0
PRODID:-//MiamiSprings.com | Miami Springs News and Events - ECPv6.15.15//NONSGML v1.0//EN
CALSCALE:GREGORIAN
METHOD:PUBLISH
X-WR-CALNAME:MiamiSprings.com | Miami Springs News and Events
X-ORIGINAL-URL:https://new.miamisprings.com
X-WR-CALDESC:Events for MiamiSprings.com | Miami Springs News and Events
REFRESH-INTERVAL;VALUE=DURATION:PT1H
X-Robots-Tag:noindex
X-PUBLISHED-TTL:PT1H
BEGIN:VTIMEZONE
TZID:America/New_York
BEGIN:DAYLIGHT
TZOFFSETFROM:-0500
TZOFFSETTO:-0400
TZNAME:EDT
DTSTART:20210314T070000
END:DAYLIGHT
BEGIN:STANDARD
TZOFFSETFROM:-0400
TZOFFSETTO:-0500
TZNAME:EST
DTSTART:20211107T060000
END:STANDARD
BEGIN:DAYLIGHT
TZOFFSETFROM:-0500
TZOFFSETTO:-0400
TZNAME:EDT
DTSTART:20220313T070000
END:DAYLIGHT
BEGIN:STANDARD
TZOFFSETFROM:-0400
TZOFFSETTO:-0500
TZNAME:EST
DTSTART:20221106T060000
END:STANDARD
BEGIN:DAYLIGHT
TZOFFSETFROM:-0500
TZOFFSETTO:-0400
TZNAME:EDT
DTSTART:20230312T070000
END:DAYLIGHT
BEGIN:STANDARD
TZOFFSETFROM:-0400
TZOFFSETTO:-0500
TZNAME:EST
DTSTART:20231105T060000
END:STANDARD
BEGIN:DAYLIGHT
TZOFFSETFROM:-0500
TZOFFSETTO:-0400
TZNAME:EDT
DTSTART:20240310T070000
END:DAYLIGHT
BEGIN:STANDARD
TZOFFSETFROM:-0400
TZOFFSETTO:-0500
TZNAME:EST
DTSTART:20241103T060000
END:STANDARD
BEGIN:DAYLIGHT
TZOFFSETFROM:-0500
TZOFFSETTO:-0400
TZNAME:EDT
DTSTART:20250309T070000
END:DAYLIGHT
BEGIN:STANDARD
TZOFFSETFROM:-0400
TZOFFSETTO:-0500
TZNAME:EST
DTSTART:20251102T060000
END:STANDARD
END:VTIMEZONE
BEGIN:VEVENT
DTSTART;TZID=America/New_York:20241103T150000
DTEND;TZID=America/New_York:20241103T170000
DTSTAMP:20260420T000030
CREATED:20241001T203043Z
LAST-MODIFIED:20241001T203043Z
UID:202958-1730646000-1730653200@new.miamisprings.com
SUMMARY:Surviving Teen Years: What They Don't Teach in School
DESCRIPTION:A transformative course designed to help teens thrive during the challenging teenage years! Over four engaging weeks\, you’ll discover essential strategies for boosting happiness\, building social skills\, and dealing with emotions effectively. Learn the importance of fostering meaningful connections\, how to navigate social media wisely\, and how to embrace a healthier lifestyle through exercise\, nutrition\, and mindfulness in ways that you actually ENJOY and that fit your unique needs— your wellness journey starts here! \nREGISTRATION: www.wellnessafterschool.com/survivingteenyearsoctober \nCourse will be held in Miami Springs at 237 Westward Drive. This is a four week course that begins Sunday\, October 12 from 3:00-5:00 p.m. and for the 3 following Sundays. 50% discount for parents with 2+ teens. Send an email to Kaylee@wellnessafterschool.com to get a discount code.
URL:https://new.miamisprings.com/event/surviving-teen-years-what-they-dont-teach-in-school-2024-11-03/
LOCATION:237 Westward Drive\, 237 Westward Drive\, Miami Springs\, 33166
CATEGORIES:Health,Learning
ATTACH;FMTTYPE=image/png:https://new.miamisprings.com/wp-content/uploads/2024/10/Guidance-for-Taking-Care-of-Yourself3.png
END:VEVENT
BEGIN:VEVENT
DTSTART;TZID=America/New_York:20241027T150000
DTEND;TZID=America/New_York:20241027T170000
DTSTAMP:20260420T000030
CREATED:20241001T203042Z
LAST-MODIFIED:20241001T203042Z
UID:202957-1730041200-1730048400@new.miamisprings.com
SUMMARY:Surviving Teen Years: What They Don't Teach in School
DESCRIPTION:A transformative course designed to help teens thrive during the challenging teenage years! Over four engaging weeks\, you’ll discover essential strategies for boosting happiness\, building social skills\, and dealing with emotions effectively. Learn the importance of fostering meaningful connections\, how to navigate social media wisely\, and how to embrace a healthier lifestyle through exercise\, nutrition\, and mindfulness in ways that you actually ENJOY and that fit your unique needs— your wellness journey starts here! \nREGISTRATION: www.wellnessafterschool.com/survivingteenyearsoctober \nCourse will be held in Miami Springs at 237 Westward Drive. This is a four week course that begins Sunday\, October 12 from 3:00-5:00 p.m. and for the 3 following Sundays. 50% discount for parents with 2+ teens. Send an email to Kaylee@wellnessafterschool.com to get a discount code.
URL:https://new.miamisprings.com/event/surviving-teen-years-what-they-dont-teach-in-school-2024-10-27/
LOCATION:237 Westward Drive\, 237 Westward Drive\, Miami Springs\, 33166
CATEGORIES:Health,Learning
ATTACH;FMTTYPE=image/png:https://new.miamisprings.com/wp-content/uploads/2024/10/Guidance-for-Taking-Care-of-Yourself3.png
END:VEVENT
BEGIN:VEVENT
DTSTART;TZID=America/New_York:20241020T150000
DTEND;TZID=America/New_York:20241020T170000
DTSTAMP:20260420T000030
CREATED:20241001T203036Z
LAST-MODIFIED:20241001T203036Z
UID:202956-1729436400-1729443600@new.miamisprings.com
SUMMARY:Surviving Teen Years: What They Don't Teach in School
DESCRIPTION:A transformative course designed to help teens thrive during the challenging teenage years! Over four engaging weeks\, you’ll discover essential strategies for boosting happiness\, building social skills\, and dealing with emotions effectively. Learn the importance of fostering meaningful connections\, how to navigate social media wisely\, and how to embrace a healthier lifestyle through exercise\, nutrition\, and mindfulness in ways that you actually ENJOY and that fit your unique needs— your wellness journey starts here! \nREGISTRATION: www.wellnessafterschool.com/survivingteenyearsoctober \nCourse will be held in Miami Springs at 237 Westward Drive. This is a four week course that begins Sunday\, October 12 from 3:00-5:00 p.m. and for the 3 following Sundays. 50% discount for parents with 2+ teens. Send an email to Kaylee@wellnessafterschool.com to get a discount code.
URL:https://new.miamisprings.com/event/surviving-teen-years-what-they-dont-teach-in-school-2024-10-20/
LOCATION:237 Westward Drive\, 237 Westward Drive\, Miami Springs\, 33166
CATEGORIES:Health,Learning
ATTACH;FMTTYPE=image/png:https://new.miamisprings.com/wp-content/uploads/2024/10/Guidance-for-Taking-Care-of-Yourself3.png
END:VEVENT
BEGIN:VEVENT
DTSTART;TZID=America/New_York:20241013T150000
DTEND;TZID=America/New_York:20241013T170000
DTSTAMP:20260420T000030
CREATED:20241002T000038Z
LAST-MODIFIED:20241002T000038Z
UID:202966-1728831600-1728838800@new.miamisprings.com
SUMMARY:Surviving Teen Years: What They Don't Teach in School
DESCRIPTION:A transformative course designed to help teens thrive during the challenging teenage years! Over four engaging weeks\, you’ll discover essential strategies for boosting happiness\, building social skills\, and dealing with emotions effectively. Learn the importance of fostering meaningful connections\, how to navigate social media wisely\, and how to embrace a healthier lifestyle through exercise\, nutrition\, and mindfulness in ways that you actually ENJOY and that fit your unique needs— your wellness journey starts here! \nREGISTRATION: www.wellnessafterschool.com/survivingteenyearsoctober \nCourse will be held in Miami Springs at 237 Westward Drive. This is a four week course that begins Sunday\, October 12 from 3:00-5:00 p.m. and continues for the 3 following Sundays. 50% discount for parents with 2+ teens. Send an email to Kaylee@wellnessafterschool.com to get a discount code.
URL:https://new.miamisprings.com/event/surviving-teen-years-what-they-dont-teach-in-school-2/
CATEGORIES:Health,Learning
ATTACH;FMTTYPE=image/png:https://new.miamisprings.com/wp-content/uploads/2024/10/Guidance-for-Taking-Care-of-Yourself3-1.png
END:VEVENT
BEGIN:VEVENT
DTSTART;TZID=America/New_York:20241013T150000
DTEND;TZID=America/New_York:20241013T170000
DTSTAMP:20260420T000030
CREATED:20241001T203035Z
LAST-MODIFIED:20241001T203035Z
UID:202954-1728831600-1728838800@new.miamisprings.com
SUMMARY:Surviving Teen Years: What They Don't Teach in School
DESCRIPTION:A transformative course designed to help teens thrive during the challenging teenage years! Over four engaging weeks\, you’ll discover essential strategies for boosting happiness\, building social skills\, and dealing with emotions effectively. Learn the importance of fostering meaningful connections\, how to navigate social media wisely\, and how to embrace a healthier lifestyle through exercise\, nutrition\, and mindfulness in ways that you actually ENJOY and that fit your unique needs— your wellness journey starts here! \nREGISTRATION: www.wellnessafterschool.com/survivingteenyearsoctober \nCourse will be held in Miami Springs at 237 Westward Drive. This is a four week course that begins Sunday\, October 12 from 3:00-5:00 p.m. and for the 3 following Sundays. 50% discount for parents with 2+ teens. Send an email to Kaylee@wellnessafterschool.com to get a discount code.
URL:https://new.miamisprings.com/event/surviving-teen-years-what-they-dont-teach-in-school/
LOCATION:237 Westward Drive\, 237 Westward Drive\, Miami Springs\, 33166
CATEGORIES:Health,Learning
ATTACH;FMTTYPE=image/png:https://new.miamisprings.com/wp-content/uploads/2024/10/Guidance-for-Taking-Care-of-Yourself3.png
END:VEVENT
BEGIN:VEVENT
DTSTART;TZID=America/New_York:20240615T110000
DTEND;TZID=America/New_York:20240615T170000
DTSTAMP:20260420T000030
CREATED:20240610T163703Z
LAST-MODIFIED:20240610T163703Z
UID:196616-1718449200-1718470800@new.miamisprings.com
SUMMARY:Greater South Florida Chamber of Commerce Business Expo & Health Fair
DESCRIPTION:Come get out and get fit and healthy!
URL:https://new.miamisprings.com/event/greater-south-florida-chamber-of-commerce-business-expo-health-fair/
LOCATION:Miami Springs Golf & Country Club\, Miami Springs\, FL\, 33166\, United States
CATEGORIES:Business,Entertainment,Health
ATTACH;FMTTYPE=image/jpeg:https://new.miamisprings.com/wp-content/uploads/2024/06/image0.jpeg.jpg
END:VEVENT
BEGIN:VEVENT
DTSTART;TZID=America/New_York:20230918T080000
DTEND;TZID=America/New_York:20230918T170000
DTSTAMP:20260420T000030
CREATED:20230830T121336Z
LAST-MODIFIED:20230830T121336Z
UID:185712-1695024000-1695056400@new.miamisprings.com
SUMMARY:Getting Healthy with Nutrition Essentials at Miami Springs Womans Club
DESCRIPTION:Health talk on September 18th 2023
URL:https://new.miamisprings.com/event/getting-healthy-with-nutrition-essentials-at-miami-springs-womans-club/
LOCATION:Miami Springs Woman’s Club\, 200 Westward Dr\, Miami Springs\, Florida 33166\, Miami Springs\, FL\, 33166\, United States
CATEGORIES:Community Events,Health
ATTACH;FMTTYPE=image/jpeg:https://new.miamisprings.com/wp-content/uploads/2023/08/371480296_10168041201205187_2176768249767177036_n.jpg
END:VEVENT
BEGIN:VEVENT
DTSTART;TZID=America/New_York:20221001T090000
DTEND;TZID=America/New_York:20221001T150000
DTSTAMP:20260420T000030
CREATED:20220913T170856Z
LAST-MODIFIED:20220913T170856Z
UID:170148-1664614800-1664636400@new.miamisprings.com
SUMMARY:Free Breast Cancer Screening & Zumba Class
DESCRIPTION:Mayor Mitchell and Senator-Elect Bryan Avila \nin collaboration with:\nCongressman Mario Diaz-Balart\nState Representative Alex Rizo\nState Representative Tom Fabricio\nState Representative David Borerro\nCity of Miami Springs Council \nFree Breast Cancer Screening & Zumba Class (Uninsured Women Aged 40 & Above Appointments Encouraged) \nSaturday\, October 1\, 2022 starting at 9am until 3pm| Zumba class starts at 10:30am.\nThese events will take place at the Miami Springs Community Center. \nZumba Class limited to 20 people\nRSVP to 305.805.5127
URL:https://new.miamisprings.com/event/free-breast-cancer-screening-zumba-class/
LOCATION:Miami Springs Rec Center\, 1401 Westward Drive\, Miami Springs\, FL\, 33166\, United States
CATEGORIES:Entertainment,Health
ATTACH;FMTTYPE=image/jpeg:https://new.miamisprings.com/wp-content/uploads/2022/09/306569954_419113283655351_5733656865958390669_n.jpg
END:VEVENT
BEGIN:VEVENT
DTSTART;TZID=America/New_York:20220409T100000
DTEND;TZID=America/New_York:20220409T140000
DTSTAMP:20260420T000030
CREATED:20211102T000745Z
LAST-MODIFIED:20220405T134611Z
UID:158883-1649498400-1649512800@new.miamisprings.com
SUMMARY:6th Annual Community Health & Wellness Fair
DESCRIPTION:  \nSave the Date! Our 6th annual Community Health & Wellness Fair returns Saturday\, April 9th! \nFREE ***WILDLIFE SHOW*** This Saturday 11 am at the City of Miami Springs Community Health Fair hosted by the Miami Springs Womans Club. 10 animals and an opportunity to pet and hold most to follow as we learn about the health and safety of our wildlife too￼. Don’t miss it!￼! 200 Westward Drive \n 
URL:https://new.miamisprings.com/event/6th-annual-community-health-wellness-fair/
LOCATION:Miami Springs Woman’s Club\, 200 Westward Dr\, Miami Springs\, Florida 33166\, Miami Springs\, FL\, 33166\, United States
CATEGORIES:Community Events,Health
ATTACH;FMTTYPE=image/jpeg:https://new.miamisprings.com/wp-content/uploads/2021/11/271933034_5119454688073698_865185528882138034_n.jpeg
END:VEVENT
BEGIN:VEVENT
DTSTART;TZID=America/New_York:20220331T100000
DTEND;TZID=America/New_York:20220331T130000
DTSTAMP:20260420T000030
CREATED:20220322T113454Z
LAST-MODIFIED:20220322T113602Z
UID:162707-1648720800-1648731600@new.miamisprings.com
SUMMARY:GRAND OPENING:  CIMA Medical Center
DESCRIPTION:CIMA Medical is hosting a Grand Opening Celebration on Thursday\, March 31st from 10am – 1pm. Come meet the team and enjoy some free food and giveaways. \nCIMA Medical Center is conveniently located at 175 Westward Drive\, just steps from the Post Office. \nStop by for the Grand Opening or call now to schedule an appointment at 305.885.0515. \nLearn more at www.MiamiSpringsDoctor.com.
URL:https://new.miamisprings.com/event/grand-opening-cima-medical-center/
LOCATION:CIMA Medical Center Miami Springs\, 175 Westward Drive\, Miami Springs\, FL\, 33166\, United States
CATEGORIES:Business,Grand Opening,Health
ATTACH;FMTTYPE=image/jpeg:https://new.miamisprings.com/wp-content/uploads/2022/03/cima-go.jpg
END:VEVENT
END:VCALENDAR