BEGIN:VCALENDAR
VERSION:2.0
PRODID:-//MiamiSprings.com | Miami Springs News and Events - ECPv6.15.15//NONSGML v1.0//EN
CALSCALE:GREGORIAN
METHOD:PUBLISH
X-WR-CALNAME:MiamiSprings.com | Miami Springs News and Events
X-ORIGINAL-URL:https://new.miamisprings.com
X-WR-CALDESC:Events for MiamiSprings.com | Miami Springs News and Events
REFRESH-INTERVAL;VALUE=DURATION:PT1H
X-Robots-Tag:noindex
X-PUBLISHED-TTL:PT1H
BEGIN:VTIMEZONE
TZID:America/New_York
BEGIN:DAYLIGHT
TZOFFSETFROM:-0500
TZOFFSETTO:-0400
TZNAME:EDT
DTSTART:20250309T070000
END:DAYLIGHT
BEGIN:STANDARD
TZOFFSETFROM:-0400
TZOFFSETTO:-0500
TZNAME:EST
DTSTART:20251102T060000
END:STANDARD
BEGIN:DAYLIGHT
TZOFFSETFROM:-0500
TZOFFSETTO:-0400
TZNAME:EDT
DTSTART:20260308T070000
END:DAYLIGHT
BEGIN:STANDARD
TZOFFSETFROM:-0400
TZOFFSETTO:-0500
TZNAME:EST
DTSTART:20261101T060000
END:STANDARD
BEGIN:DAYLIGHT
TZOFFSETFROM:-0500
TZOFFSETTO:-0400
TZNAME:EDT
DTSTART:20270314T070000
END:DAYLIGHT
BEGIN:STANDARD
TZOFFSETFROM:-0400
TZOFFSETTO:-0500
TZNAME:EST
DTSTART:20271107T060000
END:STANDARD
END:VTIMEZONE
BEGIN:VEVENT
DTSTART;TZID=America/New_York:20260808T200000
DTEND;TZID=America/New_York:20260808T200000
DTSTAMP:20260426T000650
CREATED:20260402T145016Z
LAST-MODIFIED:20260402T145016Z
UID:215274-1786219200-1786219200@new.miamisprings.com
SUMMARY:MSSH Class of 1986 – 40 Year Reunion
DESCRIPTION:The MSSH Class of 1986 40 Year Reunion takes place on August 8\, 2026 at 8:00 PM at 94 Aero Squadron in Miami\, bringing classmates together to reconnect\, reminisce\, and celebrate 40 years of Golden Hawk legacy.
URL:https://new.miamisprings.com/event/mssh-class-of-1986-40-year-reunion/
LOCATION:94 Aero Squadron\, 3965 NW 57th Avenue\, Miami\, FL\, United States
CATEGORIES:Reunion
ATTACH;FMTTYPE=image/jpeg:https://new.miamisprings.com/wp-content/uploads/2026/04/a11.jpg
END:VEVENT
END:VCALENDAR