BEGIN:VCALENDAR
VERSION:2.0
PRODID:-//MiamiSprings.com | Miami Springs News and Events - ECPv6.15.15//NONSGML v1.0//EN
CALSCALE:GREGORIAN
METHOD:PUBLISH
X-ORIGINAL-URL:https://new.miamisprings.com
X-WR-CALDESC:Events for MiamiSprings.com | Miami Springs News and Events
REFRESH-INTERVAL;VALUE=DURATION:PT1H
X-Robots-Tag:noindex
X-PUBLISHED-TTL:PT1H
BEGIN:VTIMEZONE
TZID:America/New_York
BEGIN:DAYLIGHT
TZOFFSETFROM:-0500
TZOFFSETTO:-0400
TZNAME:EDT
DTSTART:20210314T070000
END:DAYLIGHT
BEGIN:STANDARD
TZOFFSETFROM:-0400
TZOFFSETTO:-0500
TZNAME:EST
DTSTART:20211107T060000
END:STANDARD
BEGIN:DAYLIGHT
TZOFFSETFROM:-0500
TZOFFSETTO:-0400
TZNAME:EDT
DTSTART:20220313T070000
END:DAYLIGHT
BEGIN:STANDARD
TZOFFSETFROM:-0400
TZOFFSETTO:-0500
TZNAME:EST
DTSTART:20221106T060000
END:STANDARD
BEGIN:DAYLIGHT
TZOFFSETFROM:-0500
TZOFFSETTO:-0400
TZNAME:EDT
DTSTART:20230312T070000
END:DAYLIGHT
BEGIN:STANDARD
TZOFFSETFROM:-0400
TZOFFSETTO:-0500
TZNAME:EST
DTSTART:20231105T060000
END:STANDARD
END:VTIMEZONE
BEGIN:VEVENT
DTSTART;TZID=America/New_York:20220908T190000
DTEND;TZID=America/New_York:20220908T190000
DTSTAMP:20260421T171329
CREATED:20220830T181728Z
LAST-MODIFIED:20220830T181728Z
UID:169627-1662663600-1662663600@new.miamisprings.com
SUMMARY:Miami Springs Golden Hawks vs Miami Stingarees Football Game
DESCRIPTION:The Miami Springs Golden Hawks football team has an away non-conference game vs.  Miami Stingarees on Thursday\, September 8 @ 7pm
URL:https://new.miamisprings.com/event/miami-springs-golden-hawks-vs-miami-stingarees-football-game/
LOCATION:Curtis Park\, 1901 NW 24 Ave\, Miami\, FL\, 33125\, United States
CATEGORIES:Sports
ATTACH;FMTTYPE=image/jpeg:https://new.miamisprings.com/wp-content/uploads/2022/08/EogZlmYXIAQ2Yir.jpeg
END:VEVENT
BEGIN:VEVENT
DTSTART;TZID=America/New_York:20220901T190000
DTEND;TZID=America/New_York:20220901T190000
DTSTAMP:20260421T171329
CREATED:20220816T212949Z
LAST-MODIFIED:20220816T213311Z
UID:169103-1662058800-1662058800@new.miamisprings.com
SUMMARY:Miami Springs Golden Hawks vs Hialeah Thoroughbreds Football Game
DESCRIPTION:
URL:https://new.miamisprings.com/event/miami-springs-golden-hawks-vs-hialeah-thoroughbreds-football-game/
LOCATION:Ted Hendricks Stadium at Milander Park\, 4800 Palm Avenue\, Hialeah\, FL\, 33012\, United States
CATEGORIES:Sports,Youth Sports
ATTACH;FMTTYPE=image/jpeg:https://new.miamisprings.com/wp-content/uploads/2022/08/MSSH-FOOTBALL.jpeg
END:VEVENT
BEGIN:VEVENT
DTSTART;TZID=America/New_York:20220826T190000
DTEND;TZID=America/New_York:20220826T190000
DTSTAMP:20260421T171329
CREATED:20220816T212353Z
LAST-MODIFIED:20220816T213109Z
UID:169097-1661540400-1661540400@new.miamisprings.com
SUMMARY:Miami Springs Golden Hawks vs Miami Beach Hi-Tides Football Game
DESCRIPTION:
URL:https://new.miamisprings.com/event/miami-springs-vs-miami-beach-football-game/
LOCATION:Flamingo Park Football Memorial Stadium\, 1000 12th St.\, Miami Beach\, FL\, 33139\, United States
CATEGORIES:Sports,Youth Sports
ATTACH;FMTTYPE=image/jpeg:https://new.miamisprings.com/wp-content/uploads/2022/08/msshfootball-243741771_380684533607775_2259596436879538179_n-1.jpg
END:VEVENT
BEGIN:VEVENT
DTSTART;TZID=America/New_York:20220822T180000
DTEND;TZID=America/New_York:20220822T180000
DTSTAMP:20260421T171329
CREATED:20220808T143324Z
LAST-MODIFIED:20220808T143324Z
UID:168891-1661191200-1661191200@new.miamisprings.com
SUMMARY:2022 - 2023 MSVG Soccer Registration
DESCRIPTION:Soccer Registration is here.  Practices start August 22nd at Stafford Park at 6pm. \nRegistration fee is $140 and includes 1 set of uniforms. \nLearn more at msvgsoccer.com. \n 
URL:https://new.miamisprings.com/event/2022-2023-msvg-soccer-registration/
LOCATION:Stafford Park\, 501 East Drive\, Miami Springs\, FL\, 33166\, United States
CATEGORIES:Sports,Youth Sports
ATTACH;FMTTYPE=image/jpeg:https://new.miamisprings.com/wp-content/uploads/2022/08/297507496_10227431072785840_3198852634881537436_n.jpeg
END:VEVENT
BEGIN:VEVENT
DTSTART;VALUE=DATE:20220607
DTEND;VALUE=DATE:20220608
DTSTAMP:20260421T171329
CREATED:20220524T172048Z
LAST-MODIFIED:20220524T172048Z
UID:165124-1654560000-1654646399@new.miamisprings.com
SUMMARY:Softball Meet & Greet Workout
DESCRIPTION:On Tuesday\, June 7 at Prince Field we invite girls ages 8 to 11 interested in playing softball to attend a meet and greet/workout with incoming softball trainer Jules Ferris. More details to follow but please mark the date and spread the word.
URL:https://new.miamisprings.com/event/softball-meet-greet-workout/
LOCATION:Prince Field\, 343 Payne Drive\, Miami Springs\, FL\, 33166\, United States
CATEGORIES:Sports,Youth Sports
ATTACH;FMTTYPE=image/jpeg:https://new.miamisprings.com/wp-content/uploads/2022/05/mssb.jpg
END:VEVENT
BEGIN:VEVENT
DTSTART;TZID=America/New_York:20220514T070000
DTEND;TZID=America/New_York:20220514T070000
DTSTAMP:20260421T171329
CREATED:20220328T130912Z
LAST-MODIFIED:20220328T131205Z
UID:162799-1652511600-1652511600@new.miamisprings.com
SUMMARY:2022 SebastianStrong 5K Run / Walk is Back!
DESCRIPTION:The biggest 5k in Miami Springs\, the SebastianStrong Foundation 5k RUN / WALK event is back after a two year COVID hiatus!  Sign up now for this glorious run / walk event through beautiful Miami Springs that starts and ends at the historical Glenn Curtiss Mansion. \nREGISTRATION:\nhttps://runsignup.com/Race/FL/MiamiSprings/SEBASTIANSTRONG5K \n \nWe’re excited to be back at Curtiss Mansion in beautiful Miami Springs\, FL for our annual SebastianStrong 5K Run/Walk & this year we’re pairing this event with an evening of Hops for Hope at The Tank Brewing Company. \nREGISTRATION:\nhttps://runsignup.com/Race/FL/MiamiSprings/SEBASTIANSTRONG5K \nOn Saturday\, May 14th we will kick off our 5K at 7AM from Curtiss Mansion. Later that evening\, join us for Hops for Hope at The Tank Brewing Co. at 7PM for a special release craft beer created by The Tank exclusively for SebastianStrong. \nProceeds from these events fund childhood cancer research & help provide financial support to kids & families facing a diagnosis. \nPICTURES FROM THE 2019 SEBASTIANSTRONG 5K\nClick to see all the Sebastian Strong 2019 Pictures. \n \n \n \n \n \n \n \n \n \n \n \n \n \n \n \n \n \n \n  \n>>>>>> See More Pictures>>>>>>>> \nREGISTRATION:\nhttps://runsignup.com/Race/FL/MiamiSprings/SEBASTIANSTRONG5K
URL:https://new.miamisprings.com/event/2022-sebastian-strong-5k-run-walk-is-back/
LOCATION:Curtiss Mansion\, 500 Deer run\, Miami Springs\, FL\, 33166\, United States
CATEGORIES:Community Events,Sports
ATTACH;FMTTYPE=image/jpeg:https://new.miamisprings.com/wp-content/uploads/2019/11/IMG_7967.jpg
END:VEVENT
BEGIN:VEVENT
DTSTART;TZID=America/New_York:20220505T153000
DTEND;TZID=America/New_York:20220505T170000
DTSTAMP:20260421T171329
CREATED:20220505T031601Z
LAST-MODIFIED:20220505T031601Z
UID:164232-1651764600-1651770000@new.miamisprings.com
SUMMARY:Miami Springs Baseball District Championship Game
DESCRIPTION:Your top ranked (19-4) Miami Springs Senior High Golden Hawks Baseball Team take on the (7-18) Mater Lakes Academy for the District 4A-15 Championship.  The game will be held at Shelly Dunkel Field at Miami Springs Senior High on Thursday\, May 5th at 3:30pm. \nMake sure to pack the Nest for this home district championship game. \nLet’s go Hawks!
URL:https://new.miamisprings.com/event/miami-springs-baseball-district-championship-game/
LOCATION:Miami Springs Senior High\, Miami Springs\, FL\, 33166\, United States
CATEGORIES:Sports,Youth Sports
ATTACH;FMTTYPE=image/jpeg:https://new.miamisprings.com/wp-content/uploads/2022/04/FRYxEWuWUAEuYId.jpg
END:VEVENT
BEGIN:VEVENT
DTSTART;TZID=America/New_York:20220305T070000
DTEND;TZID=America/New_York:20220305T070000
DTSTAMP:20260421T171329
CREATED:20220202T224802Z
LAST-MODIFIED:20220202T224802Z
UID:161344-1646463600-1646463600@new.miamisprings.com
SUMMARY:Festival 5k Run Walk
DESCRIPTION:The River Cities Festival 5k returns on Saturday\, March 5th at 7am on the Circle. \nRegister at the Rec Center.  $10 registration fee
URL:https://new.miamisprings.com/event/festival-5k-run-walk-2/
LOCATION:Miami Springs Circle Park\, 100 Curtiss Parkway\, Miami Springs\, FL\, 33166\, United States
CATEGORIES:Sports
ATTACH;FMTTYPE=image/jpeg:https://new.miamisprings.com/wp-content/uploads/2022/02/img_5239.jpeg
END:VEVENT
BEGIN:VEVENT
DTSTART;TZID=America/New_York:20220219T090000
DTEND;TZID=America/New_York:20220219T090000
DTSTAMP:20260421T171329
CREATED:20220204T141416Z
LAST-MODIFIED:20220204T141416Z
UID:161395-1645261200-1645261200@new.miamisprings.com
SUMMARY:2022 Wheelchair Basketball Tournament at Miami Springs Rec Center
DESCRIPTION:Experience a powerful mix of athleticism and determination in #OurCounty at the 2022 Miami Heat Wheels Invitational Wheelchair Basketball Tournament. The competition takes place Feb. 19 at the Miami Springs Community Center. For more info\, call 305-752-4966.  \n\nExperience a powerful mix of athleticism and determination in #OurCounty at the 2022 Miami Heat Wheels Invitational Wheelchair Basketball Tournament. The competition takes place Feb. 19 at the Miami Springs Community Center. For more info\, call 305-752-4966. @MiamiDadeParks pic.twitter.com/vqNcDjxXUH \n— Miami-Dade County (@MiamiDadeCounty) February 4\, 2022 \n \n\n♿️🏀🏆 Join @miamiheat Wheels and our Therapeutic\, Recreation & Inclusion Division for our wheelchair basketball tournament! This exciting competition takes place on February 19th at 9 a.m. in the Miami Springs Community Center. @NWBA pic.twitter.com/cRgouEFZ2g \n— Miami-Dade Parks (@MiamiDadeParks) February 3\, 2022
URL:https://new.miamisprings.com/event/2022-wheelchair-basketball-tournament-at-miami-springs-rec-center/
LOCATION:Miami Springs Rec Center\, 1401 Westward Drive\, Miami Springs\, FL\, 33166\, United States
CATEGORIES:Community Events,Sports
ATTACH;FMTTYPE=image/jpeg:https://new.miamisprings.com/wp-content/uploads/2022/02/FKssayTX0AkgMCZ.jpg
END:VEVENT
END:VCALENDAR