BEGIN:VCALENDAR
VERSION:2.0
PRODID:-//MiamiSprings.com | Miami Springs News and Events - ECPv6.15.15//NONSGML v1.0//EN
CALSCALE:GREGORIAN
METHOD:PUBLISH
X-WR-CALNAME:MiamiSprings.com | Miami Springs News and Events
X-ORIGINAL-URL:https://new.miamisprings.com
X-WR-CALDESC:Events for MiamiSprings.com | Miami Springs News and Events
REFRESH-INTERVAL;VALUE=DURATION:PT1H
X-Robots-Tag:noindex
X-PUBLISHED-TTL:PT1H
BEGIN:VTIMEZONE
TZID:America/New_York
BEGIN:DAYLIGHT
TZOFFSETFROM:-0500
TZOFFSETTO:-0400
TZNAME:EDT
DTSTART:20250309T070000
END:DAYLIGHT
BEGIN:STANDARD
TZOFFSETFROM:-0400
TZOFFSETTO:-0500
TZNAME:EST
DTSTART:20251102T060000
END:STANDARD
BEGIN:DAYLIGHT
TZOFFSETFROM:-0500
TZOFFSETTO:-0400
TZNAME:EDT
DTSTART:20260308T070000
END:DAYLIGHT
BEGIN:STANDARD
TZOFFSETFROM:-0400
TZOFFSETTO:-0500
TZNAME:EST
DTSTART:20261101T060000
END:STANDARD
BEGIN:DAYLIGHT
TZOFFSETFROM:-0500
TZOFFSETTO:-0400
TZNAME:EDT
DTSTART:20270314T070000
END:DAYLIGHT
BEGIN:STANDARD
TZOFFSETFROM:-0400
TZOFFSETTO:-0500
TZNAME:EST
DTSTART:20271107T060000
END:STANDARD
END:VTIMEZONE
BEGIN:VEVENT
DTSTART;TZID=America/New_York:20260228T090000
DTEND;TZID=America/New_York:20260228T100000
DTSTAMP:20260419T154014
CREATED:20260225T032619Z
LAST-MODIFIED:20260225T032619Z
UID:214706-1772269200-1772272800@new.miamisprings.com
SUMMARY:Miami Springs Little League Opening Day 2026
DESCRIPTION:The Miami Springs Little League will have its Opening Day Ceremony this Saturday\, February 28 from 9am – 10am. \nColors presented by the Miami Springs Cub Scout Pack 425 and Scouting America Troop 334. \nNational Anthem by Loyola Miami Children’s Choir. \nThe event will be held at Douglas Orr Park at Prince Field:  343 Payne Drive
URL:https://new.miamisprings.com/event/miami-springs-little-league-opening-day-2026/
LOCATION:Prince Field\, 343 Payne Drive\, Miami Springs\, FL\, 33166\, United States
CATEGORIES:Sports,Youth Sports
ATTACH;FMTTYPE=image/jpeg:https://new.miamisprings.com/wp-content/uploads/2026/02/miamispringsll_1771626821_3837005929426568543_8423635760.jpg
END:VEVENT
END:VCALENDAR