BEGIN:VCALENDAR
VERSION:2.0
PRODID:-//MiamiSprings.com | Miami Springs News and Events - ECPv6.15.15//NONSGML v1.0//EN
CALSCALE:GREGORIAN
METHOD:PUBLISH
X-ORIGINAL-URL:https://new.miamisprings.com
X-WR-CALDESC:Events for MiamiSprings.com | Miami Springs News and Events
REFRESH-INTERVAL;VALUE=DURATION:PT1H
X-Robots-Tag:noindex
X-PUBLISHED-TTL:PT1H
BEGIN:VTIMEZONE
TZID:America/New_York
BEGIN:DAYLIGHT
TZOFFSETFROM:-0500
TZOFFSETTO:-0400
TZNAME:EDT
DTSTART:20240310T070000
END:DAYLIGHT
BEGIN:STANDARD
TZOFFSETFROM:-0400
TZOFFSETTO:-0500
TZNAME:EST
DTSTART:20241103T060000
END:STANDARD
BEGIN:DAYLIGHT
TZOFFSETFROM:-0500
TZOFFSETTO:-0400
TZNAME:EDT
DTSTART:20250309T070000
END:DAYLIGHT
BEGIN:STANDARD
TZOFFSETFROM:-0400
TZOFFSETTO:-0500
TZNAME:EST
DTSTART:20251102T060000
END:STANDARD
BEGIN:DAYLIGHT
TZOFFSETFROM:-0500
TZOFFSETTO:-0400
TZNAME:EDT
DTSTART:20260308T070000
END:DAYLIGHT
BEGIN:STANDARD
TZOFFSETFROM:-0400
TZOFFSETTO:-0500
TZNAME:EST
DTSTART:20261101T060000
END:STANDARD
END:VTIMEZONE
BEGIN:VEVENT
DTSTART;TZID=America/New_York:20250925T161500
DTEND;TZID=America/New_York:20250925T161500
DTSTAMP:20260420T033814
CREATED:20250822T084401Z
LAST-MODIFIED:20250822T084401Z
UID:209895-1758816900-1758816900@new.miamisprings.com
SUMMARY:MSSH Girls Volleyball vs Academy for Innovative Education
DESCRIPTION:The MSSH Girls Volleyball season is officially here! Mark your calendars and come out to support the Hawks as they take on rivals all month long. Let’s pack the stands and bring the energy this season.
URL:https://new.miamisprings.com/event/mssh-girls-volleyball-vs-academy-for-innovative-education-2/
CATEGORIES:Sports
ATTACH;FMTTYPE=image/jpeg:https://new.miamisprings.com/wp-content/uploads/2025/08/gvt.jpg
END:VEVENT
BEGIN:VEVENT
DTSTART;TZID=America/New_York:20250925T190000
DTEND;TZID=America/New_York:20250925T190000
DTSTAMP:20260420T033814
CREATED:20250821T164426Z
LAST-MODIFIED:20250821T164426Z
UID:209831-1758826800-1758826800@new.miamisprings.com
SUMMARY:MSSH vs Booker T. Washington Football
DESCRIPTION:BLACK OUT THEME \nShow up\, show out\, and show your spirit—dress in theme and let’s paint the stands with GOLDEN energy! The louder the crowd\, the stronger our team. Let’s make every game unforgettable!
URL:https://new.miamisprings.com/event/mssh-vs-booker-t-washington-football/
LOCATION:Ted Hendricks Stadium at Milander Park\, 4800 Palm Avenue\, Hialeah\, FL\, 33012\, United States
ATTACH;FMTTYPE=image/jpeg:https://new.miamisprings.com/wp-content/uploads/2020/12/EogZlmYXIAQ2Yir.jpeg
END:VEVENT
BEGIN:VEVENT
DTSTART;TZID=America/New_York:20250926T200000
DTEND;TZID=America/New_York:20250926T200000
DTSTAMP:20260420T033814
CREATED:20250311T132353Z
LAST-MODIFIED:20250311T132353Z
UID:210053-1758916800-1758916800@new.miamisprings.com
SUMMARY:Friday Night Dance and Disco Party!
DESCRIPTION:
URL:https://new.miamisprings.com/event/friday-night-dance-and-disco-party-3-2025-09-26/
LOCATION:Hole 19 Scratch Kitchen and Bar (Inside the Miami Springs Golf & Country Club)\, 650 Curtiss Parkway\, Miami Springs\, FL\, 33166\, United States
CATEGORIES:Entertainment
ATTACH;FMTTYPE=image/jpeg:https://new.miamisprings.com/wp-content/uploads/2025/03/FRI.jpg
END:VEVENT
BEGIN:VEVENT
DTSTART;TZID=America/New_York:20250927T170000
DTEND;TZID=America/New_York:20250927T220000
DTSTAMP:20260420T033814
CREATED:20250924T163539Z
LAST-MODIFIED:20250924T163816Z
UID:212185-1758992400-1759010400@new.miamisprings.com
SUMMARY:Oktoberfest
DESCRIPTION:Oktoberfest is coming to Miami Springs. Join the Lions Club on September 27 from 5–10pm for food\, music\, and dancers\, all while supporting Pediatric Cancer research. Tickets are $20 at the door (cash or Zelle). Dancers perform from 6:30–8:30pm at 301 Swallow Drive.
URL:https://new.miamisprings.com/event/oktoberfest/
LOCATION:Miami Springs Lions Club\, 301 Swallow Drive\, Miami Springs\, FL\, 33166 United States
ATTACH;FMTTYPE=image/jpeg:https://new.miamisprings.com/wp-content/uploads/2025/09/Oktober.jpg
END:VEVENT
BEGIN:VEVENT
DTSTART;TZID=America/New_York:20250930T170000
DTEND;TZID=America/New_York:20250930T170000
DTSTAMP:20260420T033814
CREATED:20250822T084553Z
LAST-MODIFIED:20250822T084553Z
UID:209897-1759251600-1759251600@new.miamisprings.com
SUMMARY:MSSH Girls Volleyball vs Hialeah
DESCRIPTION:The MSSH Girls Volleyball season is officially here! Mark your calendars and come out to support the Hawks as they take on rivals all month long. Let’s pack the stands and bring the energy this season.
URL:https://new.miamisprings.com/event/mssh-girls-volleyball-vs-hialeah/
CATEGORIES:Sports
ATTACH;FMTTYPE=image/jpeg:https://new.miamisprings.com/wp-content/uploads/2025/08/gvt.jpg
END:VEVENT
BEGIN:VEVENT
DTSTART;TZID=America/New_York:20251003T153000
DTEND;TZID=America/New_York:20251003T153000
DTSTAMP:20260420T033814
CREATED:20250821T165127Z
LAST-MODIFIED:20250821T165127Z
UID:209833-1759505400-1759505400@new.miamisprings.com
SUMMARY:MSSH vs Ransom Everglades Football
DESCRIPTION:THEME: BREAST CANCER AWARENESS – PINK OUT \nShow up\, show out\, and show your spirit—dress in theme and let’s paint the stands with GOLDEN energy! The louder the crowd\, the stronger our team. Let’s make every game unforgettable!
URL:https://new.miamisprings.com/event/mssh-vs-ransom-everglades-football/
LOCATION:Miami Springs Senior High\, Miami Springs\, FL\, 33166\, United States
ATTACH;FMTTYPE=image/jpeg:https://new.miamisprings.com/wp-content/uploads/2020/12/EogZl9VXIAU-y0h.jpeg
END:VEVENT
BEGIN:VEVENT
DTSTART;TZID=America/New_York:20251003T180000
DTEND;TZID=America/New_York:20251003T190000
DTSTAMP:20260420T033814
CREATED:20250919T181147Z
LAST-MODIFIED:20250919T182708Z
UID:212080-1759514400-1759518000@new.miamisprings.com
SUMMARY:Miami Springs Young Innovators Marketplace: Workshop & Launch
DESCRIPTION:The Miami Springs Young Innovators Marketplace is calling all young entrepreneurs ages 6–16! Join the free informational workshop on October 3\, 2025\, from 6–7pm at the Miami Springs Community Center to learn about guidelines\, applications\, and ideas for the big event. The marketplace will take place on January 24\, 2026\, giving kids the chance to showcase their creativity and entrepreneurial spirit. For details\, visit facebook.com/PilotClubofMiami.
URL:https://new.miamisprings.com/event/miami-springs-young-innovators-marketplace-workshop-launch/
LOCATION:Miami Springs Rec Center\, 1401 Westward Drive\, Miami Springs\, FL\, 33166\, United States
ATTACH;FMTTYPE=image/jpeg:https://new.miamisprings.com/wp-content/uploads/2025/09/xxxcfd.jpg
END:VEVENT
BEGIN:VEVENT
DTSTART;TZID=America/New_York:20251003T200000
DTEND;TZID=America/New_York:20251003T200000
DTSTAMP:20260420T033814
CREATED:20250311T132353Z
LAST-MODIFIED:20250926T092737Z
UID:210050-1759521600-1759521600@new.miamisprings.com
SUMMARY:Friday Night Dance and Disco Party!
DESCRIPTION:
URL:https://new.miamisprings.com/event/friday-night-dance-and-disco-party-3-2025-09-05/
LOCATION:Hole 19 Scratch Kitchen and Bar (Inside the Miami Springs Golf & Country Club)\, 650 Curtiss Parkway\, Miami Springs\, FL\, 33166\, United States
CATEGORIES:Entertainment
ATTACH;FMTTYPE=image/jpeg:https://new.miamisprings.com/wp-content/uploads/2025/03/FRI.jpg
END:VEVENT
BEGIN:VEVENT
DTSTART;TZID=America/New_York:20251003T200000
DTEND;TZID=America/New_York:20251003T200000
DTSTAMP:20260420T033814
CREATED:20250311T132353Z
LAST-MODIFIED:20251009T170610Z
UID:207544-1759521600-1759521600@new.miamisprings.com
SUMMARY:Friday Night Dance and Disco Party!
DESCRIPTION:
URL:https://new.miamisprings.com/event/friday-night-dance-and-disco-party-3/
LOCATION:Hole 19 Scratch Kitchen and Bar (Inside the Miami Springs Golf & Country Club)\, 650 Curtiss Parkway\, Miami Springs\, FL\, 33166\, United States
CATEGORIES:Entertainment
ATTACH;FMTTYPE=image/jpeg:https://new.miamisprings.com/wp-content/uploads/2025/03/FRI.jpg
END:VEVENT
BEGIN:VEVENT
DTSTART;TZID=America/New_York:20251004T080000
DTEND;TZID=America/New_York:20251004T080000
DTSTAMP:20260420T033814
CREATED:20250912T014438Z
LAST-MODIFIED:20250912T014438Z
UID:211060-1759564800-1759564800@new.miamisprings.com
SUMMARY:Run With the Cops 1.5 Mile or 5K Run
DESCRIPTION:Hosted by the Miami Springs Police Department \n \nDate: Saturday\, October 4\, 2025\nLocation: Miami Springs Community Center\nMeet-Up: 7:00 AM | Run Starts: 8:00 AM\nCost: FREE \nJoin us for the Second Annual “Run With The Cops 5K”—a fun\, family-friendly event where you can run alongside your City’s police officers in support of a great cause! This year\, we’re also running in honor of Breast Cancer Awareness\, so don’t forget to wear pink. \nChoose Your Distance: 1.5K or 5K\nAll ages are welcome\, and the pace will be light so everyone can enjoy a safe\, community-centered experience. \nBefore the Run: Enjoy a free cup of coffee\, along with fresh fruit and refreshments.\nAfter the Run: Head over to Prince Field for music\, face painting\, bounce houses\, and more fun for the whole family. \nQuestions? Contact Officer Denise Garcia at 305-888-9711 or email dgarcia@mspd.us. \nRegister HERE
URL:https://new.miamisprings.com/event/run-with-the-cops-1-5-mile-or-5k-run/
LOCATION:Miami Springs Rec Center\, 1401 Westward Drive\, Miami Springs\, FL\, 33166\, United States
CATEGORIES:Community Events
ATTACH;FMTTYPE=image/jpeg:https://new.miamisprings.com/wp-content/uploads/2025/09/Untitled-2.jpg
END:VEVENT
BEGIN:VEVENT
DTSTART;TZID=America/New_York:20251004T200000
DTEND;TZID=America/New_York:20251004T200000
DTSTAMP:20260420T033814
CREATED:20240913T210014Z
LAST-MODIFIED:20251003T125117Z
UID:202075-1759608000-1759608000@new.miamisprings.com
SUMMARY:Silver Spine Live at Hole 19
DESCRIPTION:We have some incredible bands lined up for you next month! PRO TIP: Reserve your table now at hole19scratchkitchen.com
URL:https://new.miamisprings.com/event/silver-spine-live-at-hole-19-2/
LOCATION:Hole 19 Scratch Kitchen and Bar (Inside the Miami Springs Golf & Country Club)\, 650 Curtiss Parkway\, Miami Springs\, FL\, 33166\, United States
CATEGORIES:Entertainment
ATTACH;FMTTYPE=image/jpeg:https://new.miamisprings.com/wp-content/uploads/2024/09/542492987_18092925595708286_8919668776682858298_n-1.jpg
END:VEVENT
BEGIN:VEVENT
DTSTART;VALUE=DATE:20251010
DTEND;VALUE=DATE:20251011
DTSTAMP:20260420T033814
CREATED:20250821T165547Z
LAST-MODIFIED:20250821T182607Z
UID:209836-1760054400-1760140799@new.miamisprings.com
SUMMARY:MSSH vs La Salle Football
DESCRIPTION:THEME: ROCK-N-ROLL \nShow up\, show out\, and show your spirit—dress in theme and let’s paint the stands with GOLDEN energy! The louder the crowd\, the stronger our team. Let’s make every game unforgettable!
URL:https://new.miamisprings.com/event/mssh-vs-la-salle-football/
LOCATION:Immaculata-La Salle High School\, 3601 South Miami Avenue\, Miami\, 33133\, United States
ATTACH;FMTTYPE=image/jpeg:https://new.miamisprings.com/wp-content/uploads/2019/08/MSSH-FOOTBALL.jpeg
END:VEVENT
BEGIN:VEVENT
DTSTART;TZID=America/New_York:20251011T110000
DTEND;TZID=America/New_York:20251011T170000
DTSTAMP:20260420T033814
CREATED:20251009T193630Z
LAST-MODIFIED:20251009T195505Z
UID:212543-1760180400-1760202000@new.miamisprings.com
SUMMARY:Holy Smokes BTS Pig Roast & Bazaar
DESCRIPTION:This Saturday\, October 11th\, from 11 AM – 5 PM at Blessed Trinity Catholic School! \nThe Holy Smokes BTS Pig Roast & Bazaar is back — featuring mouthwatering roast pig tastings\, cold beverages\, a lively bazaar\, and kids’ entertainment. \nTickets: $15 presale | $20 at the door\nBTS students enter FREE. \nCome out and support this great local event and cheer on our very own VGPD team\, who will be there “Getting Piggy With It!”\nRepresenting the Village are Lt. Morales\, Officer Freddy Bermudez\, Officer Masnata\, Officer Raistrick\, Public Works’ Juan Delgado (“Boo-Boo”)\, and Administrative Assistant Zoila. \nLet’s show our support for Blessed Trinity and our VGPD team and show our community pride!
URL:https://new.miamisprings.com/event/holy-smokes-bts-pig-roast-bazaar/
LOCATION:Blessed Trinity Catholic School\, 4020 Curtiss Parkway\, Miami Springs\, FL\, 33166\, United States
CATEGORIES:Community Events
ATTACH;FMTTYPE=image/jpeg:https://new.miamisprings.com/wp-content/uploads/2025/10/BTS-1.jpg
END:VEVENT
BEGIN:VEVENT
DTSTART;TZID=America/New_York:20251011T133000
DTEND;TZID=America/New_York:20251011T143000
DTSTAMP:20260420T033814
CREATED:20251006T140427Z
LAST-MODIFIED:20251006T140710Z
UID:212478-1760189400-1760193000@new.miamisprings.com
SUMMARY:Use your Voice Workshop for Teens
DESCRIPTION:Teen workshop at the Miami Springs Branch Library\, 401 Westward Drive\, on Saturday\,\n\nOctober 11\, 1:30-2:30 p.m.\n\n\n\nLearn to express yourself and discover the power of your voice in a fun\, interactive workshop with local TV and film professional Mauriett Chayeb-Mendez. After facing childhood bullying\, Mauriett found her confidence through voice acting for animated series and anime films that stream worldwide. Hear her inspiring story and take part in a mini vocal lesson that will help you find your own unique voice! Registration required at https://mdpls.org/event/14486944.\nFor more information\, please contact the branch at (305) 805-3811. Ages 12-18 yrs.
URL:https://new.miamisprings.com/event/use-your-voice-workshop-for-teens/
LOCATION:Miami Springs Library\, 401 Westward Drive\, Miami Springs\, FL\, 33166\, United States
CATEGORIES:Community Events
ATTACH;FMTTYPE=image/jpeg:https://new.miamisprings.com/wp-content/uploads/2025/10/UYV.jpg
END:VEVENT
BEGIN:VEVENT
DTSTART;TZID=America/New_York:20251011T183000
DTEND;TZID=America/New_York:20251011T220000
DTSTAMP:20260420T033814
CREATED:20250903T225441Z
LAST-MODIFIED:20250903T225441Z
UID:210315-1760207400-1760220000@new.miamisprings.com
SUMMARY:Witches Ride for Charity
DESCRIPTION:The 3rd annual Miami Springs Witches Ride for Charity returns October 11th at 6:30pm at the Miami Springs Woman’s Club. \n \nMiami Springs 3rd Annual Witches Ride for Charity ✨ \n\n\n\nGrab your broomsticks (or bikes and golf carts!) and join us for a spellbinding evening of fun at the 3rd Annual Witches Ride for Charity! This family-friendly ride\, escorted by the Miami Springs Police Department\, kicks off at the Miami Springs Woman’s Club (200 Westward Drive) with registration starting at 5:00pm and takeoff at 6:30pm. 🧹🚴‍♀️ 🛺 \nAfter the ride\, return for a magical night filled with live music\, food & treats\, door prizes\, games\, and witchy shops like Westward Wand Co.\, The Bootique\, and Black Cat Sweets. Whether you’re riding or cheering\, it’s a wickedly fun way to support charity and celebrate the season with the whole community! \nContest: \n\n Best Decorated Bike\nBest Decorated Golf Cart\nBest Group Costume Theme\nBest Cackle\n\n\n\n\nClick here for tickets and more information.
URL:https://new.miamisprings.com/event/witches-ride-for-charity/
LOCATION:Miami Springs Woman’s Club\, 200 Westward Dr\, Miami Springs\, Florida 33166\, Miami Springs\, FL\, 33166\, United States
CATEGORIES:Charity Event,Community Events
ATTACH;FMTTYPE=image/jpeg:https://new.miamisprings.com/wp-content/uploads/2025/09/witches-ride.jpg
END:VEVENT
BEGIN:VEVENT
DTSTART;TZID=America/New_York:20251011T193000
DTEND;TZID=America/New_York:20251011T193000
DTSTAMP:20260420T033814
CREATED:20251003T123628Z
LAST-MODIFIED:20251003T123628Z
UID:212427-1760211000-1760211000@new.miamisprings.com
SUMMARY:Eclipse Live at Hole 19
DESCRIPTION:Join us every week starting at 8 p.m. for your favorite bands rocking the stage playing classics\, country\, alternative hits & more.
URL:https://new.miamisprings.com/event/eclipse-live-at-hole-19/
LOCATION:Hole 19 Scratch Kitchen and Bar (Inside the Miami Springs Golf & Country Club)\, 650 Curtiss Parkway\, Miami Springs\, FL\, 33166\, United States
CATEGORIES:Community Events
ATTACH;FMTTYPE=image/jpeg:https://new.miamisprings.com/wp-content/uploads/2024/09/542492987_18092925595708286_8919668776682858298_n-1.jpg
END:VEVENT
BEGIN:VEVENT
DTSTART;TZID=America/New_York:20251013T090000
DTEND;TZID=America/New_York:20251013T130000
DTSTAMP:20260420T033814
CREATED:20250905T114040Z
LAST-MODIFIED:20251002T150654Z
UID:210575-1760346000-1760360400@new.miamisprings.com
SUMMARY:Showering Love Bus
DESCRIPTION:We’re excited to announce that the Showering Love bus will be returning to Change Your Future in Miami Springs on Monday\, October 13th\, from 9 AM to 1 PM. This event is open to anyone in need of a fresh shower\, care\, and support. Please help us spread the word by sharing this post with anyone who may benefit from these services. \nFor more information\, DM us or call 786.556.1726.
URL:https://new.miamisprings.com/event/showering-love-bus/
LOCATION:Change Your Future\, Northwest 36th Street 4471\, Miami Springs\, Florida\, 33166\, United States
CATEGORIES:Charity Event,Community Events
ATTACH;FMTTYPE=image/jpeg:https://new.miamisprings.com/wp-content/uploads/2025/09/oct13.jpg
END:VEVENT
BEGIN:VEVENT
DTSTART;TZID=America/New_York:20251016T120000
DTEND;TZID=America/New_York:20251016T200000
DTSTAMP:20260420T033814
CREATED:20250903T011003Z
LAST-MODIFIED:20250903T011504Z
UID:210277-1760616000-1760644800@new.miamisprings.com
SUMMARY:Poinciana Pumpkin Patch - Oct 16 - 30
DESCRIPTION:Fall is almost here… and so is the Poinciana UMC Pumpkin Patch!  Opening Day is October 16—mark your calendars! \nHOURS:\nMonday – Friday:  2pm – 8pm\nSaturdays:  10am – 8pm\nSundays: Noon – 8pm \nPoinciana United Methodist Church Pumpkin Patch
URL:https://new.miamisprings.com/event/poinciana-pumpkin-patch-oct-16-30/
LOCATION:Poinciana United Methodist Church\, 300 North Royal Poinciana Boulevard\, Miami Springs\, FL\, 33166\, United States
CATEGORIES:Church Event,Community Events
ATTACH;FMTTYPE=image/jpeg:https://new.miamisprings.com/wp-content/uploads/2025/09/536280654_10239903768559063_8070419460645391887_n.jpg
END:VEVENT
BEGIN:VEVENT
DTSTART;TZID=America/New_York:20251017T093000
DTEND;TZID=America/New_York:20251017T110000
DTSTAMP:20260420T033814
CREATED:20250821T213907Z
LAST-MODIFIED:20250821T213907Z
UID:209858-1760693400-1760698800@new.miamisprings.com
SUMMARY:17th Annual Charles B. Stafford Golf Tournament
DESCRIPTION:The Miami Springs Fraternal Order of Police Lodge #11 is hosting the 17th Annual Charles B. Stafford Golf Tournament on Friday\, October 17 at the Miami Springs Golf Course. Registration opens at 9:30AM\, with an 11:00AM shotgun start. Lunch and an awards ceremony will follow the tournament. \nEntry fees are $800 for a foursome or $200 for individual players. Spots are limited\, so early registration is encouraged. Sponsorship opportunities are also available. \nFor more information\, contact DBOAR@MSPD.US.
URL:https://new.miamisprings.com/event/17th-annual-charles-b-stafford-golf-tournament/
LOCATION:Miami Springs Golf & Country Club\, Miami Springs\, FL\, 33166\, United States
CATEGORIES:Charity Event,Community Events
ATTACH;FMTTYPE=image/jpeg:https://new.miamisprings.com/wp-content/uploads/2025/08/OCTR.jpg
END:VEVENT
BEGIN:VEVENT
DTSTART;TZID=America/New_York:20251017T120000
DTEND;TZID=America/New_York:20251017T200000
DTSTAMP:20260420T033814
CREATED:20250903T011003Z
LAST-MODIFIED:20250903T011505Z
UID:210280-1760702400-1760731200@new.miamisprings.com
SUMMARY:Poinciana Pumpkin Patch - Oct 16 - 30
DESCRIPTION:Fall is almost here… and so is the Poinciana UMC Pumpkin Patch!  Opening Day is October 16—mark your calendars! \nHOURS:\nMonday – Friday:  2pm – 8pm\nSaturdays:  10am – 8pm\nSundays: Noon – 8pm \nPoinciana United Methodist Church Pumpkin Patch
URL:https://new.miamisprings.com/event/poinciana-pumpkin-patch-oct-16-30-2025-10-17/
LOCATION:Poinciana United Methodist Church\, 300 North Royal Poinciana Boulevard\, Miami Springs\, FL\, 33166\, United States
CATEGORIES:Church Event,Community Events
ATTACH;FMTTYPE=image/jpeg:https://new.miamisprings.com/wp-content/uploads/2025/09/536280654_10239903768559063_8070419460645391887_n.jpg
END:VEVENT
BEGIN:VEVENT
DTSTART;TZID=America/New_York:20251018T120000
DTEND;TZID=America/New_York:20251018T200000
DTSTAMP:20260420T033814
CREATED:20250903T011003Z
LAST-MODIFIED:20250903T011505Z
UID:210281-1760788800-1760817600@new.miamisprings.com
SUMMARY:Poinciana Pumpkin Patch - Oct 16 - 30
DESCRIPTION:Fall is almost here… and so is the Poinciana UMC Pumpkin Patch!  Opening Day is October 16—mark your calendars! \nHOURS:\nMonday – Friday:  2pm – 8pm\nSaturdays:  10am – 8pm\nSundays: Noon – 8pm \nPoinciana United Methodist Church Pumpkin Patch
URL:https://new.miamisprings.com/event/poinciana-pumpkin-patch-oct-16-30-2025-10-18/
LOCATION:Poinciana United Methodist Church\, 300 North Royal Poinciana Boulevard\, Miami Springs\, FL\, 33166\, United States
CATEGORIES:Church Event,Community Events
ATTACH;FMTTYPE=image/jpeg:https://new.miamisprings.com/wp-content/uploads/2025/09/536280654_10239903768559063_8070419460645391887_n.jpg
END:VEVENT
BEGIN:VEVENT
DTSTART;TZID=America/New_York:20251018T173000
DTEND;TZID=America/New_York:20251018T173000
DTSTAMP:20260420T033814
CREATED:20251007T110253Z
LAST-MODIFIED:20251007T110408Z
UID:212496-1760808600-1760808600@new.miamisprings.com
SUMMARY:Golf Cart Halloween Scavenger Hunt
DESCRIPTION:Join Miami Dade Shades for a fun-filled Golf Cart Halloween Scavenger Hunt on Saturday\, October 18\, 2025\, at 5:30 PM. The event kicks off at the Miami Springs Community Center and ends at Woody’s Backyard Grill. Enjoy an evening of community fun with prizes\, treats\, and spooky surprises along the way! Registration is required and open to Miami Springs/VG residents with registered low-speed vehicles only. For more details\, email info@miamidadeshades.com. Special thanks to our prize sponsors and to @woodysbackyardgrill for hosting this year’s event!
URL:https://new.miamisprings.com/event/golf-cart-halloween-scavenger-hunt/
LOCATION:Miami Springs Adult Community Center\, 101 Apache\, Miami Springs\, FL\, 33166\, United States
ATTACH;FMTTYPE=image/jpeg:https://new.miamisprings.com/wp-content/uploads/2025/10/sht.jpg
END:VEVENT
BEGIN:VEVENT
DTSTART;TZID=America/New_York:20251019T120000
DTEND;TZID=America/New_York:20251019T200000
DTSTAMP:20260420T033814
CREATED:20250903T011003Z
LAST-MODIFIED:20250903T011506Z
UID:210282-1760875200-1760904000@new.miamisprings.com
SUMMARY:Poinciana Pumpkin Patch - Oct 16 - 30
DESCRIPTION:Fall is almost here… and so is the Poinciana UMC Pumpkin Patch!  Opening Day is October 16—mark your calendars! \nHOURS:\nMonday – Friday:  2pm – 8pm\nSaturdays:  10am – 8pm\nSundays: Noon – 8pm \nPoinciana United Methodist Church Pumpkin Patch
URL:https://new.miamisprings.com/event/poinciana-pumpkin-patch-oct-16-30-2025-10-19/
LOCATION:Poinciana United Methodist Church\, 300 North Royal Poinciana Boulevard\, Miami Springs\, FL\, 33166\, United States
CATEGORIES:Church Event,Community Events
ATTACH;FMTTYPE=image/jpeg:https://new.miamisprings.com/wp-content/uploads/2025/09/536280654_10239903768559063_8070419460645391887_n.jpg
END:VEVENT
BEGIN:VEVENT
DTSTART;TZID=America/New_York:20251020T120000
DTEND;TZID=America/New_York:20251020T200000
DTSTAMP:20260420T033814
CREATED:20250903T011003Z
LAST-MODIFIED:20250903T011506Z
UID:210283-1760961600-1760990400@new.miamisprings.com
SUMMARY:Poinciana Pumpkin Patch - Oct 16 - 30
DESCRIPTION:Fall is almost here… and so is the Poinciana UMC Pumpkin Patch!  Opening Day is October 16—mark your calendars! \nHOURS:\nMonday – Friday:  2pm – 8pm\nSaturdays:  10am – 8pm\nSundays: Noon – 8pm \nPoinciana United Methodist Church Pumpkin Patch
URL:https://new.miamisprings.com/event/poinciana-pumpkin-patch-oct-16-30-2025-10-20/
LOCATION:Poinciana United Methodist Church\, 300 North Royal Poinciana Boulevard\, Miami Springs\, FL\, 33166\, United States
CATEGORIES:Church Event,Community Events
ATTACH;FMTTYPE=image/jpeg:https://new.miamisprings.com/wp-content/uploads/2025/09/536280654_10239903768559063_8070419460645391887_n.jpg
END:VEVENT
BEGIN:VEVENT
DTSTART;TZID=America/New_York:20251021T120000
DTEND;TZID=America/New_York:20251021T200000
DTSTAMP:20260420T033814
CREATED:20250903T011003Z
LAST-MODIFIED:20250903T011506Z
UID:210284-1761048000-1761076800@new.miamisprings.com
SUMMARY:Poinciana Pumpkin Patch - Oct 16 - 30
DESCRIPTION:Fall is almost here… and so is the Poinciana UMC Pumpkin Patch!  Opening Day is October 16—mark your calendars! \nHOURS:\nMonday – Friday:  2pm – 8pm\nSaturdays:  10am – 8pm\nSundays: Noon – 8pm \nPoinciana United Methodist Church Pumpkin Patch
URL:https://new.miamisprings.com/event/poinciana-pumpkin-patch-oct-16-30-2025-10-21/
LOCATION:Poinciana United Methodist Church\, 300 North Royal Poinciana Boulevard\, Miami Springs\, FL\, 33166\, United States
CATEGORIES:Church Event,Community Events
ATTACH;FMTTYPE=image/jpeg:https://new.miamisprings.com/wp-content/uploads/2025/09/536280654_10239903768559063_8070419460645391887_n.jpg
END:VEVENT
BEGIN:VEVENT
DTSTART;TZID=America/New_York:20251022T120000
DTEND;TZID=America/New_York:20251022T200000
DTSTAMP:20260420T033814
CREATED:20250903T011003Z
LAST-MODIFIED:20250903T011507Z
UID:210285-1761134400-1761163200@new.miamisprings.com
SUMMARY:Poinciana Pumpkin Patch - Oct 16 - 30
DESCRIPTION:Fall is almost here… and so is the Poinciana UMC Pumpkin Patch!  Opening Day is October 16—mark your calendars! \nHOURS:\nMonday – Friday:  2pm – 8pm\nSaturdays:  10am – 8pm\nSundays: Noon – 8pm \nPoinciana United Methodist Church Pumpkin Patch
URL:https://new.miamisprings.com/event/poinciana-pumpkin-patch-oct-16-30-2025-10-22/
LOCATION:Poinciana United Methodist Church\, 300 North Royal Poinciana Boulevard\, Miami Springs\, FL\, 33166\, United States
CATEGORIES:Church Event,Community Events
ATTACH;FMTTYPE=image/jpeg:https://new.miamisprings.com/wp-content/uploads/2025/09/536280654_10239903768559063_8070419460645391887_n.jpg
END:VEVENT
BEGIN:VEVENT
DTSTART;TZID=America/New_York:20251023T120000
DTEND;TZID=America/New_York:20251023T200000
DTSTAMP:20260420T033814
CREATED:20250903T011003Z
LAST-MODIFIED:20250903T011507Z
UID:210286-1761220800-1761249600@new.miamisprings.com
SUMMARY:Poinciana Pumpkin Patch - Oct 16 - 30
DESCRIPTION:Fall is almost here… and so is the Poinciana UMC Pumpkin Patch!  Opening Day is October 16—mark your calendars! \nHOURS:\nMonday – Friday:  2pm – 8pm\nSaturdays:  10am – 8pm\nSundays: Noon – 8pm \nPoinciana United Methodist Church Pumpkin Patch
URL:https://new.miamisprings.com/event/poinciana-pumpkin-patch-oct-16-30-2025-10-23/
LOCATION:Poinciana United Methodist Church\, 300 North Royal Poinciana Boulevard\, Miami Springs\, FL\, 33166\, United States
CATEGORIES:Church Event,Community Events
ATTACH;FMTTYPE=image/jpeg:https://new.miamisprings.com/wp-content/uploads/2025/09/536280654_10239903768559063_8070419460645391887_n.jpg
END:VEVENT
BEGIN:VEVENT
DTSTART;TZID=America/New_York:20251024T120000
DTEND;TZID=America/New_York:20251024T200000
DTSTAMP:20260420T033814
CREATED:20250903T011003Z
LAST-MODIFIED:20250903T011508Z
UID:210287-1761307200-1761336000@new.miamisprings.com
SUMMARY:Poinciana Pumpkin Patch - Oct 16 - 30
DESCRIPTION:Fall is almost here… and so is the Poinciana UMC Pumpkin Patch!  Opening Day is October 16—mark your calendars! \nHOURS:\nMonday – Friday:  2pm – 8pm\nSaturdays:  10am – 8pm\nSundays: Noon – 8pm \nPoinciana United Methodist Church Pumpkin Patch
URL:https://new.miamisprings.com/event/poinciana-pumpkin-patch-oct-16-30-2025-10-24/
LOCATION:Poinciana United Methodist Church\, 300 North Royal Poinciana Boulevard\, Miami Springs\, FL\, 33166\, United States
CATEGORIES:Church Event,Community Events
ATTACH;FMTTYPE=image/jpeg:https://new.miamisprings.com/wp-content/uploads/2025/09/536280654_10239903768559063_8070419460645391887_n.jpg
END:VEVENT
BEGIN:VEVENT
DTSTART;TZID=America/New_York:20251025T120000
DTEND;TZID=America/New_York:20251025T200000
DTSTAMP:20260420T033814
CREATED:20250903T011003Z
LAST-MODIFIED:20250903T011508Z
UID:210288-1761393600-1761422400@new.miamisprings.com
SUMMARY:Poinciana Pumpkin Patch - Oct 16 - 30
DESCRIPTION:Fall is almost here… and so is the Poinciana UMC Pumpkin Patch!  Opening Day is October 16—mark your calendars! \nHOURS:\nMonday – Friday:  2pm – 8pm\nSaturdays:  10am – 8pm\nSundays: Noon – 8pm \nPoinciana United Methodist Church Pumpkin Patch
URL:https://new.miamisprings.com/event/poinciana-pumpkin-patch-oct-16-30-2025-10-25/
LOCATION:Poinciana United Methodist Church\, 300 North Royal Poinciana Boulevard\, Miami Springs\, FL\, 33166\, United States
CATEGORIES:Church Event,Community Events
ATTACH;FMTTYPE=image/jpeg:https://new.miamisprings.com/wp-content/uploads/2025/09/536280654_10239903768559063_8070419460645391887_n.jpg
END:VEVENT
BEGIN:VEVENT
DTSTART;TZID=America/New_York:20251025T170000
DTEND;TZID=America/New_York:20251025T210000
DTSTAMP:20260420T033814
CREATED:20251003T001515Z
LAST-MODIFIED:20251003T001515Z
UID:212420-1761411600-1761426000@new.miamisprings.com
SUMMARY:Halloween Event on the Circle
DESCRIPTION:The annual Halloween event on the Circle will be held on Saturday\, October 25th from 5pm – 9pm on the Circle.  Enjoy music\, scare zones\, rides\, food for sale and early trick or treating.  Some activities require the purchase of a wristband.
URL:https://new.miamisprings.com/event/halloween-event-on-the-circle/
LOCATION:Miami Springs Circle Park\, 100 Curtiss Parkway\, Miami Springs\, FL\, 33166\, United States
CATEGORIES:Community Events
ATTACH;FMTTYPE=image/jpeg:https://new.miamisprings.com/wp-content/uploads/2019/09/Untitled-2.jpg
END:VEVENT
END:VCALENDAR